Workbook

Sheet Grade 1
B1: وزارة التربية | T1: العام الدراسي:2022-2023
B2: التوجيه الفني العام للغة الإنجليزية | U2: الفصل الدراسي: الأول / الثاني
B3: االتوجيه الفني للغة الإنجليزية لمنطقة ............ التعليمية
G4: Record of Achievment
A5: الصف:
A6: مسلسل | B6: Names | G6: المشاركة و التفاعل | H6: الأنشطة اللاصفية | I6: تطبيقات و ممارسات | O6: التقييمات | S6: التقرير | T6: إجمالي | U6: التطبيقات | Z6: Grand ToTal
I7: ممارسات لغوية | J7: القراءة الجهرية | K7: classwork | L7: Student's Book | M7: Fun with writing | N7: Total | O7: Reading (1) | P7: Reading (2) | Q7: Reading (3) | R7: Total | U7: تطبيق 1 | V7: تطبيق 2 | W7: تطبيق 3 | X7: تطبيق 4 | Y7: Total
G8: 12 | H8: 8 | I8: 5 | J8: 5 | K8: 2 | L8: 2 | M8: 2 | N8: =SUM(I8:M8) -> 16 | O8: 6 | P8: 6 | Q8: 4 | R8: =SUM(O8:Q8) -> 16 | S8: 8 | T8: =SUM(G8,H8,N8,R8,S8) -> 60 | U8: 10 | V8: 10 | W8: 10 | X8: 10 | Y8: =SUM(U8:X8) -> 40 | Z8: =SUM(T8+Y8) -> 100
A9: 1 | N9: =SUM(I9:M9) -> 0 | R9: =SUM(O9:Q9) -> 0 | T9: =SUM(G9,H9,N9,R9,S9) -> 0 | Y9: =SUM(U9:X9) -> 0 | Z9: =SUM(T9+Y9) -> 0
A10: 2 | N10: =SUM(I10:M10) -> 0 | R10: =SUM(O10:Q10) -> 0 | T10: =SUM(G10,H10,N10,R10,S10) -> 0 | Y10: =SUM(U10:X10) -> 0 | Z10: =SUM(T10+Y10) -> 0
A11: 3 | N11: =SUM(I11:M11) -> 0 | R11: =SUM(O11:Q11) -> 0 | T11: =SUM(G11,H11,N11,R11,S11) -> 0 | Y11: =SUM(U11:X11) -> 0 | Z11: =SUM(T11+Y11) -> 0
A12: 4 | N12: =SUM(I12:M12) -> 0 | R12: =SUM(O12:Q12) -> 0 | T12: =SUM(G12,H12,N12,R12,S12) -> 0 | Y12: =SUM(U12:X12) -> 0 | Z12: =SUM(T12+Y12) -> 0
A13: 5 | N13: =SUM(I13:M13) -> 0 | R13: =SUM(O13:Q13) -> 0 | T13: =SUM(G13,H13,N13,R13,S13) -> 0 | Y13: =SUM(U13:X13) -> 0 | Z13: =SUM(T13+Y13) -> 0
A14: 6 | N14: =SUM(I14:M14) -> 0 | R14: =SUM(O14:Q14) -> 0 | T14: =SUM(G14,H14,N14,R14,S14) -> 0 | Y14: =SUM(U14:X14) -> 0 | Z14: =SUM(T14+Y14) -> 0
A15: 7 | N15: =SUM(I15:M15) -> 0 | R15: =SUM(O15:Q15) -> 0 | T15: =SUM(G15,H15,N15,R15,S15) -> 0 | Y15: =SUM(U15:X15) -> 0 | Z15: =SUM(T15+Y15) -> 0
A16: 8 | N16: =SUM(I16:M16) -> 0 | R16: =SUM(O16:Q16) -> 0 | T16: =SUM(G16,H16,N16,R16,S16) -> 0 | Y16: =SUM(U16:X16) -> 0 | Z16: =SUM(T16+Y16) -> 0
A17: 9 | N17: =SUM(I17:M17) -> 0 | R17: =SUM(O17:Q17) -> 0 | T17: =SUM(G17,H17,N17,R17,S17) -> 0 | Y17: =SUM(U17:X17) -> 0 | Z17: =SUM(T17+Y17) -> 0
A18: 10 | N18: =SUM(I18:M18) -> 0 | R18: =SUM(O18:Q18) -> 0 | T18: =SUM(G18,H18,N18,R18,S18) -> 0 | Y18: =SUM(U18:X18) -> 0 | Z18: =SUM(T18+Y18) -> 0
A19: 11 | N19: =SUM(I19:M19) -> 0 | R19: =SUM(O19:Q19) -> 0 | T19: =SUM(G19,H19,N19,R19,S19) -> 0 | Y19: =SUM(U19:X19) -> 0 | Z19: =SUM(T19+Y19) -> 0
A20: 12 | N20: =SUM(I20:M20) -> 0 | R20: =SUM(O20:Q20) -> 0 | T20: =SUM(G20,H20,N20,R20,S20) -> 0 | Y20: =SUM(U20:X20) -> 0 | Z20: =SUM(T20+Y20) -> 0
... A38: 30 | N38: =SUM(I38:M38) -> 0 | R38: =SUM(O38:Q38) -> 0 | T38: =SUM(G38,H38,N38,R38,S38) -> 0 | Y38: =SUM(U38:X38) -> 0 | Z38: =SUM(T38+Y38) -> 0

Sheet Grade) (2)
B1: وزارة التربية | T1: العام الدراسي:2022-2023
B2: التوجيه الفني العام للغة الإنجليزية | U2: الفصل الدراسي: الأول / الثاني
B3: االتوجيه الفني للغة الإنجليزية لمنطقة ............ التعليمية
G4: Record of Achievment
A5: الصف:
A6: مسلسل | B6: Names | G6: المشاركة و التفاعل | H6: الأنشطة اللاصفية | I6: تطبيقات و ممارسات | O6: التقييمات | S6: التقرير | T6: ='Grade 1'!T6 -> إجمالي | U6: ='Grade 1'!U6 -> التطبيقات | Z6: ='Grade 1'!Z6 -> Grand ToTal
I7: ممارسات لغوية | J7: القراءة الجهرية | K7: classwork | L7: Student's Book | M7: Fun with writing | N7: Total | O7: Reading (Vocabulary 1) | P7: Reading (Vocabulary 2) | Q7: Writing (Grammar) | R7: Total | U7: ='Grade 1'!U7 -> تطبيق 1 | V7: ='Grade 1'!V7 -> تطبيق 2 | W7: ='Grade 1'!W7 -> تطبيق 3 | X7: ='Grade 1'!X7 -> تطبيق 4 | Y7: ='Grade 1'!Y7 -> Total
G8: 12 | H8: 8 | I8: 5 | J8: 5 | K8: 2 | L8: 2 | M8: 2 | N8: =SUM(I8:M8) -> 16 | O8: 6 | P8: 4 | Q8: 6 | R8: =SUM(O8:Q8) -> 16 | S8: 8 | T8: ='Grade 1'!T8 -> 60 | U8: ='Grade 1'!U8 -> 10 | V8: ='Grade 1'!V8 -> 10 | W8: ='Grade 1'!W8 -> 10 | X8: 10 | Y8: =SUM(U8:X8) -> 40 | Z8: ='Grade 1'!Z8 -> 100
A9: 1 | N9: =SUM(I9:M9) -> 0 | R9: =SUM(O9:Q9) -> 0 | T9: =SUM(G9,H9,N9,R9,S9) -> 0 | Y9: =SUM(U9:X9) -> 0 | Z9: =SUM(T9,Y9) -> 0
A10: 2 | N10: =SUM(I10:M10) -> 0 | R10: =SUM(O10:Q10) -> 0 | T10: =SUM(G10,H10,N10,R10,S10) -> 0 | Y10: =SUM(U10:X10) -> 0 | Z10: =SUM(T10,Y10) -> 0
A11: 3 | N11: =SUM(I11:M11) -> 0 | R11: =SUM(O11:Q11) -> 0 | T11: =SUM(G11,H11,N11,R11,S11) -> 0 | Y11: =SUM(U11:X11) -> 0 | Z11: =SUM(T11,Y11) -> 0
A12: 4 | N12: =SUM(I12:M12) -> 0 | R12: =SUM(O12:Q12) -> 0 | T12: =SUM(G12,H12,N12,R12,S12) -> 0 | Y12: =SUM(U12:X12) -> 0 | Z12: =SUM(T12,Y12) -> 0
A13: 5 | N13: =SUM(I13:M13) -> 0 | R13: =SUM(O13:Q13) -> 0 | T13: =SUM(G13,H13,N13,R13,S13) -> 0 | Y13: =SUM(U13:X13) -> 0 | Z13: =SUM(T13,Y13) -> 0
A14: 6 | N14: =SUM(I14:M14) -> 0 | R14: =SUM(O14:Q14) -> 0 | T14: =SUM(G14,H14,N14,R14,S14) -> 0 | Y14: =SUM(U14:X14) -> 0 | Z14: =SUM(T14,Y14) -> 0
A15: 7 | N15: =SUM(I15:M15) -> 0 | R15: =SUM(O15:Q15) -> 0 | T15: =SUM(G15,H15,N15,R15,S15) -> 0 | Y15: =SUM(U15:X15) -> 0 | Z15: =SUM(T15,Y15) -> 0
A16: 8 | N16: =SUM(I16:M16) -> 0 | R16: =SUM(O16:Q16) -> 0 | T16: =SUM(G16,H16,N16,R16,S16) -> 0 | Y16: =SUM(U16:X16) -> 0 | Z16: =SUM(T16,Y16) -> 0
A17: 9 | N17: =SUM(I17:M17) -> 0 | R17: =SUM(O17:Q17) -> 0 | T17: =SUM(G17,H17,N17,R17,S17) -> 0 | Y17: =SUM(U17:X17) -> 0 | Z17: =SUM(T17,Y17) -> 0
A18: 10 | N18: =SUM(I18:M18) -> 0 | R18: =SUM(O18:Q18) -> 0 | T18: =SUM(G18,H18,N18,R18,S18) -> 0 | Y18: =SUM(U18:X18) -> 0 | Z18: =SUM(T18,Y18) -> 0
A19: 11 | N19: =SUM(I19:M19) -> 0 | R19: =SUM(O19:Q19) -> 0 | T19: =SUM(G19,H19,N19,R19,S19) -> 0 | Y19: =SUM(U19:X19) -> 0 | Z19: =SUM(T19,Y19) -> 0
A20: 12 | N20: =SUM(I20:M20) -> 0 | R20: =SUM(O20:Q20) -> 0 | T20: =SUM(G20,H20,N20,R20,S20) -> 0 | Y20: =SUM(U20:X20) -> 0 | Z20: =SUM(T20,Y20) -> 0
... A38: 30 | N38: =SUM(I38:M38) -> 0 | R38: =SUM(O38:Q38) -> 0 | T38: =SUM(G38,H38,N38,R38,S38) -> 0 | Y38: =SUM(U38:X38) -> 0 | Z38: =SUM(T38,Y38) -> 0

Sheet Grade) (3)
B1: وزارة التربية | U1: العام الدراسي:2022-2023
B2: التوجيه الفني العام للغة الإنجليزية | V2: الفصل الدراسي: الأول / الثاني
B3: االتوجيه الفني للغة الإنجليزية لمنطقة ............ التعليمية
G4: Record of Achievment
A5: الصف:
A6: مسلسل | B6: Names | G6: المشاركة و التفاعل | H6: الأنشطة اللاصفية | I6: تطبيقات و ممارسات | P6: التقييمات | T6: التقرير | U6: ='Grade 1'!T6 -> إجمالي | V6: ='Grade 1'!U6 -> التطبيقات | AA6: ='Grade 1'!Z6 -> Grand ToTal
I7: ممارسات لغوية | J7: القراءة الجهرية | K7: classwork | L7: Student's Book | M7: workbook | N7: handwriting Book | O7: Total | P7: Reading (Vocabulary 1) | Q7: Reading (Vocabulary 2) | R7: Writing (Grammar) | S7: Total | V7: ='Grade 1'!U7 -> تطبيق 1 | W7: ='Grade 1'!V7 -> تطبيق 2 | X7: ='Grade 1'!W7 -> تطبيق 3 | Y7: ='Grade 1'!X7 -> تطبيق 4 | Z7: ='Grade 1'!Y7 -> Total
G8: 12 | H8: 8 | I8: 4 | J8: 4 | K8: 2 | L8: 2 | M8: 2 | N8: 2 | O8: =SUM(I8:N8) -> 16 | P8: 6 | Q8: 4 | R8: 6 | S8: =SUM(P8:R8) -> 16 | T8: 8 | U8: ='Grade 1'!T8 -> 60 | V8: ='Grade 1'!U8 -> 10 | W8: ='Grade 1'!V8 -> 10 | X8: ='Grade 1'!W8 -> 10 | Y8: 10 | Z8: =SUM(V8:Y8) -> 40 | AA8: ='Grade 1'!Z8 -> 100
A9: 1 | O9: =SUM(I9:N9) -> 0 | S9: =SUM(P9:R9) -> 0 | U9: =SUM(G9,H9,O9,S9,T9) -> 0 | Z9: =SUM(V9:Y9) -> 0 | AA9: =SUM(U9,Z9) -> 0
A10: 2 | O10: =SUM(I10:N10) -> 0 | S10: =SUM(P10:R10) -> 0 | U10: =SUM(G10,H10,O10,S10,T10) -> 0 | Z10: =SUM(V10:Y10) -> 0 | AA10: =SUM(U10,Z10) -> 0
A11: 3 | O11: =SUM(I11:N11) -> 0 | S11: =SUM(P11:R11) -> 0 | U11: =SUM(G11,H11,O11,S11,T11) -> 0 | Z11: =SUM(V11:Y11) -> 0 | AA11: =SUM(U11,Z11) -> 0
A12: 4 | O12: =SUM(I12:N12) -> 0 | S12: =SUM(P12:R12) -> 0 | U12: =SUM(G12,H12,O12,S12,T12) -> 0 | Z12: =SUM(V12:Y12) -> 0 | AA12: =SUM(U12,Z12) -> 0
A13: 5 | O13: =SUM(I13:N13) -> 0 | S13: =SUM(P13:R13) -> 0 | U13: =SUM(G13,H13,O13,S13,T13) -> 0 | Z13: =SUM(V13:Y13) -> 0 | AA13: =SUM(U13,Z13) -> 0
A14: 6 | O14: =SUM(I14:N14) -> 0 | S14: =SUM(P14:R14) -> 0 | U14: =SUM(G14,H14,O14,S14,T14) -> 0 | Z14: =SUM(V14:Y14) -> 0 | AA14: =SUM(U14,Z14) -> 0
A15: 7 | O15: =SUM(I15:N15) -> 0 | S15: =SUM(P15:R15) -> 0 | U15: =SUM(G15,H15,O15,S15,T15) -> 0 | Z15: =SUM(V15:Y15) -> 0 | AA15: =SUM(U15,Z15) -> 0
A16: 8 | O16: =SUM(I16:N16) -> 0 | S16: =SUM(P16:R16) -> 0 | U16: =SUM(G16,H16,O16,S16,T16) -> 0 | Z16: =SUM(V16:Y16) -> 0 | AA16: =SUM(U16,Z16) -> 0
A17: 9 | O17: =SUM(I17:N17) -> 0 | S17: =SUM(P17:R17) -> 0 | U17: =SUM(G17,H17,O17,S17,T17) -> 0 | Z17: =SUM(V17:Y17) -> 0 | AA17: =SUM(U17,Z17) -> 0
A18: 10 | O18: =SUM(I18:N18) -> 0 | S18: =SUM(P18:R18) -> 0 | U18: =SUM(G18,H18,O18,S18,T18) -> 0 | Z18: =SUM(V18:Y18) -> 0 | AA18: =SUM(U18,Z18) -> 0
A19: 11 | O19: =SUM(I19:N19) -> 0 | S19: =SUM(P19:R19) -> 0 | U19: =SUM(G19,H19,O19,S19,T19) -> 0 | Z19: =SUM(V19:Y19) -> 0 | AA19: =SUM(U19,Z19) -> 0
A20: 12 | O20: =SUM(I20:N20) -> 0 | S20: =SUM(P20:R20) -> 0 | U20: =SUM(G20,H20,O20,S20,T20) -> 0 | Z20: =SUM(V20:Y20) -> 0 | AA20: =SUM(U20,Z20) -> 0
... A38: 30 | O38: =SUM(I38:N38) -> 0 | S38: =SUM(P38:R38) -> 0 | U38: =SUM(G38,H38,O38,S38,T38) -> 0 | Z38: =SUM(V38:Y38) -> 0 | AA38: =SUM(U38,Z38) -> 0

Sheet Grades (4 & 5)
B1: وزارة التربية | V1: العام الدراسي:2022-2023
B2: التوجيه الفني العام للغة الإنجليزية | W2: الفصل الدراسي: الأول / الثاني
B3: االتوجيه الفني للغة الإنجليزية لمنطقة ............ التعليمية
G4: Record of Achievment
A5: الصف:
A6: مسلسل | B6: Names | G6: المشاركة و التفاعل | H6: الأنشطة اللاصفية | I6: تطبيقات و ممارسات | Q6: التقييمات | U6: التقرير | V6: ='Grade 1'!T6 -> إجمالي | W6: ='Grade 1'!U6 -> التطبيقات | AB6: ='Grade 1'!Z6 -> Grand ToTal
I7: ممارسات لغوية | J7: الطلاقة الشفهية | K7: القراءة الجهرية | L7: classwork+ wWorksheets | M7: Student's Book | N7: workbook | O7: handwriting Book | P7: Total | Q7: Reading (Vocabulary 1) | R7: Reading (Vocabulary 2) | S7: Writing (Grammar) | T7: Total | W7: ='Grade 1'!U7 -> تطبيق 1 | X7: ='Grade 1'!V7 -> تطبيق 2 | Y7: ='Grade 1'!W7 -> تطبيق 3 | Z7: ='Grade 1'!X7 -> تطبيق 4 | AA7: ='Grade 1'!Y7 -> Total
G8: 12 | H8: 8 | I8: 2 | J8: 3 | K8: 3 | L8: 2 | M8: 2 | N8: 2 | O8: 2 | P8: =SUM(I8:O8) -> 16 | Q8: 6 | R8: 4 | S8: 6 | T8: =SUM(Q8:S8) -> 16 | U8: 8 | V8: ='Grade 1'!T8 -> 60 | W8: ='Grade 1'!U8 -> 10 | X8: ='Grade 1'!V8 -> 10 | Y8: ='Grade 1'!W8 -> 10 | Z8: 10 | AA8: =SUM(W8:Z8) -> 40 | AB8: ='Grade 1'!Z8 -> 100
A9: 1 | P9: =SUM(I9:O9) -> 0 | T9: =SUM(Q9:S9) -> 0 | V9: =SUM(G9,H9,P9,T9,U9) -> 0 | AA9: =SUM(W9:Z9) -> 0 | AB9: =SUM(V9,AA9) -> 0
A10: 2 | P10: =SUM(I10:O10) -> 0 | T10: =SUM(Q10:S10) -> 0 | V10: =SUM(G10,H10,P10,T10,U10) -> 0 | AA10: =SUM(W10:Z10) -> 0 | AB10: =SUM(V10,AA10) -> 0
A11: 3 | P11: =SUM(I11:O11) -> 0 | T11: =SUM(Q11:S11) -> 0 | V11: =SUM(G11,H11,P11,T11,U11) -> 0 | AA11: =SUM(W11:Z11) -> 0 | AB11: =SUM(V11,AA11) -> 0
A12: 4 | P12: =SUM(I12:O12) -> 0 | T12: =SUM(Q12:S12) -> 0 | V12: =SUM(G12,H12,P12,T12,U12) -> 0 | AA12: =SUM(W12:Z12) -> 0 | AB12: =SUM(V12,AA12) -> 0
A13: 5 | P13: =SUM(I13:O13) -> 0 | T13: =SUM(Q13:S13) -> 0 | V13: =SUM(G13,H13,P13,T13,U13) -> 0 | AA13: =SUM(W13:Z13) -> 0 | AB13: =SUM(V13,AA13) -> 0
A14: 6 | P14: =SUM(I14:O14) -> 0 | T14: =SUM(Q14:S14) -> 0 | V14: =SUM(G14,H14,P14,T14,U14) -> 0 | AA14: =SUM(W14:Z14) -> 0 | AB14: =SUM(V14,AA14) -> 0
A15: 7 | P15: =SUM(I15:O15) -> 0 | T15: =SUM(Q15:S15) -> 0 | V15: =SUM(G15,H15,P15,T15,U15) -> 0 | AA15: =SUM(W15:Z15) -> 0 | AB15: =SUM(V15,AA15) -> 0
A16: 8 | P16: =SUM(I16:O16) -> 0 | T16: =SUM(Q16:S16) -> 0 | V16: =SUM(G16,H16,P16,T16,U16) -> 0 | AA16: =SUM(W16:Z16) -> 0 | AB16: =SUM(V16,AA16) -> 0
A17: 9 | P17: =SUM(I17:O17) -> 0 | T17: =SUM(Q17:S17) -> 0 | V17: =SUM(G17,H17,P17,T17,U17) -> 0 | AA17: =SUM(W17:Z17) -> 0 | AB17: =SUM(V17,AA17) -> 0
A18: 10 | P18: =SUM(I18:O18) -> 0 | T18: =SUM(Q18:S18) -> 0 | V18: =SUM(G18,H18,P18,T18,U18) -> 0 | AA18: =SUM(W18:Z18) -> 0 | AB18: =SUM(V18,AA18) -> 0
A19: 11 | P19: =SUM(I19:O19) -> 0 | T19: =SUM(Q19:S19) -> 0 | V19: =SUM(G19,H19,P19,T19,U19) -> 0 | AA19: =SUM(W19:Z19) -> 0 | AB19: =SUM(V19,AA19) -> 0
A20: 12 | P20: =SUM(I20:O20) -> 0 | T20: =SUM(Q20:S20) -> 0 | V20: =SUM(G20,H20,P20,T20,U20) -> 0 | AA20: =SUM(W20:Z20) -> 0 | AB20: =SUM(V20,AA20) -> 0
... A38: 30 | P38: =SUM(I38:O38) -> 0 | T38: =SUM(Q38:S38) -> 0 | V38: =SUM(G38,H38,P38,T38,U38) -> 0 | AA38: =SUM(W38:Z38) -> 0 | AB38: =SUM(V38,AA38) -> 0
