Workbook

Sheet المرحلة الابتدائية بنين
D1: وزارة التربية | M1: العام الدراسي 2020/ 2021
D2: الإدارة العامة لمنطقة …………………... التعليمية
D4: الصف ( الأول ) | Y4: الفترة : .................
D5: الفترة : آخر العام
D6: م | E6: المدرسة | F6: الاجمالى | G6: فئات الدرجات | L6: عدد المتقدمين | M6: عدد الناجحين | N6: النسبة المئوية | O6: متقدم | P6: الامتحان التحريري ( 30 ) | V6: عدد الناجحين | W6: النسبة المئوية | X6: الدرجة النهائية ( 50 ) | AD6: عدد الناجحين | AE6: النسبة المئوية | AF6: غائب
P7: ضعيف | Q7: مقبول | R7: مقبول | S7: جيد | T7: جيدجدا | U7: ممتاز | X7: ضعيف | Y7: مقبول | Z7: مقبول | AA7: جيد | AB7: جيدجدا | AC7: ممتاز
G8: 0 - 49.5 | H8: 50 - 59.5 | I8: 60 - 74.5 | J8: 75 - 89.5 | K8: 90 - 100 | P8: 0 - 14.5 | Q8: 15 | R8: 15.5 - 20.5 | S8: 21 - 26.5 | T8: 27 - 29.5 | U8: 30 | X8: 0 - 24.5 | Y8: 25 | Z8: 25.5 - 34.5 | AA8: 35 - 44.5 | AB8: 45 - 49.5 | AC8: 50
D9: 1 | L9: =SUM(G9:K9) -> 0 | N9: =M9/L9*100% -> #DIV/0! | O9: =SUM(P9:U9) -> 0 | V9: =SUM(Q9:U9) -> 0 | W9: =V9/#REF!*100% -> #REF! | AD9: =SUM(Y9:AC9) -> 0 | AE9: =AD9/#REF!*100% -> #REF! | AF9: =(F9-#REF!) -> #REF!
D10: 2 | L10: =SUM(G10:K10) -> 0 | N10: =M10/L10*100% -> #DIV/0! | O10: =SUM(P10:U10) -> 0 | V10: =SUM(Q10:U10) -> 0 | W10: =V10/#REF!*100% -> #REF! | AD10: =SUM(Y10:AC10) -> 0 | AE10: =AD10/#REF!*100% -> #REF! | AF10: =(F10-#REF!) -> #REF!
D11: 3 | L11: =SUM(G11:K11) -> 0 | N11: =M11/L11*100% -> #DIV/0! | O11: =SUM(P11:U11) -> 0 | V11: =SUM(Q11:U11) -> 0 | W11: =V11/#REF!*100% -> #REF! | AD11: =SUM(Y11:AC11) -> 0 | AE11: =AD11/#REF!*100% -> #REF! | AF11: =(F11-#REF!) -> #REF!
D12: 4 | L12: =SUM(G12:K12) -> 0 | N12: =M12/L12*100% -> #DIV/0! | O12: =SUM(P12:U12) -> 0 | V12: =SUM(Q12:U12) -> 0 | W12: =V12/#REF!*100% -> #REF! | AD12: =SUM(Y12:AC12) -> 0 | AE12: =AD12/#REF!*100% -> #REF! | AF12: =(F12-#REF!) -> #REF!
D13: 5 | L13: =SUM(G13:K13) -> 0 | N13: =M13/L13*100% -> #DIV/0! | O13: =SUM(P13:U13) -> 0 | V13: =SUM(Q13:U13) -> 0 | W13: =V13/#REF!*100% -> #REF! | AD13: =SUM(Y13:AC13) -> 0 | AE13: =AD13/#REF!*100% -> #REF! | AF13: =(F13-#REF!) -> #REF!
D14: 6 | L14: =SUM(G14:K14) -> 0 | N14: =M14/L14*100% -> #DIV/0! | O14: =SUM(P14:U14) -> 0 | V14: =SUM(Q14:U14) -> 0 | W14: =V14/#REF!*100% -> #REF! | AD14: =SUM(Y14:AC14) -> 0 | AE14: =AD14/#REF!*100% -> #REF! | AF14: =(F14-#REF!) -> #REF!
D15: 7 | L15: =SUM(G15:K15) -> 0 | N15: =M15/L15*100% -> #DIV/0! | O15: =SUM(P15:U15) -> 0 | V15: =SUM(Q15:U15) -> 0 | W15: =V15/#REF!*100% -> #REF! | AD15: =SUM(Y15:AC15) -> 0 | AE15: =AD15/#REF!*100% -> #REF! | AF15: =(F15-#REF!) -> #REF!
D16: 8 | L16: =SUM(G16:K16) -> 0 | N16: =M16/L16*100% -> #DIV/0! | O16: =SUM(P16:U16) -> 0 | V16: =SUM(Q16:U16) -> 0 | W16: =V16/#REF!*100% -> #REF! | AD16: =SUM(Y16:AC16) -> 0 | AE16: =AD16/#REF!*100% -> #REF! | AF16: =(F16-#REF!) -> #REF!
D17: 9 | L17: =SUM(G17:K17) -> 0 | N17: =M17/L17*100% -> #DIV/0! | O17: =SUM(P17:U17) -> 0 | V17: =SUM(Q17:U17) -> 0 | W17: =V17/#REF!*100% -> #REF! | AD17: =SUM(Y17:AC17) -> 0 | AE17: =AD17/#REF!*100% -> #REF! | AF17: =(F17-#REF!) -> #REF!
D18: 10 | L18: =SUM(G18:K18) -> 0 | N18: =M18/L18*100% -> #DIV/0! | O18: =SUM(P18:U18) -> 0 | V18: =SUM(Q18:U18) -> 0 | W18: =V18/#REF!*100% -> #REF! | AD18: =SUM(Y18:AC18) -> 0 | AE18: =AD18/#REF!*100% -> #REF! | AF18: =(F18-#REF!) -> #REF!
D19: 11 | L19: =SUM(G19:K19) -> 0 | N19: =M19/L19*100% -> #DIV/0! | O19: =SUM(P19:U19) -> 0 | V19: =SUM(Q19:U19) -> 0 | W19: =V19/#REF!*100% -> #REF! | AD19: =SUM(Y19:AC19) -> 0 | AE19: =AD19/#REF!*100% -> #REF! | AF19: =(F19-#REF!) -> #REF!
D20: 12 | L20: =SUM(G20:K20) -> 0 | N20: =M20/L20*100% -> #DIV/0! | O20: =SUM(P20:U20) -> 0 | V20: =SUM(Q20:U20) -> 0 | W20: =V20/#REF!*100% -> #REF! | AD20: =SUM(Y20:AC20) -> 0 | AE20: =AD20/#REF!*100% -> #REF! | AF20: =(F20-#REF!) -> #REF!
... D32: 24 | L32: =SUM(G32:K32) -> 0 | N32: =M32/L32*100% -> #DIV/0! | O32: =SUM(P32:U32) -> 0 | V32: =SUM(Q32:U32) -> 0 | W32: =V32/#REF!*100% -> #REF! | AD32: =SUM(Y32:AC32) -> 0 | AE32: =AD32/#REF!*100% -> #REF! | AF32: =(F32-#REF!) -> #REF!
D33: المجموع | F33: =SUM(F9:F32) -> 0 | G33: =SUM(G9:G32) -> 0 | H33: =SUM(H9:H32) -> 0 | I33: =SUM(I9:I32) -> 0 | J33: =SUM(J9:J32) -> 0 | K33: =SUM(K9:K32) -> 0 | L33: =SUM(L9:L32) -> 0 | M33: =SUM(M9:M32) -> 0 | N33: =M33/L33*100% -> #DIV/0! | O33: =SUM(P33:U33) -> 0 | P33: =SUM(P9:P32) -> 0 | Q33: =SUM(Q9:Q32) -> 0 | R33: =SUM(R9:R32) -> 0 | S33: =SUM(S9:S32) -> 0 | T33: =SUM(T9:T32) -> 0 | U33: =SUM(U9:U32) -> 0 | V33: =SUM(Q33:U33) -> 0 | W33: =V33/#REF!*100% -> #REF! | X33: =SUM(X9:X32) -> 0 | Y33: =SUM(Y9:Y32) -> 0 | Z33: =SUM(Z9:Z32) -> 0 | AA33: =SUM(AA9:AA32) -> 0 | AB33: =SUM(AB9:AB32) -> 0 | AC33: =SUM(AC9:AC32) -> 0 | AD33: =SUM(Y33:AC33) -> 0 | AE33: =AD33/#REF!*100% -> #REF! | AF33: =(F33-#REF!) -> #REF!
D35: وزارة التربية | M35: العام الدراسي 2020/ 2021
D36: الإدارة العامة لمنطقة …………………... التعليمية
D38: الصف ( الثاني ) | Y38: الفترة : .................
D39: الفترة : آخر العام
D40: م | E40: المدرسة | F40: الاجمالى | G40: فئات الدرجات | L40: عدد المتقدمين | M40: عدد الناجحين | N40: النسبة المئوية | O40: متقدم | P40: الامتحان التحريري ( 30 ) | V40: عدد الناجحين | W40: النسبة المئوية | X40: الدرجة النهائية ( 50 ) | AD40: عدد الناجحين | AE40: النسبة المئوية | AF40: غائب
P41: ضعيف | Q41: مقبول | R41: مقبول | S41: جيد | T41: جيدجدا | U41: ممتاز | X41: ضعيف | Y41: مقبول | Z41: مقبول | AA41: جيد | AB41: جيدجدا | AC41: ممتاز
G42: 0 - 49.5 | H42: 50 - 59.5 | I42: 60 - 74.5 | J42: 75 - 89.5 | K42: 90 - 100 | P42: 0 - 14.5 | Q42: 15 | R42: 15.5 - 20.5 | S42: 21 - 26.5 | T42: 27 - 29.5 | U42: 30 | X42: 0 - 24.5 | Y42: 25 | Z42: 25.5 - 34.5 | AA42: 35 - 44.5 | AB42: 45 - 49.5 | AC42: 50
D43: 1 | L43: =SUM(G43:K43) -> 0 | N43: =M43/L43*100% -> #DIV/0! | O43: =SUM(P43:U43) -> 0 | V43: =SUM(Q43:U43) -> 0 | W43: =V43/#REF!*100% -> #REF! | AD43: =SUM(Y43:AC43) -> 0 | AE43: =AD43/#REF!*100% -> #REF! | AF43: =(F43-#REF!) -> #REF!
D44: 2 | L44: =SUM(G44:K44) -> 0 | N44: =M44/L44*100% -> #DIV/0! | O44: =SUM(P44:U44) -> 0 | V44: =SUM(Q44:U44) -> 0 | W44: =V44/#REF!*100% -> #REF! | AD44: =SUM(Y44:AC44) -> 0 | AE44: =AD44/#REF!*100% -> #REF! | AF44: =(F44-#REF!) -> #REF!
D45: 3 | L45: =SUM(G45:K45) -> 0 | N45: =M45/L45*100% -> #DIV/0! | O45: =SUM(P45:U45) -> 0 | V45: =SUM(Q45:U45) -> 0 | W45: =V45/#REF!*100% -> #REF! | AD45: =SUM(Y45:AC45) -> 0 | AE45: =AD45/#REF!*100% -> #REF! | AF45: =(F45-#REF!) -> #REF!
D46: 4 | L46: =SUM(G46:K46) -> 0 | N46: =M46/L46*100% -> #DIV/0! | O46: =SUM(P46:U46) -> 0 | V46: =SUM(Q46:U46) -> 0 | W46: =V46/#REF!*100% -> #REF! | AD46: =SUM(Y46:AC46) -> 0 | AE46: =AD46/#REF!*100% -> #REF! | AF46: =(F46-#REF!) -> #REF!
D47: 5 | L47: =SUM(G47:K47) -> 0 | N47: =M47/L47*100% -> #DIV/0! | O47: =SUM(P47:U47) -> 0 | V47: =SUM(Q47:U47) -> 0 | W47: =V47/#REF!*100% -> #REF! | AD47: =SUM(Y47:AC47) -> 0 | AE47: =AD47/#REF!*100% -> #REF! | AF47: =(F47-#REF!) -> #REF!
D48: 6 | L48: =SUM(G48:K48) -> 0 | N48: =M48/L48*100% -> #DIV/0! | O48: =SUM(P48:U48) -> 0 | V48: =SUM(Q48:U48) -> 0 | W48: =V48/#REF!*100% -> #REF! | AD48: =SUM(Y48:AC48) -> 0 | AE48: =AD48/#REF!*100% -> #REF! | AF48: =(F48-#REF!) -> #REF!
D49: 7 | L49: =SUM(G49:K49) -> 0 | N49: =M49/L49*100% -> #DIV/0! | O49: =SUM(P49:U49) -> 0 | V49: =SUM(Q49:U49) -> 0 | W49: =V49/#REF!*100% -> #REF! | AD49: =SUM(Y49:AC49) -> 0 | AE49: =AD49/#REF!*100% -> #REF! | AF49: =(F49-#REF!) -> #REF!
D50: 8 | L50: =SUM(G50:K50) -> 0 | N50: =M50/L50*100% -> #DIV/0! | O50: =SUM(P50:U50) -> 0 | V50: =SUM(Q50:U50) -> 0 | W50: =V50/#REF!*100% -> #REF! | AD50: =SUM(Y50:AC50) -> 0 | AE50: =AD50/#REF!*100% -> #REF! | AF50: =(F50-#REF!) -> #REF!
D51: 9 | L51: =SUM(G51:K51) -> 0 | N51: =M51/L51*100% -> #DIV/0! | O51: =SUM(P51:U51) -> 0 | V51: =SUM(Q51:U51) -> 0 | W51: =V51/#REF!*100% -> #REF! | AD51: =SUM(Y51:AC51) -> 0 | AE51: =AD51/#REF!*100% -> #REF! | AF51: =(F51-#REF!) -> #REF!
D52: 10 | L52: =SUM(G52:K52) -> 0 | N52: =M52/L52*100% -> #DIV/0! | O52: =SUM(P52:U52) -> 0 | V52: =SUM(Q52:U52) -> 0 | W52: =V52/#REF!*100% -> #REF! | AD52: =SUM(Y52:AC52) -> 0 | AE52: =AD52/#REF!*100% -> #REF! | AF52: =(F52-#REF!) -> #REF!
D53: 11 | L53: =SUM(G53:K53) -> 0 | N53: =M53/L53*100% -> #DIV/0! | O53: =SUM(P53:U53) -> 0 | V53: =SUM(Q53:U53) -> 0 | W53: =V53/#REF!*100% -> #REF! | AD53: =SUM(Y53:AC53) -> 0 | AE53: =AD53/#REF!*100% -> #REF! | AF53: =(F53-#REF!) -> #REF!
D54: 12 | L54: =SUM(G54:K54) -> 0 | N54: =M54/L54*100% -> #DIV/0! | O54: =SUM(P54:U54) -> 0 | V54: =SUM(Q54:U54) -> 0 | W54: =V54/#REF!*100% -> #REF! | AD54: =SUM(Y54:AC54) -> 0 | AE54: =AD54/#REF!*100% -> #REF! | AF54: =(F54-#REF!) -> #REF!
... D66: 24 | L66: =SUM(G66:K66) -> 0 | N66: =M66/L66*100% -> #DIV/0! | O66: =SUM(P66:U66) -> 0 | V66: =SUM(Q66:U66) -> 0 | W66: =V66/#REF!*100% -> #REF! | AD66: =SUM(Y66:AC66) -> 0 | AE66: =AD66/#REF!*100% -> #REF! | AF66: =(F66-#REF!) -> #REF!
D67: المجموع | F67: =SUM(F43:F66) -> 0 | G67: =SUM(G43:G66) -> 0 | H67: =SUM(H43:H66) -> 0 | I67: =SUM(I43:I66) -> 0 | J67: =SUM(J43:J66) -> 0 | K67: =SUM(K43:K66) -> 0 | L67: =SUM(L43:L66) -> 0 | M67: =SUM(M43:M66) -> 0 | N67: =M67/L67*100% -> #DIV/0! | O67: =SUM(P67:U67) -> 0 | P67: =SUM(P43:P66) -> 0 | Q67: =SUM(Q43:Q66) -> 0 | R67: =SUM(R43:R66) -> 0 | S67: =SUM(S43:S66) -> 0 | T67: =SUM(T43:T66) -> 0 | U67: =SUM(U43:U66) -> 0 | V67: =SUM(Q67:U67) -> 0 | W67: =V67/#REF!*100% -> #REF! | X67: =SUM(X43:X66) -> 0 | Y67: =SUM(Y43:Y66) -> 0 | Z67: =SUM(Z43:Z66) -> 0 | AA67: =SUM(AA43:AA66) -> 0 | AB67: =SUM(AB43:AB66) -> 0 | AC67: =SUM(AC43:AC66) -> 0 | AD67: =SUM(Y67:AC67) -> 0 | AE67: =AD67/#REF!*100% -> #REF! | AF67: =(F67-#REF!) -> #REF!
D69: وزارة التربية | M69: العام الدراسي 2020/ 2021
D70: الإدارة العامة لمنطقة …………………... التعليمية
D72: الصف ( الثالث ) | Y72: الفترة : .................
D73: الفترة : آخر العام
D74: م | E74: المدرسة | F74: الاجمالى | G74: فئات الدرجات | L74: عدد المتقدمين | M74: عدد الناجحين | N74: النسبة المئوية | O74: متقدم | P74: الامتحان التحريري ( 30 ) | V74: عدد الناجحين | W74: النسبة المئوية | X74: الدرجة النهائية ( 50 ) | AD74: عدد الناجحين | AE74: النسبة المئوية | AF74: غائب
P75: ضعيف | Q75: مقبول | R75: مقبول | S75: جيد | T75: جيدجدا | U75: ممتاز | X75: ضعيف | Y75: مقبول | Z75: مقبول | AA75: جيد | AB75: جيدجدا | AC75: ممتاز
G76: 0 - 49.5 | H76: 50 - 59.5 | I76: 60 - 74.5 | J76: 75 - 89.5 | K76: 90 - 100 | P76: 0 - 14.5 | Q76: 15 | R76: 15.5 - 20.5 | S76: 21 - 26.5 | T76: 27 - 29.5 | U76: 30 | X76: 0 - 24.5 | Y76: 25 | Z76: 25.5 - 34.5 | AA76: 35 - 44.5 | AB76: 45 - 49.5 | AC76: 50
D77: 1 | L77: =SUM(G77:K77) -> 0 | N77: =M77/L77*100% -> #DIV/0! | O77: =SUM(P77:U77) -> 0 | V77: =SUM(Q77:U77) -> 0 | W77: =V77/#REF!*100% -> #REF! | AD77: =SUM(Y77:AC77) -> 0 | AE77: =AD77/#REF!*100% -> #REF! | AF77: =(F77-#REF!) -> #REF!
D78: 2 | L78: =SUM(G78:K78) -> 0 | N78: =M78/L78*100% -> #DIV/0! | O78: =SUM(P78:U78) -> 0 | V78: =SUM(Q78:U78) -> 0 | W78: =V78/#REF!*100% -> #REF! | AD78: =SUM(Y78:AC78) -> 0 | AE78: =AD78/#REF!*100% -> #REF! | AF78: =(F78-#REF!) -> #REF!
D79: 3 | L79: =SUM(G79:K79) -> 0 | N79: =M79/L79*100% -> #DIV/0! | O79: =SUM(P79:U79) -> 0 | V79: =SUM(Q79:U79) -> 0 | W79: =V79/#REF!*100% -> #REF! | AD79: =SUM(Y79:AC79) -> 0 | AE79: =AD79/#REF!*100% -> #REF! | AF79: =(F79-#REF!) -> #REF!
D80: 4 | L80: =SUM(G80:K80) -> 0 | N80: =M80/L80*100% -> #DIV/0! | O80: =SUM(P80:U80) -> 0 | V80: =SUM(Q80:U80) -> 0 | W80: =V80/#REF!*100% -> #REF! | AD80: =SUM(Y80:AC80) -> 0 | AE80: =AD80/#REF!*100% -> #REF! | AF80: =(F80-#REF!) -> #REF!
D81: 5 | L81: =SUM(G81:K81) -> 0 | N81: =M81/L81*100% -> #DIV/0! | O81: =SUM(P81:U81) -> 0 | V81: =SUM(Q81:U81) -> 0 | W81: =V81/#REF!*100% -> #REF! | AD81: =SUM(Y81:AC81) -> 0 | AE81: =AD81/#REF!*100% -> #REF! | AF81: =(F81-#REF!) -> #REF!
D82: 6 | L82: =SUM(G82:K82) -> 0 | N82: =M82/L82*100% -> #DIV/0! | O82: =SUM(P82:U82) -> 0 | V82: =SUM(Q82:U82) -> 0 | W82: =V82/#REF!*100% -> #REF! | AD82: =SUM(Y82:AC82) -> 0 | AE82: =AD82/#REF!*100% -> #REF! | AF82: =(F82-#REF!) -> #REF!
D83: 7 | L83: =SUM(G83:K83) -> 0 | N83: =M83/L83*100% -> #DIV/0! | O83: =SUM(P83:U83) -> 0 | V83: =SUM(Q83:U83) -> 0 | W83: =V83/#REF!*100% -> #REF! | AD83: =SUM(Y83:AC83) -> 0 | AE83: =AD83/#REF!*100% -> #REF! | AF83: =(F83-#REF!) -> #REF!
D84: 8 | L84: =SUM(G84:K84) -> 0 | N84: =M84/L84*100% -> #DIV/0! | O84: =SUM(P84:U84) -> 0 | V84: =SUM(Q84:U84) -> 0 | W84: =V84/#REF!*100% -> #REF! | AD84: =SUM(Y84:AC84) -> 0 | AE84: =AD84/#REF!*100% -> #REF! | AF84: =(F84-#REF!) -> #REF!
D85: 9 | L85: =SUM(G85:K85) -> 0 | N85: =M85/L85*100% -> #DIV/0! | O85: =SUM(P85:U85) -> 0 | V85: =SUM(Q85:U85) -> 0 | W85: =V85/#REF!*100% -> #REF! | AD85: =SUM(Y85:AC85) -> 0 | AE85: =AD85/#REF!*100% -> #REF! | AF85: =(F85-#REF!) -> #REF!
D86: 10 | L86: =SUM(G86:K86) -> 0 | N86: =M86/L86*100% -> #DIV/0! | O86: =SUM(P86:U86) -> 0 | V86: =SUM(Q86:U86) -> 0 | W86: =V86/#REF!*100% -> #REF! | AD86: =SUM(Y86:AC86) -> 0 | AE86: =AD86/#REF!*100% -> #REF! | AF86: =(F86-#REF!) -> #REF!
D87: 11 | L87: =SUM(G87:K87) -> 0 | N87: =M87/L87*100% -> #DIV/0! | O87: =SUM(P87:U87) -> 0 | V87: =SUM(Q87:U87) -> 0 | W87: =V87/#REF!*100% -> #REF! | AD87: =SUM(Y87:AC87) -> 0 | AE87: =AD87/#REF!*100% -> #REF! | AF87: =(F87-#REF!) -> #REF!
D88: 12 | L88: =SUM(G88:K88) -> 0 | N88: =M88/L88*100% -> #DIV/0! | O88: =SUM(P88:U88) -> 0 | V88: =SUM(Q88:U88) -> 0 | W88: =V88/#REF!*100% -> #REF! | AD88: =SUM(Y88:AC88) -> 0 | AE88: =AD88/#REF!*100% -> #REF! | AF88: =(F88-#REF!) -> #REF!
... D100: 24 | L100: =SUM(G100:K100) -> 0 | N100: =M100/L100*100% -> #DIV/0! | O100: =SUM(P100:U100) -> 0 | V100: =SUM(Q100:U100) -> 0 | W100: =V100/#REF!*100% -> #REF! | AD100: =SUM(Y100:AC100) -> 0 | AE100: =AD100/#REF!*100% -> #REF! | AF100: =(F100-#REF!) -> #REF!
D101: المجموع | F101: =SUM(F77:F100) -> 0 | G101: =SUM(G77:G100) -> 0 | H101: =SUM(H77:H100) -> 0 | I101: =SUM(I77:I100) -> 0 | J101: =SUM(J77:J100) -> 0 | K101: =SUM(K77:K100) -> 0 | L101: =SUM(L77:L100) -> 0 | M101: =SUM(M77:M100) -> 0 | N101: =M101/L101*100% -> #DIV/0! | O101: =SUM(P101:U101) -> 0 | P101: =SUM(P77:P100) -> 0 | Q101: =SUM(Q77:Q100) -> 0 | R101: =SUM(R77:R100) -> 0 | S101: =SUM(S77:S100) -> 0 | T101: =SUM(T77:T100) -> 0 | U101: =SUM(U77:U100) -> 0 | V101: =SUM(Q101:U101) -> 0 | W101: =V101/#REF!*100% -> #REF! | X101: =SUM(X77:X100) -> 0 | Y101: =SUM(Y77:Y100) -> 0 | Z101: =SUM(Z77:Z100) -> 0 | AA101: =SUM(AA77:AA100) -> 0 | AB101: =SUM(AB77:AB100) -> 0 | AC101: =SUM(AC77:AC100) -> 0 | AD101: =SUM(Y101:AC101) -> 0 | AE101: =AD101/#REF!*100% -> #REF! | AF101: =(F101-#REF!) -> #REF!
D103: وزارة التربية | M103: العام الدراسي 2020/ 2021
D104: الإدارة العامة لمنطقة …………………... التعليمية
D106: الصف ( الرابع ) | Y106: الفترة : .................
D107: الفترة : آخر العام
D108: م | E108: المدرسة | F108: الاجمالى | G108: فئات الدرجات | L108: عدد المتقدمين | M108: عدد الناجحين | N108: النسبة المئوية | O108: متقدم | P108: الامتحان التحريري ( 30 ) | V108: عدد الناجحين | W108: النسبة المئوية | X108: الدرجة النهائية ( 50 ) | AD108: عدد الناجحين | AE108: النسبة المئوية | AF108: غائب
P109: ضعيف | Q109: مقبول | R109: مقبول | S109: جيد | T109: جيدجدا | U109: ممتاز | X109: ضعيف | Y109: مقبول | Z109: مقبول | AA109: جيد | AB109: جيدجدا | AC109: ممتاز
G110: 0 - 49.5 | H110: 50 - 59.5 | I110: 60 - 74.5 | J110: 75 - 89.5 | K110: 90 - 100 | P110: 0 - 14.5 | Q110: 15 | R110: 15.5 - 20.5 | S110: 21 - 26.5 | T110: 27 - 29.5 | U110: 30 | X110: 0 - 24.5 | Y110: 25 | Z110: 25.5 - 34.5 | AA110: 35 - 44.5 | AB110: 45 - 49.5 | AC110: 50
D111: 1 | L111: =SUM(G111:K111) -> 0 | N111: =M111/L111*100% -> #DIV/0! | O111: =SUM(P111:U111) -> 0 | V111: =SUM(Q111:U111) -> 0 | W111: =V111/#REF!*100% -> #REF! | AD111: =SUM(Y111:AC111) -> 0 | AE111: =AD111/#REF!*100% -> #REF! | AF111: =(F111-#REF!) -> #REF!
D112: 2 | L112: =SUM(G112:K112) -> 0 | N112: =M112/L112*100% -> #DIV/0! | O112: =SUM(P112:U112) -> 0 | V112: =SUM(Q112:U112) -> 0 | W112: =V112/#REF!*100% -> #REF! | AD112: =SUM(Y112:AC112) -> 0 | AE112: =AD112/#REF!*100% -> #REF! | AF112: =(F112-#REF!) -> #REF!
D113: 3 | L113: =SUM(G113:K113) -> 0 | N113: =M113/L113*100% -> #DIV/0! | O113: =SUM(P113:U113) -> 0 | V113: =SUM(Q113:U113) -> 0 | W113: =V113/#REF!*100% -> #REF! | AD113: =SUM(Y113:AC113) -> 0 | AE113: =AD113/#REF!*100% -> #REF! | AF113: =(F113-#REF!) -> #REF!
D114: 4 | L114: =SUM(G114:K114) -> 0 | N114: =M114/L114*100% -> #DIV/0! | O114: =SUM(P114:U114) -> 0 | V114: =SUM(Q114:U114) -> 0 | W114: =V114/#REF!*100% -> #REF! | AD114: =SUM(Y114:AC114) -> 0 | AE114: =AD114/#REF!*100% -> #REF! | AF114: =(F114-#REF!) -> #REF!
D115: 5 | L115: =SUM(G115:K115) -> 0 | N115: =M115/L115*100% -> #DIV/0! | O115: =SUM(P115:U115) -> 0 | V115: =SUM(Q115:U115) -> 0 | W115: =V115/#REF!*100% -> #REF! | AD115: =SUM(Y115:AC115) -> 0 | AE115: =AD115/#REF!*100% -> #REF! | AF115: =(F115-#REF!) -> #REF!
D116: 6 | L116: =SUM(G116:K116) -> 0 | N116: =M116/L116*100% -> #DIV/0! | O116: =SUM(P116:U116) -> 0 | V116: =SUM(Q116:U116) -> 0 | W116: =V116/#REF!*100% -> #REF! | AD116: =SUM(Y116:AC116) -> 0 | AE116: =AD116/#REF!*100% -> #REF! | AF116: =(F116-#REF!) -> #REF!
D117: 7 | L117: =SUM(G117:K117) -> 0 | N117: =M117/L117*100% -> #DIV/0! | O117: =SUM(P117:U117) -> 0 | V117: =SUM(Q117:U117) -> 0 | W117: =V117/#REF!*100% -> #REF! | AD117: =SUM(Y117:AC117) -> 0 | AE117: =AD117/#REF!*100% -> #REF! | AF117: =(F117-#REF!) -> #REF!
D118: 8 | L118: =SUM(G118:K118) -> 0 | N118: =M118/L118*100% -> #DIV/0! | O118: =SUM(P118:U118) -> 0 | V118: =SUM(Q118:U118) -> 0 | W118: =V118/#REF!*100% -> #REF! | AD118: =SUM(Y118:AC118) -> 0 | AE118: =AD118/#REF!*100% -> #REF! | AF118: =(F118-#REF!) -> #REF!
D119: 9 | L119: =SUM(G119:K119) -> 0 | N119: =M119/L119*100% -> #DIV/0! | O119: =SUM(P119:U119) -> 0 | V119: =SUM(Q119:U119) -> 0 | W119: =V119/#REF!*100% -> #REF! | AD119: =SUM(Y119:AC119) -> 0 | AE119: =AD119/#REF!*100% -> #REF! | AF119: =(F119-#REF!) -> #REF!
D120: 10 | L120: =SUM(G120:K120) -> 0 | N120: =M120/L120*100% -> #DIV/0! | O120: =SUM(P120:U120) -> 0 | V120: =SUM(Q120:U120) -> 0 | W120: =V120/#REF!*100% -> #REF! | AD120: =SUM(Y120:AC120) -> 0 | AE120: =AD120/#REF!*100% -> #REF! | AF120: =(F120-#REF!) -> #REF!
D121: 11 | L121: =SUM(G121:K121) -> 0 | N121: =M121/L121*100% -> #DIV/0! | O121: =SUM(P121:U121) -> 0 | V121: =SUM(Q121:U121) -> 0 | W121: =V121/#REF!*100% -> #REF! | AD121: =SUM(Y121:AC121) -> 0 | AE121: =AD121/#REF!*100% -> #REF! | AF121: =(F121-#REF!) -> #REF!
D122: 12 | L122: =SUM(G122:K122) -> 0 | N122: =M122/L122*100% -> #DIV/0! | O122: =SUM(P122:U122) -> 0 | V122: =SUM(Q122:U122) -> 0 | W122: =V122/#REF!*100% -> #REF! | AD122: =SUM(Y122:AC122) -> 0 | AE122: =AD122/#REF!*100% -> #REF! | AF122: =(F122-#REF!) -> #REF!
... D134: 24 | L134: =SUM(G134:K134) -> 0 | N134: =M134/L134*100% -> #DIV/0! | O134: =SUM(P134:U134) -> 0 | V134: =SUM(Q134:U134) -> 0 | W134: =V134/#REF!*100% -> #REF! | AD134: =SUM(Y134:AC134) -> 0 | AE134: =AD134/#REF!*100% -> #REF! | AF134: =(F134-#REF!) -> #REF!
D135: المجموع | F135: =SUM(F111:F134) -> 0 | G135: =SUM(G111:G134) -> 0 | H135: =SUM(H111:H134) -> 0 | I135: =SUM(I111:I134) -> 0 | J135: =SUM(J111:J134) -> 0 | K135: =SUM(K111:K134) -> 0 | L135: =SUM(L111:L134) -> 0 | M135: =SUM(M111:M134) -> 0 | N135: =M135/L135*100% -> #DIV/0! | O135: =SUM(P135:U135) -> 0 | P135: =SUM(P111:P134) -> 0 | Q135: =SUM(Q111:Q134) -> 0 | R135: =SUM(R111:R134) -> 0 | S135: =SUM(S111:S134) -> 0 | T135: =SUM(T111:T134) -> 0 | U135: =SUM(U111:U134) -> 0 | V135: =SUM(Q135:U135) -> 0 | W135: =V135/#REF!*100% -> #REF! | X135: =SUM(X111:X134) -> 0 | Y135: =SUM(Y111:Y134) -> 0 | Z135: =SUM(Z111:Z134) -> 0 | AA135: =SUM(AA111:AA134) -> 0 | AB135: =SUM(AB111:AB134) -> 0 | AC135: =SUM(AC111:AC134) -> 0 | AD135: =SUM(Y135:AC135) -> 0 | AE135: =AD135/#REF!*100% -> #REF! | AF135: =(F135-#REF!) -> #REF!
D139: وزارة التربية | M139: العام الدراسي 2020/ 2021
D140: الإدارة العامة لمنطقة …………………... التعليمية
D142: الصف ( الخامس ) | Y142: الفترة : .................
D143: الفترة : آخر العام
D144: م | E144: المدرسة | F144: الاجمالى | G144: فئات الدرجات | L144: عدد المتقدمين | M144: عدد الناجحين | N144: النسبة المئوية | O144: متقدم | P144: الامتحان التحريري ( 30 ) | V144: عدد الناجحين | W144: النسبة المئوية | X144: الدرجة النهائية ( 50 ) | AD144: عدد الناجحين | AE144: النسبة المئوية | AF144: غائب
P145: ضعيف | Q145: مقبول | R145: مقبول | S145: جيد | T145: جيدجدا | U145: ممتاز | X145: ضعيف | Y145: مقبول | Z145: مقبول | AA145: جيد | AB145: جيدجدا | AC145: ممتاز
G146: 0 - 49.5 | H146: 50 - 59.5 | I146: 60 - 74.5 | J146: 75 - 89.5 | K146: 90 - 100 | P146: 0 - 14.5 | Q146: 15 | R146: 15.5 - 20.5 | S146: 21 - 26.5 | T146: 27 - 29.5 | U146: 30 | X146: 0 - 24.5 | Y146: 25 | Z146: 25.5 - 34.5 | AA146: 35 - 44.5 | AB146: 45 - 49.5 | AC146: 50
D147: 1 | L147: =SUM(G147:K147) -> 0 | N147: =M147/L147*100% -> #DIV/0! | O147: =SUM(P147:U147) -> 0 | V147: =SUM(Q147:U147) -> 0 | W147: =V147/#REF!*100% -> #REF! | AD147: =SUM(Y147:AC147) -> 0 | AE147: =AD147/#REF!*100% -> #REF! | AF147: =(F147-#REF!) -> #REF!
D148: 2 | L148: =SUM(G148:K148) -> 0 | N148: =M148/L148*100% -> #DIV/0! | O148: =SUM(P148:U148) -> 0 | V148: =SUM(Q148:U148) -> 0 | W148: =V148/#REF!*100% -> #REF! | AD148: =SUM(Y148:AC148) -> 0 | AE148: =AD148/#REF!*100% -> #REF! | AF148: =(F148-#REF!) -> #REF!
D149: 3 | L149: =SUM(G149:K149) -> 0 | N149: =M149/L149*100% -> #DIV/0! | O149: =SUM(P149:U149) -> 0 | V149: =SUM(Q149:U149) -> 0 | W149: =V149/#REF!*100% -> #REF! | AD149: =SUM(Y149:AC149) -> 0 | AE149: =AD149/#REF!*100% -> #REF! | AF149: =(F149-#REF!) -> #REF!
D150: 4 | L150: =SUM(G150:K150) -> 0 | N150: =M150/L150*100% -> #DIV/0! | O150: =SUM(P150:U150) -> 0 | V150: =SUM(Q150:U150) -> 0 | W150: =V150/#REF!*100% -> #REF! | AD150: =SUM(Y150:AC150) -> 0 | AE150: =AD150/#REF!*100% -> #REF! | AF150: =(F150-#REF!) -> #REF!
D151: 5 | L151: =SUM(G151:K151) -> 0 | N151: =M151/L151*100% -> #DIV/0! | O151: =SUM(P151:U151) -> 0 | V151: =SUM(Q151:U151) -> 0 | W151: =V151/#REF!*100% -> #REF! | AD151: =SUM(Y151:AC151) -> 0 | AE151: =AD151/#REF!*100% -> #REF! | AF151: =(F151-#REF!) -> #REF!
D152: 6 | L152: =SUM(G152:K152) -> 0 | N152: =M152/L152*100% -> #DIV/0! | O152: =SUM(P152:U152) -> 0 | V152: =SUM(Q152:U152) -> 0 | W152: =V152/#REF!*100% -> #REF! | AD152: =SUM(Y152:AC152) -> 0 | AE152: =AD152/#REF!*100% -> #REF! | AF152: =(F152-#REF!) -> #REF!
D153: 7 | L153: =SUM(G153:K153) -> 0 | N153: =M153/L153*100% -> #DIV/0! | O153: =SUM(P153:U153) -> 0 | V153: =SUM(Q153:U153) -> 0 | W153: =V153/#REF!*100% -> #REF! | AD153: =SUM(Y153:AC153) -> 0 | AE153: =AD153/#REF!*100% -> #REF! | AF153: =(F153-#REF!) -> #REF!
D154: 8 | L154: =SUM(G154:K154) -> 0 | N154: =M154/L154*100% -> #DIV/0! | O154: =SUM(P154:U154) -> 0 | V154: =SUM(Q154:U154) -> 0 | W154: =V154/#REF!*100% -> #REF! | AD154: =SUM(Y154:AC154) -> 0 | AE154: =AD154/#REF!*100% -> #REF! | AF154: =(F154-#REF!) -> #REF!
D155: 9 | L155: =SUM(G155:K155) -> 0 | N155: =M155/L155*100% -> #DIV/0! | O155: =SUM(P155:U155) -> 0 | V155: =SUM(Q155:U155) -> 0 | W155: =V155/#REF!*100% -> #REF! | AD155: =SUM(Y155:AC155) -> 0 | AE155: =AD155/#REF!*100% -> #REF! | AF155: =(F155-#REF!) -> #REF!
...

Sheet المرحلة الابتدائية بنات
D1: وزارة التربية | M1: العام الدراسي 2020/ 2021
D2: الإدارة العامة لمنطقة …………………... التعليمية
D4: الصف ( الأول ) | Y4: الفترة : .................
D5: الفترة : آخر العام
D6: م | E6: المدرسة | F6: الاجمالى | G6: فئات الدرجات | L6: عدد المتقدمين | M6: عدد الناجحين | N6: النسبة المئوية | O6: متقدم | P6: الامتحان التحريري ( 30 ) | V6: عدد الناجحين | W6: النسبة المئوية | X6: الدرجة النهائية ( 50 ) | AD6: عدد الناجحين | AE6: النسبة المئوية | AF6: غائب
P7: ضعيف | Q7: مقبول | R7: مقبول | S7: جيد | T7: جيدجدا | U7: ممتاز | X7: ضعيف | Y7: مقبول | Z7: مقبول | AA7: جيد | AB7: جيدجدا | AC7: ممتاز
G8: 0 - 49.5 | H8: 50 - 59.5 | I8: 60 - 74.5 | J8: 75 - 89.5 | K8: 90 - 100 | P8: 0 - 14.5 | Q8: 15 | R8: 15.5 - 20.5 | S8: 21 - 26.5 | T8: 27 - 29.5 | U8: 30 | X8: 0 - 24.5 | Y8: 25 | Z8: 25.5 - 34.5 | AA8: 35 - 44.5 | AB8: 45 - 49.5 | AC8: 50
D9: 1 | L9: =SUM(G9:K9) -> 0 | N9: =M9/L9*100% -> #DIV/0! | O9: =SUM(P9:U9) -> 0 | V9: =SUM(Q9:U9) -> 0 | W9: =V9/#REF!*100% -> #REF! | AD9: =SUM(Y9:AC9) -> 0 | AE9: =AD9/#REF!*100% -> #REF! | AF9: =(F9-#REF!) -> #REF!
D10: 2 | L10: =SUM(G10:K10) -> 0 | N10: =M10/L10*100% -> #DIV/0! | O10: =SUM(P10:U10) -> 0 | V10: =SUM(Q10:U10) -> 0 | W10: =V10/#REF!*100% -> #REF! | AD10: =SUM(Y10:AC10) -> 0 | AE10: =AD10/#REF!*100% -> #REF! | AF10: =(F10-#REF!) -> #REF!
D11: 3 | L11: =SUM(G11:K11) -> 0 | N11: =M11/L11*100% -> #DIV/0! | O11: =SUM(P11:U11) -> 0 | V11: =SUM(Q11:U11) -> 0 | W11: =V11/#REF!*100% -> #REF! | AD11: =SUM(Y11:AC11) -> 0 | AE11: =AD11/#REF!*100% -> #REF! | AF11: =(F11-#REF!) -> #REF!
D12: 4 | L12: =SUM(G12:K12) -> 0 | N12: =M12/L12*100% -> #DIV/0! | O12: =SUM(P12:U12) -> 0 | V12: =SUM(Q12:U12) -> 0 | W12: =V12/#REF!*100% -> #REF! | AD12: =SUM(Y12:AC12) -> 0 | AE12: =AD12/#REF!*100% -> #REF! | AF12: =(F12-#REF!) -> #REF!
D13: 5 | L13: =SUM(G13:K13) -> 0 | N13: =M13/L13*100% -> #DIV/0! | O13: =SUM(P13:U13) -> 0 | V13: =SUM(Q13:U13) -> 0 | W13: =V13/#REF!*100% -> #REF! | AD13: =SUM(Y13:AC13) -> 0 | AE13: =AD13/#REF!*100% -> #REF! | AF13: =(F13-#REF!) -> #REF!
D14: 6 | L14: =SUM(G14:K14) -> 0 | N14: =M14/L14*100% -> #DIV/0! | O14: =SUM(P14:U14) -> 0 | V14: =SUM(Q14:U14) -> 0 | W14: =V14/#REF!*100% -> #REF! | AD14: =SUM(Y14:AC14) -> 0 | AE14: =AD14/#REF!*100% -> #REF! | AF14: =(F14-#REF!) -> #REF!
D15: 7 | L15: =SUM(G15:K15) -> 0 | N15: =M15/L15*100% -> #DIV/0! | O15: =SUM(P15:U15) -> 0 | V15: =SUM(Q15:U15) -> 0 | W15: =V15/#REF!*100% -> #REF! | AD15: =SUM(Y15:AC15) -> 0 | AE15: =AD15/#REF!*100% -> #REF! | AF15: =(F15-#REF!) -> #REF!
D16: 8 | L16: =SUM(G16:K16) -> 0 | N16: =M16/L16*100% -> #DIV/0! | O16: =SUM(P16:U16) -> 0 | V16: =SUM(Q16:U16) -> 0 | W16: =V16/#REF!*100% -> #REF! | AD16: =SUM(Y16:AC16) -> 0 | AE16: =AD16/#REF!*100% -> #REF! | AF16: =(F16-#REF!) -> #REF!
D17: 9 | L17: =SUM(G17:K17) -> 0 | N17: =M17/L17*100% -> #DIV/0! | O17: =SUM(P17:U17) -> 0 | V17: =SUM(Q17:U17) -> 0 | W17: =V17/#REF!*100% -> #REF! | AD17: =SUM(Y17:AC17) -> 0 | AE17: =AD17/#REF!*100% -> #REF! | AF17: =(F17-#REF!) -> #REF!
D18: 10 | L18: =SUM(G18:K18) -> 0 | N18: =M18/L18*100% -> #DIV/0! | O18: =SUM(P18:U18) -> 0 | V18: =SUM(Q18:U18) -> 0 | W18: =V18/#REF!*100% -> #REF! | AD18: =SUM(Y18:AC18) -> 0 | AE18: =AD18/#REF!*100% -> #REF! | AF18: =(F18-#REF!) -> #REF!
D19: 11 | L19: =SUM(G19:K19) -> 0 | N19: =M19/L19*100% -> #DIV/0! | O19: =SUM(P19:U19) -> 0 | V19: =SUM(Q19:U19) -> 0 | W19: =V19/#REF!*100% -> #REF! | AD19: =SUM(Y19:AC19) -> 0 | AE19: =AD19/#REF!*100% -> #REF! | AF19: =(F19-#REF!) -> #REF!
D20: 12 | L20: =SUM(G20:K20) -> 0 | N20: =M20/L20*100% -> #DIV/0! | O20: =SUM(P20:U20) -> 0 | V20: =SUM(Q20:U20) -> 0 | W20: =V20/#REF!*100% -> #REF! | AD20: =SUM(Y20:AC20) -> 0 | AE20: =AD20/#REF!*100% -> #REF! | AF20: =(F20-#REF!) -> #REF!
... D32: 24 | L32: =SUM(G32:K32) -> 0 | N32: =M32/L32*100% -> #DIV/0! | O32: =SUM(P32:U32) -> 0 | V32: =SUM(Q32:U32) -> 0 | W32: =V32/#REF!*100% -> #REF! | AD32: =SUM(Y32:AC32) -> 0 | AE32: =AD32/#REF!*100% -> #REF! | AF32: =(F32-#REF!) -> #REF!
D33: المجموع | F33: =SUM(F9:F32) -> 0 | G33: =SUM(G9:G32) -> 0 | H33: =SUM(H9:H32) -> 0 | I33: =SUM(I9:I32) -> 0 | J33: =SUM(J9:J32) -> 0 | K33: =SUM(K9:K32) -> 0 | L33: =SUM(L9:L32) -> 0 | M33: =SUM(M9:M32) -> 0 | N33: =M33/L33*100% -> #DIV/0! | O33: =SUM(P33:U33) -> 0 | P33: =SUM(P9:P32) -> 0 | Q33: =SUM(Q9:Q32) -> 0 | R33: =SUM(R9:R32) -> 0 | S33: =SUM(S9:S32) -> 0 | T33: =SUM(T9:T32) -> 0 | U33: =SUM(U9:U32) -> 0 | V33: =SUM(Q33:U33) -> 0 | W33: =V33/#REF!*100% -> #REF! | X33: =SUM(X9:X32) -> 0 | Y33: =SUM(Y9:Y32) -> 0 | Z33: =SUM(Z9:Z32) -> 0 | AA33: =SUM(AA9:AA32) -> 0 | AB33: =SUM(AB9:AB32) -> 0 | AC33: =SUM(AC9:AC32) -> 0 | AD33: =SUM(Y33:AC33) -> 0 | AE33: =AD33/#REF!*100% -> #REF! | AF33: =(F33-#REF!) -> #REF!
D35: وزارة التربية | M35: العام الدراسي 2020/ 2021
D36: الإدارة العامة لمنطقة …………………... التعليمية
D38: الصف ( الثاني ) | Y38: الفترة : .................
D39: الفترة : آخر العام
D40: م | E40: المدرسة | F40: الاجمالى | G40: فئات الدرجات | L40: عدد المتقدمين | M40: عدد الناجحين | N40: النسبة المئوية | O40: متقدم | P40: الامتحان التحريري ( 30 ) | V40: عدد الناجحين | W40: النسبة المئوية | X40: الدرجة النهائية ( 50 ) | AD40: عدد الناجحين | AE40: النسبة المئوية | AF40: غائب
P41: ضعيف | Q41: مقبول | R41: مقبول | S41: جيد | T41: جيدجدا | U41: ممتاز | X41: ضعيف | Y41: مقبول | Z41: مقبول | AA41: جيد | AB41: جيدجدا | AC41: ممتاز
G42: 0 - 49.5 | H42: 50 - 59.5 | I42: 60 - 74.5 | J42: 75 - 89.5 | K42: 90 - 100 | P42: 0 - 14.5 | Q42: 15 | R42: 15.5 - 20.5 | S42: 21 - 26.5 | T42: 27 - 29.5 | U42: 30 | X42: 0 - 24.5 | Y42: 25 | Z42: 25.5 - 34.5 | AA42: 35 - 44.5 | AB42: 45 - 49.5 | AC42: 50
D43: 1 | L43: =SUM(G43:K43) -> 0 | N43: =M43/L43*100% -> #DIV/0! | O43: =SUM(P43:U43) -> 0 | V43: =SUM(Q43:U43) -> 0 | W43: =V43/#REF!*100% -> #REF! | AD43: =SUM(Y43:AC43) -> 0 | AE43: =AD43/#REF!*100% -> #REF! | AF43: =(F43-#REF!) -> #REF!
D44: 2 | L44: =SUM(G44:K44) -> 0 | N44: =M44/L44*100% -> #DIV/0! | O44: =SUM(P44:U44) -> 0 | V44: =SUM(Q44:U44) -> 0 | W44: =V44/#REF!*100% -> #REF! | AD44: =SUM(Y44:AC44) -> 0 | AE44: =AD44/#REF!*100% -> #REF! | AF44: =(F44-#REF!) -> #REF!
D45: 3 | L45: =SUM(G45:K45) -> 0 | N45: =M45/L45*100% -> #DIV/0! | O45: =SUM(P45:U45) -> 0 | V45: =SUM(Q45:U45) -> 0 | W45: =V45/#REF!*100% -> #REF! | AD45: =SUM(Y45:AC45) -> 0 | AE45: =AD45/#REF!*100% -> #REF! | AF45: =(F45-#REF!) -> #REF!
D46: 4 | L46: =SUM(G46:K46) -> 0 | N46: =M46/L46*100% -> #DIV/0! | O46: =SUM(P46:U46) -> 0 | V46: =SUM(Q46:U46) -> 0 | W46: =V46/#REF!*100% -> #REF! | AD46: =SUM(Y46:AC46) -> 0 | AE46: =AD46/#REF!*100% -> #REF! | AF46: =(F46-#REF!) -> #REF!
D47: 5 | L47: =SUM(G47:K47) -> 0 | N47: =M47/L47*100% -> #DIV/0! | O47: =SUM(P47:U47) -> 0 | V47: =SUM(Q47:U47) -> 0 | W47: =V47/#REF!*100% -> #REF! | AD47: =SUM(Y47:AC47) -> 0 | AE47: =AD47/#REF!*100% -> #REF! | AF47: =(F47-#REF!) -> #REF!
D48: 6 | L48: =SUM(G48:K48) -> 0 | N48: =M48/L48*100% -> #DIV/0! | O48: =SUM(P48:U48) -> 0 | V48: =SUM(Q48:U48) -> 0 | W48: =V48/#REF!*100% -> #REF! | AD48: =SUM(Y48:AC48) -> 0 | AE48: =AD48/#REF!*100% -> #REF! | AF48: =(F48-#REF!) -> #REF!
D49: 7 | L49: =SUM(G49:K49) -> 0 | N49: =M49/L49*100% -> #DIV/0! | O49: =SUM(P49:U49) -> 0 | V49: =SUM(Q49:U49) -> 0 | W49: =V49/#REF!*100% -> #REF! | AD49: =SUM(Y49:AC49) -> 0 | AE49: =AD49/#REF!*100% -> #REF! | AF49: =(F49-#REF!) -> #REF!
D50: 8 | L50: =SUM(G50:K50) -> 0 | N50: =M50/L50*100% -> #DIV/0! | O50: =SUM(P50:U50) -> 0 | V50: =SUM(Q50:U50) -> 0 | W50: =V50/#REF!*100% -> #REF! | AD50: =SUM(Y50:AC50) -> 0 | AE50: =AD50/#REF!*100% -> #REF! | AF50: =(F50-#REF!) -> #REF!
D51: 9 | L51: =SUM(G51:K51) -> 0 | N51: =M51/L51*100% -> #DIV/0! | O51: =SUM(P51:U51) -> 0 | V51: =SUM(Q51:U51) -> 0 | W51: =V51/#REF!*100% -> #REF! | AD51: =SUM(Y51:AC51) -> 0 | AE51: =AD51/#REF!*100% -> #REF! | AF51: =(F51-#REF!) -> #REF!
D52: 10 | L52: =SUM(G52:K52) -> 0 | N52: =M52/L52*100% -> #DIV/0! | O52: =SUM(P52:U52) -> 0 | V52: =SUM(Q52:U52) -> 0 | W52: =V52/#REF!*100% -> #REF! | AD52: =SUM(Y52:AC52) -> 0 | AE52: =AD52/#REF!*100% -> #REF! | AF52: =(F52-#REF!) -> #REF!
D53: 11 | L53: =SUM(G53:K53) -> 0 | N53: =M53/L53*100% -> #DIV/0! | O53: =SUM(P53:U53) -> 0 | V53: =SUM(Q53:U53) -> 0 | W53: =V53/#REF!*100% -> #REF! | AD53: =SUM(Y53:AC53) -> 0 | AE53: =AD53/#REF!*100% -> #REF! | AF53: =(F53-#REF!) -> #REF!
D54: 12 | L54: =SUM(G54:K54) -> 0 | N54: =M54/L54*100% -> #DIV/0! | O54: =SUM(P54:U54) -> 0 | V54: =SUM(Q54:U54) -> 0 | W54: =V54/#REF!*100% -> #REF! | AD54: =SUM(Y54:AC54) -> 0 | AE54: =AD54/#REF!*100% -> #REF! | AF54: =(F54-#REF!) -> #REF!
... D66: 24 | L66: =SUM(G66:K66) -> 0 | N66: =M66/L66*100% -> #DIV/0! | O66: =SUM(P66:U66) -> 0 | V66: =SUM(Q66:U66) -> 0 | W66: =V66/#REF!*100% -> #REF! | AD66: =SUM(Y66:AC66) -> 0 | AE66: =AD66/#REF!*100% -> #REF! | AF66: =(F66-#REF!) -> #REF!
D67: المجموع | F67: =SUM(F43:F66) -> 0 | G67: =SUM(G43:G66) -> 0 | H67: =SUM(H43:H66) -> 0 | I67: =SUM(I43:I66) -> 0 | J67: =SUM(J43:J66) -> 0 | K67: =SUM(K43:K66) -> 0 | L67: =SUM(L43:L66) -> 0 | M67: =SUM(M43:M66) -> 0 | N67: =M67/L67*100% -> #DIV/0! | O67: =SUM(P67:U67) -> 0 | P67: =SUM(P43:P66) -> 0 | Q67: =SUM(Q43:Q66) -> 0 | R67: =SUM(R43:R66) -> 0 | S67: =SUM(S43:S66) -> 0 | T67: =SUM(T43:T66) -> 0 | U67: =SUM(U43:U66) -> 0 | V67: =SUM(Q67:U67) -> 0 | W67: =V67/#REF!*100% -> #REF! | X67: =SUM(X43:X66) -> 0 | Y67: =SUM(Y43:Y66) -> 0 | Z67: =SUM(Z43:Z66) -> 0 | AA67: =SUM(AA43:AA66) -> 0 | AB67: =SUM(AB43:AB66) -> 0 | AC67: =SUM(AC43:AC66) -> 0 | AD67: =SUM(Y67:AC67) -> 0 | AE67: =AD67/#REF!*100% -> #REF! | AF67: =(F67-#REF!) -> #REF!
D69: وزارة التربية | M69: العام الدراسي 2020/ 2021
D70: الإدارة العامة لمنطقة …………………... التعليمية
D72: الصف ( الثالث ) | Y72: الفترة : .................
D73: الفترة : آخر العام
D74: م | E74: المدرسة | F74: الاجمالى | G74: فئات الدرجات | L74: عدد المتقدمين | M74: عدد الناجحين | N74: النسبة المئوية | O74: متقدم | P74: الامتحان التحريري ( 30 ) | V74: عدد الناجحين | W74: النسبة المئوية | X74: الدرجة النهائية ( 50 ) | AD74: عدد الناجحين | AE74: النسبة المئوية | AF74: غائب
P75: ضعيف | Q75: مقبول | R75: مقبول | S75: جيد | T75: جيدجدا | U75: ممتاز | X75: ضعيف | Y75: مقبول | Z75: مقبول | AA75: جيد | AB75: جيدجدا | AC75: ممتاز
G76: 0 - 49.5 | H76: 50 - 59.5 | I76: 60 - 74.5 | J76: 75 - 89.5 | K76: 90 - 100 | P76: 0 - 14.5 | Q76: 15 | R76: 15.5 - 20.5 | S76: 21 - 26.5 | T76: 27 - 29.5 | U76: 30 | X76: 0 - 24.5 | Y76: 25 | Z76: 25.5 - 34.5 | AA76: 35 - 44.5 | AB76: 45 - 49.5 | AC76: 50
D77: 1 | L77: =SUM(G77:K77) -> 0 | N77: =M77/L77*100% -> #DIV/0! | O77: =SUM(P77:U77) -> 0 | V77: =SUM(Q77:U77) -> 0 | W77: =V77/#REF!*100% -> #REF! | AD77: =SUM(Y77:AC77) -> 0 | AE77: =AD77/#REF!*100% -> #REF! | AF77: =(F77-#REF!) -> #REF!
D78: 2 | L78: =SUM(G78:K78) -> 0 | N78: =M78/L78*100% -> #DIV/0! | O78: =SUM(P78:U78) -> 0 | V78: =SUM(Q78:U78) -> 0 | W78: =V78/#REF!*100% -> #REF! | AD78: =SUM(Y78:AC78) -> 0 | AE78: =AD78/#REF!*100% -> #REF! | AF78: =(F78-#REF!) -> #REF!
D79: 3 | L79: =SUM(G79:K79) -> 0 | N79: =M79/L79*100% -> #DIV/0! | O79: =SUM(P79:U79) -> 0 | V79: =SUM(Q79:U79) -> 0 | W79: =V79/#REF!*100% -> #REF! | AD79: =SUM(Y79:AC79) -> 0 | AE79: =AD79/#REF!*100% -> #REF! | AF79: =(F79-#REF!) -> #REF!
D80: 4 | L80: =SUM(G80:K80) -> 0 | N80: =M80/L80*100% -> #DIV/0! | O80: =SUM(P80:U80) -> 0 | V80: =SUM(Q80:U80) -> 0 | W80: =V80/#REF!*100% -> #REF! | AD80: =SUM(Y80:AC80) -> 0 | AE80: =AD80/#REF!*100% -> #REF! | AF80: =(F80-#REF!) -> #REF!
D81: 5 | L81: =SUM(G81:K81) -> 0 | N81: =M81/L81*100% -> #DIV/0! | O81: =SUM(P81:U81) -> 0 | V81: =SUM(Q81:U81) -> 0 | W81: =V81/#REF!*100% -> #REF! | AD81: =SUM(Y81:AC81) -> 0 | AE81: =AD81/#REF!*100% -> #REF! | AF81: =(F81-#REF!) -> #REF!
D82: 6 | L82: =SUM(G82:K82) -> 0 | N82: =M82/L82*100% -> #DIV/0! | O82: =SUM(P82:U82) -> 0 | V82: =SUM(Q82:U82) -> 0 | W82: =V82/#REF!*100% -> #REF! | AD82: =SUM(Y82:AC82) -> 0 | AE82: =AD82/#REF!*100% -> #REF! | AF82: =(F82-#REF!) -> #REF!
D83: 7 | L83: =SUM(G83:K83) -> 0 | N83: =M83/L83*100% -> #DIV/0! | O83: =SUM(P83:U83) -> 0 | V83: =SUM(Q83:U83) -> 0 | W83: =V83/#REF!*100% -> #REF! | AD83: =SUM(Y83:AC83) -> 0 | AE83: =AD83/#REF!*100% -> #REF! | AF83: =(F83-#REF!) -> #REF!
D84: 8 | L84: =SUM(G84:K84) -> 0 | N84: =M84/L84*100% -> #DIV/0! | O84: =SUM(P84:U84) -> 0 | V84: =SUM(Q84:U84) -> 0 | W84: =V84/#REF!*100% -> #REF! | AD84: =SUM(Y84:AC84) -> 0 | AE84: =AD84/#REF!*100% -> #REF! | AF84: =(F84-#REF!) -> #REF!
D85: 9 | L85: =SUM(G85:K85) -> 0 | N85: =M85/L85*100% -> #DIV/0! | O85: =SUM(P85:U85) -> 0 | V85: =SUM(Q85:U85) -> 0 | W85: =V85/#REF!*100% -> #REF! | AD85: =SUM(Y85:AC85) -> 0 | AE85: =AD85/#REF!*100% -> #REF! | AF85: =(F85-#REF!) -> #REF!
D86: 10 | L86: =SUM(G86:K86) -> 0 | N86: =M86/L86*100% -> #DIV/0! | O86: =SUM(P86:U86) -> 0 | V86: =SUM(Q86:U86) -> 0 | W86: =V86/#REF!*100% -> #REF! | AD86: =SUM(Y86:AC86) -> 0 | AE86: =AD86/#REF!*100% -> #REF! | AF86: =(F86-#REF!) -> #REF!
D87: 11 | L87: =SUM(G87:K87) -> 0 | N87: =M87/L87*100% -> #DIV/0! | O87: =SUM(P87:U87) -> 0 | V87: =SUM(Q87:U87) -> 0 | W87: =V87/#REF!*100% -> #REF! | AD87: =SUM(Y87:AC87) -> 0 | AE87: =AD87/#REF!*100% -> #REF! | AF87: =(F87-#REF!) -> #REF!
D88: 12 | L88: =SUM(G88:K88) -> 0 | N88: =M88/L88*100% -> #DIV/0! | O88: =SUM(P88:U88) -> 0 | V88: =SUM(Q88:U88) -> 0 | W88: =V88/#REF!*100% -> #REF! | AD88: =SUM(Y88:AC88) -> 0 | AE88: =AD88/#REF!*100% -> #REF! | AF88: =(F88-#REF!) -> #REF!
... D100: 24 | L100: =SUM(G100:K100) -> 0 | N100: =M100/L100*100% -> #DIV/0! | O100: =SUM(P100:U100) -> 0 | V100: =SUM(Q100:U100) -> 0 | W100: =V100/#REF!*100% -> #REF! | AD100: =SUM(Y100:AC100) -> 0 | AE100: =AD100/#REF!*100% -> #REF! | AF100: =(F100-#REF!) -> #REF!
D101: المجموع | F101: =SUM(F77:F100) -> 0 | G101: =SUM(G77:G100) -> 0 | H101: =SUM(H77:H100) -> 0 | I101: =SUM(I77:I100) -> 0 | J101: =SUM(J77:J100) -> 0 | K101: =SUM(K77:K100) -> 0 | L101: =SUM(L77:L100) -> 0 | M101: =SUM(M77:M100) -> 0 | N101: =M101/L101*100% -> #DIV/0! | O101: =SUM(P101:U101) -> 0 | P101: =SUM(P77:P100) -> 0 | Q101: =SUM(Q77:Q100) -> 0 | R101: =SUM(R77:R100) -> 0 | S101: =SUM(S77:S100) -> 0 | T101: =SUM(T77:T100) -> 0 | U101: =SUM(U77:U100) -> 0 | V101: =SUM(Q101:U101) -> 0 | W101: =V101/#REF!*100% -> #REF! | X101: =SUM(X77:X100) -> 0 | Y101: =SUM(Y77:Y100) -> 0 | Z101: =SUM(Z77:Z100) -> 0 | AA101: =SUM(AA77:AA100) -> 0 | AB101: =SUM(AB77:AB100) -> 0 | AC101: =SUM(AC77:AC100) -> 0 | AD101: =SUM(Y101:AC101) -> 0 | AE101: =AD101/#REF!*100% -> #REF! | AF101: =(F101-#REF!) -> #REF!
D103: وزارة التربية | M103: العام الدراسي 2020/ 2021
D104: الإدارة العامة لمنطقة …………………... التعليمية
D106: الصف ( الرابع ) | Y106: الفترة : .................
D107: الفترة : آخر العام
D108: م | E108: المدرسة | F108: الاجمالى | G108: فئات الدرجات | L108: عدد المتقدمين | M108: عدد الناجحين | N108: النسبة المئوية | O108: متقدم | P108: الامتحان التحريري ( 30 ) | V108: عدد الناجحين | W108: النسبة المئوية | X108: الدرجة النهائية ( 50 ) | AD108: عدد الناجحين | AE108: النسبة المئوية | AF108: غائب
P109: ضعيف | Q109: مقبول | R109: مقبول | S109: جيد | T109: جيدجدا | U109: ممتاز | X109: ضعيف | Y109: مقبول | Z109: مقبول | AA109: جيد | AB109: جيدجدا | AC109: ممتاز
G110: 0 - 49.5 | H110: 50 - 59.5 | I110: 60 - 74.5 | J110: 75 - 89.5 | K110: 90 - 100 | P110: 0 - 14.5 | Q110: 15 | R110: 15.5 - 20.5 | S110: 21 - 26.5 | T110: 27 - 29.5 | U110: 30 | X110: 0 - 24.5 | Y110: 25 | Z110: 25.5 - 34.5 | AA110: 35 - 44.5 | AB110: 45 - 49.5 | AC110: 50
D111: 1 | L111: =SUM(G111:K111) -> 0 | N111: =M111/L111*100% -> #DIV/0! | O111: =SUM(P111:U111) -> 0 | V111: =SUM(Q111:U111) -> 0 | W111: =V111/#REF!*100% -> #REF! | AD111: =SUM(Y111:AC111) -> 0 | AE111: =AD111/#REF!*100% -> #REF! | AF111: =(F111-#REF!) -> #REF!
D112: 2 | L112: =SUM(G112:K112) -> 0 | N112: =M112/L112*100% -> #DIV/0! | O112: =SUM(P112:U112) -> 0 | V112: =SUM(Q112:U112) -> 0 | W112: =V112/#REF!*100% -> #REF! | AD112: =SUM(Y112:AC112) -> 0 | AE112: =AD112/#REF!*100% -> #REF! | AF112: =(F112-#REF!) -> #REF!
D113: 3 | L113: =SUM(G113:K113) -> 0 | N113: =M113/L113*100% -> #DIV/0! | O113: =SUM(P113:U113) -> 0 | V113: =SUM(Q113:U113) -> 0 | W113: =V113/#REF!*100% -> #REF! | AD113: =SUM(Y113:AC113) -> 0 | AE113: =AD113/#REF!*100% -> #REF! | AF113: =(F113-#REF!) -> #REF!
D114: 4 | L114: =SUM(G114:K114) -> 0 | N114: =M114/L114*100% -> #DIV/0! | O114: =SUM(P114:U114) -> 0 | V114: =SUM(Q114:U114) -> 0 | W114: =V114/#REF!*100% -> #REF! | AD114: =SUM(Y114:AC114) -> 0 | AE114: =AD114/#REF!*100% -> #REF! | AF114: =(F114-#REF!) -> #REF!
D115: 5 | L115: =SUM(G115:K115) -> 0 | N115: =M115/L115*100% -> #DIV/0! | O115: =SUM(P115:U115) -> 0 | V115: =SUM(Q115:U115) -> 0 | W115: =V115/#REF!*100% -> #REF! | AD115: =SUM(Y115:AC115) -> 0 | AE115: =AD115/#REF!*100% -> #REF! | AF115: =(F115-#REF!) -> #REF!
D116: 6 | L116: =SUM(G116:K116) -> 0 | N116: =M116/L116*100% -> #DIV/0! | O116: =SUM(P116:U116) -> 0 | V116: =SUM(Q116:U116) -> 0 | W116: =V116/#REF!*100% -> #REF! | AD116: =SUM(Y116:AC116) -> 0 | AE116: =AD116/#REF!*100% -> #REF! | AF116: =(F116-#REF!) -> #REF!
D117: 7 | L117: =SUM(G117:K117) -> 0 | N117: =M117/L117*100% -> #DIV/0! | O117: =SUM(P117:U117) -> 0 | V117: =SUM(Q117:U117) -> 0 | W117: =V117/#REF!*100% -> #REF! | AD117: =SUM(Y117:AC117) -> 0 | AE117: =AD117/#REF!*100% -> #REF! | AF117: =(F117-#REF!) -> #REF!
D118: 8 | L118: =SUM(G118:K118) -> 0 | N118: =M118/L118*100% -> #DIV/0! | O118: =SUM(P118:U118) -> 0 | V118: =SUM(Q118:U118) -> 0 | W118: =V118/#REF!*100% -> #REF! | AD118: =SUM(Y118:AC118) -> 0 | AE118: =AD118/#REF!*100% -> #REF! | AF118: =(F118-#REF!) -> #REF!
D119: 9 | L119: =SUM(G119:K119) -> 0 | N119: =M119/L119*100% -> #DIV/0! | O119: =SUM(P119:U119) -> 0 | V119: =SUM(Q119:U119) -> 0 | W119: =V119/#REF!*100% -> #REF! | AD119: =SUM(Y119:AC119) -> 0 | AE119: =AD119/#REF!*100% -> #REF! | AF119: =(F119-#REF!) -> #REF!
D120: 10 | L120: =SUM(G120:K120) -> 0 | N120: =M120/L120*100% -> #DIV/0! | O120: =SUM(P120:U120) -> 0 | V120: =SUM(Q120:U120) -> 0 | W120: =V120/#REF!*100% -> #REF! | AD120: =SUM(Y120:AC120) -> 0 | AE120: =AD120/#REF!*100% -> #REF! | AF120: =(F120-#REF!) -> #REF!
D121: 11 | L121: =SUM(G121:K121) -> 0 | N121: =M121/L121*100% -> #DIV/0! | O121: =SUM(P121:U121) -> 0 | V121: =SUM(Q121:U121) -> 0 | W121: =V121/#REF!*100% -> #REF! | AD121: =SUM(Y121:AC121) -> 0 | AE121: =AD121/#REF!*100% -> #REF! | AF121: =(F121-#REF!) -> #REF!
D122: 12 | L122: =SUM(G122:K122) -> 0 | N122: =M122/L122*100% -> #DIV/0! | O122: =SUM(P122:U122) -> 0 | V122: =SUM(Q122:U122) -> 0 | W122: =V122/#REF!*100% -> #REF! | AD122: =SUM(Y122:AC122) -> 0 | AE122: =AD122/#REF!*100% -> #REF! | AF122: =(F122-#REF!) -> #REF!
... D134: 24 | L134: =SUM(G134:K134) -> 0 | N134: =M134/L134*100% -> #DIV/0! | O134: =SUM(P134:U134) -> 0 | V134: =SUM(Q134:U134) -> 0 | W134: =V134/#REF!*100% -> #REF! | AD134: =SUM(Y134:AC134) -> 0 | AE134: =AD134/#REF!*100% -> #REF! | AF134: =(F134-#REF!) -> #REF!
D135: المجموع | F135: =SUM(F111:F134) -> 0 | G135: =SUM(G111:G134) -> 0 | H135: =SUM(H111:H134) -> 0 | I135: =SUM(I111:I134) -> 0 | J135: =SUM(J111:J134) -> 0 | K135: =SUM(K111:K134) -> 0 | L135: =SUM(L111:L134) -> 0 | M135: =SUM(M111:M134) -> 0 | N135: =M135/L135*100% -> #DIV/0! | O135: =SUM(P135:U135) -> 0 | P135: =SUM(P111:P134) -> 0 | Q135: =SUM(Q111:Q134) -> 0 | R135: =SUM(R111:R134) -> 0 | S135: =SUM(S111:S134) -> 0 | T135: =SUM(T111:T134) -> 0 | U135: =SUM(U111:U134) -> 0 | V135: =SUM(Q135:U135) -> 0 | W135: =V135/#REF!*100% -> #REF! | X135: =SUM(X111:X134) -> 0 | Y135: =SUM(Y111:Y134) -> 0 | Z135: =SUM(Z111:Z134) -> 0 | AA135: =SUM(AA111:AA134) -> 0 | AB135: =SUM(AB111:AB134) -> 0 | AC135: =SUM(AC111:AC134) -> 0 | AD135: =SUM(Y135:AC135) -> 0 | AE135: =AD135/#REF!*100% -> #REF! | AF135: =(F135-#REF!) -> #REF!
D139: وزارة التربية | M139: العام الدراسي 2020/ 2021
D140: الإدارة العامة لمنطقة …………………... التعليمية
D142: الصف ( الخامس ) | Y142: الفترة : .................
D143: الفترة : آخر العام
D144: م | E144: المدرسة | F144: الاجمالى | G144: فئات الدرجات | L144: عدد المتقدمين | M144: عدد الناجحين | N144: النسبة المئوية | O144: متقدم | P144: الامتحان التحريري ( 30 ) | V144: عدد الناجحين | W144: النسبة المئوية | X144: الدرجة النهائية ( 50 ) | AD144: عدد الناجحين | AE144: النسبة المئوية | AF144: غائب
P145: ضعيف | Q145: مقبول | R145: مقبول | S145: جيد | T145: جيدجدا | U145: ممتاز | X145: ضعيف | Y145: مقبول | Z145: مقبول | AA145: جيد | AB145: جيدجدا | AC145: ممتاز
G146: 0 - 49.5 | H146: 50 - 59.5 | I146: 60 - 74.5 | J146: 75 - 89.5 | K146: 90 - 100 | P146: 0 - 14.5 | Q146: 15 | R146: 15.5 - 20.5 | S146: 21 - 26.5 | T146: 27 - 29.5 | U146: 30 | X146: 0 - 24.5 | Y146: 25 | Z146: 25.5 - 34.5 | AA146: 35 - 44.5 | AB146: 45 - 49.5 | AC146: 50
D147: 1 | L147: =SUM(G147:K147) -> 0 | N147: =M147/L147*100% -> #DIV/0! | O147: =SUM(P147:U147) -> 0 | V147: =SUM(Q147:U147) -> 0 | W147: =V147/#REF!*100% -> #REF! | AD147: =SUM(Y147:AC147) -> 0 | AE147: =AD147/#REF!*100% -> #REF! | AF147: =(F147-#REF!) -> #REF!
D148: 2 | L148: =SUM(G148:K148) -> 0 | N148: =M148/L148*100% -> #DIV/0! | O148: =SUM(P148:U148) -> 0 | V148: =SUM(Q148:U148) -> 0 | W148: =V148/#REF!*100% -> #REF! | AD148: =SUM(Y148:AC148) -> 0 | AE148: =AD148/#REF!*100% -> #REF! | AF148: =(F148-#REF!) -> #REF!
D149: 3 | L149: =SUM(G149:K149) -> 0 | N149: =M149/L149*100% -> #DIV/0! | O149: =SUM(P149:U149) -> 0 | V149: =SUM(Q149:U149) -> 0 | W149: =V149/#REF!*100% -> #REF! | AD149: =SUM(Y149:AC149) -> 0 | AE149: =AD149/#REF!*100% -> #REF! | AF149: =(F149-#REF!) -> #REF!
D150: 4 | L150: =SUM(G150:K150) -> 0 | N150: =M150/L150*100% -> #DIV/0! | O150: =SUM(P150:U150) -> 0 | V150: =SUM(Q150:U150) -> 0 | W150: =V150/#REF!*100% -> #REF! | AD150: =SUM(Y150:AC150) -> 0 | AE150: =AD150/#REF!*100% -> #REF! | AF150: =(F150-#REF!) -> #REF!
D151: 5 | L151: =SUM(G151:K151) -> 0 | N151: =M151/L151*100% -> #DIV/0! | O151: =SUM(P151:U151) -> 0 | V151: =SUM(Q151:U151) -> 0 | W151: =V151/#REF!*100% -> #REF! | AD151: =SUM(Y151:AC151) -> 0 | AE151: =AD151/#REF!*100% -> #REF! | AF151: =(F151-#REF!) -> #REF!
D152: 6 | L152: =SUM(G152:K152) -> 0 | N152: =M152/L152*100% -> #DIV/0! | O152: =SUM(P152:U152) -> 0 | V152: =SUM(Q152:U152) -> 0 | W152: =V152/#REF!*100% -> #REF! | AD152: =SUM(Y152:AC152) -> 0 | AE152: =AD152/#REF!*100% -> #REF! | AF152: =(F152-#REF!) -> #REF!
D153: 7 | L153: =SUM(G153:K153) -> 0 | N153: =M153/L153*100% -> #DIV/0! | O153: =SUM(P153:U153) -> 0 | V153: =SUM(Q153:U153) -> 0 | W153: =V153/#REF!*100% -> #REF! | AD153: =SUM(Y153:AC153) -> 0 | AE153: =AD153/#REF!*100% -> #REF! | AF153: =(F153-#REF!) -> #REF!
D154: 8 | L154: =SUM(G154:K154) -> 0 | N154: =M154/L154*100% -> #DIV/0! | O154: =SUM(P154:U154) -> 0 | V154: =SUM(Q154:U154) -> 0 | W154: =V154/#REF!*100% -> #REF! | AD154: =SUM(Y154:AC154) -> 0 | AE154: =AD154/#REF!*100% -> #REF! | AF154: =(F154-#REF!) -> #REF!
D155: 9 | L155: =SUM(G155:K155) -> 0 | N155: =M155/L155*100% -> #DIV/0! | O155: =SUM(P155:U155) -> 0 | V155: =SUM(Q155:U155) -> 0 | W155: =V155/#REF!*100% -> #REF! | AD155: =SUM(Y155:AC155) -> 0 | AE155: =AD155/#REF!*100% -> #REF! | AF155: =(F155-#REF!) -> #REF!
...

Sheet تجميع (5) آخر العام 
D1: وزارة التربية | M1: العام الدراسي 2020/ 2021
D2: الإدارة العامة لمنطقة …………………... التعليمية
D4: الصف ( الأول ) | Y4: الفترة : .................
D5: الفترة : آخر العام
D6: م | F6: الاجمالى | G6: فئات الدرجات | L6: عدد المتقدمين | M6: عدد الناجحين | N6: النسبة المئوية | O6: متقدم | P6: الامتحان التحريري ( 30 ) | V6: عدد الناجحين | W6: النسبة المئوية | X6: الدرجة النهائية ( 50 ) | AD6: عدد الناجحين | AE6: النسبة المئوية | AF6: غائب
P7: ضعيف | Q7: مقبول | R7: مقبول | S7: جيد | T7: جيدجدا | U7: ممتاز | X7: ضعيف | Y7: مقبول | Z7: مقبول | AA7: جيد | AB7: جيدجدا | AC7: ممتاز
G8: 0 - 49.5 | H8: 50 - 59.5 | I8: 60 - 74.5 | J8: 75 - 89.5 | K8: 90 - 100 | P8: 0 - 14.5 | Q8: 15 | R8: 15.5 - 20.5 | S8: 21 - 26.5 | T8: 27 - 29.5 | U8: 30 | X8: 0 - 24.5 | Y8: 25 | Z8: 25.5 - 34.5 | AA8: 35 - 44.5 | AB8: 45 - 49.5 | AC8: 50
D9: 1 | E9: البنين | G9: ='المرحلة الابتدائية بنين'!G33 -> 0 | H9: ='المرحلة الابتدائية بنين'!H33 -> 0 | I9: ='المرحلة الابتدائية بنين'!I33 -> 0 | J9: ='المرحلة الابتدائية بنين'!J33 -> 0 | K9: ='المرحلة الابتدائية بنين'!K33 -> 0 | L9: ='المرحلة الابتدائية بنين'!L33 -> 0 | M9: ='المرحلة الابتدائية بنين'!M33 -> 0 | N9: ='المرحلة الابتدائية بنين'!N33 -> #DIV/0! | O9: =SUM(P9:U9) -> 0 | V9: =SUM(Q9:U9) -> 0 | W9: =V9/#REF!*100% -> #REF! | AD9: =SUM(Y9:AC9) -> 0 | AE9: =AD9/#REF!*100% -> #REF! | AF9: =(F9-#REF!) -> #REF!
D10: 2 | E10: البنات | G10: ='المرحلة الابتدائية بنات'!G33 -> 0 | H10: ='المرحلة الابتدائية بنات'!H33 -> 0 | I10: ='المرحلة الابتدائية بنات'!I33 -> 0 | J10: ='المرحلة الابتدائية بنات'!J33 -> 0 | K10: ='المرحلة الابتدائية بنات'!K33 -> 0 | L10: ='المرحلة الابتدائية بنات'!L33 -> 0 | M10: ='المرحلة الابتدائية بنات'!M33 -> 0 | N10: ='المرحلة الابتدائية بنات'!N33 -> #DIV/0! | O10: =SUM(P10:U10) -> 0 | V10: =SUM(Q10:U10) -> 0 | W10: =V10/#REF!*100% -> #REF! | AD10: =SUM(Y10:AC10) -> 0 | AE10: =AD10/#REF!*100% -> #REF! | AF10: =(F10-#REF!) -> #REF!
D11: المجموع | F11: =SUM(F9:F10) -> 0 | G11: =SUM(G9:G10) -> 0 | H11: =SUM(H9:H10) -> 0 | I11: =SUM(I9:I10) -> 0 | J11: =SUM(J9:J10) -> 0 | K11: =SUM(K9:K10) -> 0 | L11: =SUM(L9:L10) -> 0 | M11: =SUM(M9:M10) -> 0 | N11: =M11/L11*100% -> #DIV/0! | O11: =SUM(P11:U11) -> 0 | P11: =SUM(P9:P10) -> 0 | Q11: =SUM(Q9:Q10) -> 0 | R11: =SUM(R9:R10) -> 0 | S11: =SUM(S9:S10) -> 0 | T11: =SUM(T9:T10) -> 0 | U11: =SUM(U9:U10) -> 0 | V11: =SUM(Q11:U11) -> 0 | W11: =V11/#REF!*100% -> #REF! | X11: =SUM(X9:X10) -> 0 | Y11: =SUM(Y9:Y10) -> 0 | Z11: =SUM(Z9:Z10) -> 0 | AA11: =SUM(AA9:AA10) -> 0 | AB11: =SUM(AB9:AB10) -> 0 | AC11: =SUM(AC9:AC10) -> 0 | AD11: =SUM(Y11:AC11) -> 0 | AE11: =AD11/#REF!*100% -> #REF! | AF11: =(F11-#REF!) -> #REF!
D13: وزارة التربية | M13: العام الدراسي 2020/ 2021
D14: الإدارة العامة لمنطقة …………………... التعليمية
D16: الصف ( الثاني ) | Y16: الفترة : .................
D17: الفترة : آخر العام
D18: م | E18: الصف | F18: الاجمالى | G18: فئات الدرجات | L18: عدد المتقدمين | M18: عدد الناجحين | N18: النسبة المئوية | O18: متقدم | P18: الامتحان التحريري ( 30 ) | V18: عدد الناجحين | W18: النسبة المئوية | X18: الدرجة النهائية ( 50 ) | AD18: عدد الناجحين | AE18: النسبة المئوية | AF18: غائب
P19: ضعيف | Q19: مقبول | R19: مقبول | S19: جيد | T19: جيدجدا | U19: ممتاز | X19: ضعيف | Y19: مقبول | Z19: مقبول | AA19: جيد | AB19: جيدجدا | AC19: ممتاز
G20: 0 - 49.5 | H20: 50 - 59.5 | I20: 60 - 74.5 | J20: 75 - 89.5 | K20: 90 - 100 | P20: 0 - 14.5 | Q20: 15 | R20: 15.5 - 20.5 | S20: 21 - 26.5 | T20: 27 - 29.5 | U20: 30 | X20: 0 - 24.5 | Y20: 25 | Z20: 25.5 - 34.5 | AA20: 35 - 44.5 | AB20: 45 - 49.5 | AC20: 50
D21: 1 | E21: البنين | G21: ='المرحلة الابتدائية بنين'!G67 -> 0 | H21: ='المرحلة الابتدائية بنين'!H67 -> 0 | I21: ='المرحلة الابتدائية بنين'!I67 -> 0 | J21: ='المرحلة الابتدائية بنين'!J67 -> 0 | K21: ='المرحلة الابتدائية بنين'!K67 -> 0 | L21: ='المرحلة الابتدائية بنين'!L67 -> 0 | M21: ='المرحلة الابتدائية بنين'!M67 -> 0 | N21: ='المرحلة الابتدائية بنين'!N67 -> #DIV/0! | O21: =SUM(P21:U21) -> 0 | V21: =SUM(Q21:U21) -> 0 | W21: =V21/#REF!*100% -> #REF! | AD21: =SUM(Y21:AC21) -> 0 | AE21: =AD21/#REF!*100% -> #REF! | AF21: =(F21-#REF!) -> #REF!
D22: 2 | E22: البنات | G22: ='المرحلة الابتدائية بنات'!G67 -> 0 | H22: ='المرحلة الابتدائية بنات'!H67 -> 0 | I22: ='المرحلة الابتدائية بنات'!I67 -> 0 | J22: ='المرحلة الابتدائية بنات'!J67 -> 0 | K22: ='المرحلة الابتدائية بنات'!K67 -> 0 | L22: ='المرحلة الابتدائية بنات'!L67 -> 0 | M22: ='المرحلة الابتدائية بنات'!M67 -> 0 | N22: ='المرحلة الابتدائية بنات'!N67 -> #DIV/0! | O22: =SUM(P22:U22) -> 0 | V22: =SUM(Q22:U22) -> 0 | W22: =V22/#REF!*100% -> #REF! | AD22: =SUM(Y22:AC22) -> 0 | AE22: =AD22/#REF!*100% -> #REF! | AF22: =(F22-#REF!) -> #REF!
D23: المجموع | F23: =SUM(F21:F22) -> 0 | G23: =SUM(G21:G22) -> 0 | H23: =SUM(H21:H22) -> 0 | I23: =SUM(I21:I22) -> 0 | J23: =SUM(J21:J22) -> 0 | K23: =SUM(K21:K22) -> 0 | L23: =SUM(L21:L22) -> 0 | M23: =SUM(M21:M22) -> 0 | N23: =M23/L23*100% -> #DIV/0! | O23: =SUM(P23:U23) -> 0 | P23: =SUM(P21:P22) -> 0 | Q23: =SUM(Q21:Q22) -> 0 | R23: =SUM(R21:R22) -> 0 | S23: =SUM(S21:S22) -> 0 | T23: =SUM(T21:T22) -> 0 | U23: =SUM(U21:U22) -> 0 | V23: =SUM(Q23:U23) -> 0 | W23: =V23/#REF!*100% -> #REF! | X23: =SUM(X21:X22) -> 0 | Y23: =SUM(Y21:Y22) -> 0 | Z23: =SUM(Z21:Z22) -> 0 | AA23: =SUM(AA21:AA22) -> 0 | AB23: =SUM(AB21:AB22) -> 0 | AC23: =SUM(AC21:AC22) -> 0 | AD23: =SUM(Y23:AC23) -> 0 | AE23: =AD23/#REF!*100% -> #REF! | AF23: =(F23-#REF!) -> #REF!
D24: وزارة التربية | M24: العام الدراسي 2020/ 2021
D25: الإدارة العامة لمنطقة …………………... التعليمية
D27: الصف ( الثالث ) | Y27: الفترة : .................
D28: الفترة : آخر العام
D29: م | F29: الاجمالى | G29: فئات الدرجات | L29: عدد المتقدمين | M29: عدد الناجحين | N29: النسبة المئوية | O29: متقدم | P29: الامتحان التحريري ( 30 ) | V29: عدد الناجحين | W29: النسبة المئوية | X29: الدرجة النهائية ( 50 ) | AD29: عدد الناجحين | AE29: النسبة المئوية | AF29: غائب
P30: ضعيف | Q30: مقبول | R30: مقبول | S30: جيد | T30: جيدجدا | U30: ممتاز | X30: ضعيف | Y30: مقبول | Z30: مقبول | AA30: جيد | AB30: جيدجدا | AC30: ممتاز
G31: 0 - 49.5 | H31: 50 - 59.5 | I31: 60 - 74.5 | J31: 75 - 89.5 | K31: 90 - 100 | P31: 0 - 14.5 | Q31: 15 | R31: 15.5 - 20.5 | S31: 21 - 26.5 | T31: 27 - 29.5 | U31: 30 | X31: 0 - 24.5 | Y31: 25 | Z31: 25.5 - 34.5 | AA31: 35 - 44.5 | AB31: 45 - 49.5 | AC31: 50
D32: 1 | E32: البنين | G32: ='المرحلة الابتدائية بنين'!G101 -> 0 | H32: ='المرحلة الابتدائية بنين'!H101 -> 0 | I32: ='المرحلة الابتدائية بنين'!I101 -> 0 | J32: ='المرحلة الابتدائية بنين'!J101 -> 0 | K32: ='المرحلة الابتدائية بنين'!K101 -> 0 | L32: ='المرحلة الابتدائية بنين'!L101 -> 0 | M32: ='المرحلة الابتدائية بنين'!M101 -> 0 | N32: ='المرحلة الابتدائية بنين'!N101 -> #DIV/0! | O32: =SUM(P32:U32) -> 0 | V32: =SUM(Q32:U32) -> 0 | W32: =V32/#REF!*100% -> #REF! | AD32: =SUM(Y32:AC32) -> 0 | AE32: =AD32/#REF!*100% -> #REF! | AF32: =(F32-#REF!) -> #REF!
D33: 2 | E33: البنات | G33: ='المرحلة الابتدائية بنات'!G101 -> 0 | H33: ='المرحلة الابتدائية بنات'!H101 -> 0 | I33: ='المرحلة الابتدائية بنات'!I101 -> 0 | J33: ='المرحلة الابتدائية بنات'!J101 -> 0 | K33: ='المرحلة الابتدائية بنات'!K101 -> 0 | L33: ='المرحلة الابتدائية بنات'!L101 -> 0 | M33: ='المرحلة الابتدائية بنات'!M101 -> 0 | N33: ='المرحلة الابتدائية بنات'!N101 -> #DIV/0! | O33: =SUM(P33:U33) -> 0 | V33: =SUM(Q33:U33) -> 0 | W33: =V33/#REF!*100% -> #REF! | AD33: =SUM(Y33:AC33) -> 0 | AE33: =AD33/#REF!*100% -> #REF! | AF33: =(F33-#REF!) -> #REF!
D34: المجموع | F34: =SUM(F32:F33) -> 0 | G34: =SUM(G32:G33) -> 0 | H34: =SUM(H32:H33) -> 0 | I34: =SUM(I32:I33) -> 0 | J34: =SUM(J32:J33) -> 0 | K34: =SUM(K32:K33) -> 0 | L34: =SUM(L32:L33) -> 0 | M34: =SUM(M32:M33) -> 0 | N34: =M34/L34*100% -> #DIV/0! | O34: =SUM(P34:U34) -> 0 | P34: =SUM(P32:P33) -> 0 | Q34: =SUM(Q32:Q33) -> 0 | R34: =SUM(R32:R33) -> 0 | S34: =SUM(S32:S33) -> 0 | T34: =SUM(T32:T33) -> 0 | U34: =SUM(U32:U33) -> 0 | V34: =SUM(Q34:U34) -> 0 | W34: =V34/#REF!*100% -> #REF! | X34: =SUM(X32:X33) -> 0 | Y34: =SUM(Y32:Y33) -> 0 | Z34: =SUM(Z32:Z33) -> 0 | AA34: =SUM(AA32:AA33) -> 0 | AB34: =SUM(AB32:AB33) -> 0 | AC34: =SUM(AC32:AC33) -> 0 | AD34: =SUM(Y34:AC34) -> 0 | AE34: =AD34/#REF!*100% -> #REF! | AF34: =(F34-#REF!) -> #REF!
D37: وزارة التربية | M37: العام الدراسي 2020/ 2021
D38: الإدارة العامة لمنطقة …………………... التعليمية
D40: الصف ( الرابع ) | Y40: الفترة : .................
D41: الفترة : آخر العام
D42: م | F42: الاجمالى | G42: فئات الدرجات | L42: عدد المتقدمين | M42: عدد الناجحين | N42: النسبة المئوية | O42: متقدم | P42: الامتحان التحريري ( 30 ) | V42: عدد الناجحين | W42: النسبة المئوية | X42: الدرجة النهائية ( 50 ) | AD42: عدد الناجحين | AE42: النسبة المئوية | AF42: غائب
P43: ضعيف | Q43: مقبول | R43: مقبول | S43: جيد | T43: جيدجدا | U43: ممتاز | X43: ضعيف | Y43: مقبول | Z43: مقبول | AA43: جيد | AB43: جيدجدا | AC43: ممتاز
G44: 0 - 49.5 | H44: 50 - 59.5 | I44: 60 - 74.5 | J44: 75 - 89.5 | K44: 90 - 100 | P44: 0 - 14.5 | Q44: 15 | R44: 15.5 - 20.5 | S44: 21 - 26.5 | T44: 27 - 29.5 | U44: 30 | X44: 0 - 24.5 | Y44: 25 | Z44: 25.5 - 34.5 | AA44: 35 - 44.5 | AB44: 45 - 49.5 | AC44: 50
D45: 1 | E45: البنين | G45: ='المرحلة الابتدائية بنين'!G135 -> 0 | H45: ='المرحلة الابتدائية بنين'!H135 -> 0 | I45: ='المرحلة الابتدائية بنين'!I135 -> 0 | J45: ='المرحلة الابتدائية بنين'!J135 -> 0 | K45: ='المرحلة الابتدائية بنين'!K135 -> 0 | L45: ='المرحلة الابتدائية بنين'!L135 -> 0 | M45: ='المرحلة الابتدائية بنين'!M135 -> 0 | N45: ='المرحلة الابتدائية بنين'!N135 -> #DIV/0! | O45: =SUM(P45:U45) -> 0 | V45: =SUM(Q45:U45) -> 0 | W45: =V45/#REF!*100% -> #REF! | AD45: =SUM(Y45:AC45) -> 0 | AE45: =AD45/#REF!*100% -> #REF! | AF45: =(F45-#REF!) -> #REF!
D46: 2 | E46: البنات | G46: ='المرحلة الابتدائية بنات'!G135 -> 0 | H46: ='المرحلة الابتدائية بنات'!H135 -> 0 | I46: ='المرحلة الابتدائية بنات'!I135 -> 0 | J46: ='المرحلة الابتدائية بنات'!J135 -> 0 | K46: ='المرحلة الابتدائية بنات'!K135 -> 0 | L46: ='المرحلة الابتدائية بنات'!L135 -> 0 | M46: ='المرحلة الابتدائية بنات'!M135 -> 0 | N46: ='المرحلة الابتدائية بنات'!N135 -> #DIV/0! | O46: =SUM(P46:U46) -> 0 | V46: =SUM(Q46:U46) -> 0 | W46: =V46/#REF!*100% -> #REF! | AD46: =SUM(Y46:AC46) -> 0 | AE46: =AD46/#REF!*100% -> #REF! | AF46: =(F46-#REF!) -> #REF!
D47: المجموع | F47: =SUM(F45:F46) -> 0 | G47: =SUM(G45:G46) -> 0 | H47: =SUM(H45:H46) -> 0 | I47: =SUM(I45:I46) -> 0 | J47: =SUM(J45:J46) -> 0 | K47: =SUM(K45:K46) -> 0 | L47: =SUM(L45:L46) -> 0 | M47: =SUM(M45:M46) -> 0 | N47: =M47/L47*100% -> #DIV/0! | O47: =SUM(P47:U47) -> 0 | P47: =SUM(P45:P46) -> 0 | Q47: =SUM(Q45:Q46) -> 0 | R47: =SUM(R45:R46) -> 0 | S47: =SUM(S45:S46) -> 0 | T47: =SUM(T45:T46) -> 0 | U47: =SUM(U45:U46) -> 0 | V47: =SUM(Q47:U47) -> 0 | W47: =V47/#REF!*100% -> #REF! | X47: =SUM(X45:X46) -> 0 | Y47: =SUM(Y45:Y46) -> 0 | Z47: =SUM(Z45:Z46) -> 0 | AA47: =SUM(AA45:AA46) -> 0 | AB47: =SUM(AB45:AB46) -> 0 | AC47: =SUM(AC45:AC46) -> 0 | AD47: =SUM(Y47:AC47) -> 0 | AE47: =AD47/#REF!*100% -> #REF! | AF47: =(F47-#REF!) -> #REF!
D48: وزارة التربية | M48: العام الدراسي 2020/ 2021
D49: الإدارة العامة لمنطقة …………………... التعليمية
D51: الصف ( الخامس ) | Y51: الفترة : .................
D52: الفترة : آخر العام
D53: م | F53: الاجمالى | G53: فئات الدرجات | L53: عدد المتقدمين | M53: عدد الناجحين | N53: النسبة المئوية | O53: متقدم | P53: الامتحان التحريري ( 30 ) | V53: عدد الناجحين | W53: النسبة المئوية | X53: الدرجة النهائية ( 50 ) | AD53: عدد الناجحين | AE53: النسبة المئوية | AF53: غائب
P54: ضعيف | Q54: مقبول | R54: مقبول | S54: جيد | T54: جيدجدا | U54: ممتاز | X54: ضعيف | Y54: مقبول | Z54: مقبول | AA54: جيد | AB54: جيدجدا | AC54: ممتاز
G55: 0 - 49.5 | H55: 50 - 59.5 | I55: 60 - 74.5 | J55: 75 - 89.5 | K55: 90 - 100 | P55: 0 - 14.5 | Q55: 15 | R55: 15.5 - 20.5 | S55: 21 - 26.5 | T55: 27 - 29.5 | U55: 30 | X55: 0 - 24.5 | Y55: 25 | Z55: 25.5 - 34.5 | AA55: 35 - 44.5 | AB55: 45 - 49.5 | AC55: 50
D56: 1 | E56: البنين | G56: ='المرحلة الابتدائية بنين'!G171 -> 0 | H56: ='المرحلة الابتدائية بنين'!H171 -> 0 | I56: ='المرحلة الابتدائية بنين'!I171 -> 0 | J56: ='المرحلة الابتدائية بنين'!J171 -> 0 | K56: ='المرحلة الابتدائية بنين'!K171 -> 0 | L56: ='المرحلة الابتدائية بنين'!L171 -> 0 | M56: ='المرحلة الابتدائية بنين'!M171 -> 0 | N56: ='المرحلة الابتدائية بنين'!N171 -> #DIV/0! | O56: =SUM(P56:U56) -> 0 | V56: =SUM(Q56:U56) -> 0 | W56: =V56/#REF!*100% -> #REF! | AD56: =SUM(Y56:AC56) -> 0 | AE56: =AD56/#REF!*100% -> #REF! | AF56: =(F56-#REF!) -> #REF!
D57: 2 | E57: البنات | G57: ='المرحلة الابتدائية بنات'!G171 -> 0 | H57: ='المرحلة الابتدائية بنات'!H171 -> 0 | I57: ='المرحلة الابتدائية بنات'!I171 -> 0 | J57: ='المرحلة الابتدائية بنات'!J171 -> 0 | K57: ='المرحلة الابتدائية بنات'!K171 -> 0 | L57: ='المرحلة الابتدائية بنات'!L171 -> 0 | M57: ='المرحلة الابتدائية بنات'!M171 -> 0 | N57: ='المرحلة الابتدائية بنات'!N171 -> #DIV/0! | O57: =SUM(P57:U57) -> 0 | V57: =SUM(Q57:U57) -> 0 | W57: =V57/#REF!*100% -> #REF! | AD57: =SUM(Y57:AC57) -> 0 | AE57: =AD57/#REF!*100% -> #REF! | AF57: =(F57-#REF!) -> #REF!
D58: المجموع | F58: =SUM(F56:F57) -> 0 | G58: =SUM(G56:G57) -> 0 | H58: =SUM(H56:H57) -> 0 | I58: =SUM(I56:I57) -> 0 | J58: =SUM(J56:J57) -> 0 | K58: =SUM(K56:K57) -> 0 | L58: =SUM(L56:L57) -> 0 | M58: =SUM(M56:M57) -> 0 | N58: =M58/L58*100% -> #DIV/0! | O58: =SUM(P58:U58) -> 0 | P58: =SUM(P56:P57) -> 0 | Q58: =SUM(Q56:Q57) -> 0 | R58: =SUM(R56:R57) -> 0 | S58: =SUM(S56:S57) -> 0 | T58: =SUM(T56:T57) -> 0 | U58: =SUM(U56:U57) -> 0 | V58: =SUM(Q58:U58) -> 0 | W58: =V58/#REF!*100% -> #REF! | X58: =SUM(X56:X57) -> 0 | Y58: =SUM(Y56:Y57) -> 0 | Z58: =SUM(Z56:Z57) -> 0 | AA58: =SUM(AA56:AA57) -> 0 | AB58: =SUM(AB56:AB57) -> 0 | AC58: =SUM(AC56:AC57) -> 0 | AD58: =SUM(Y58:AC58) -> 0 | AE58: =AD58/#REF!*100% -> #REF! | AF58: =(F58-#REF!) -> #REF!
