Workbook

Sheet المرحلة الابتدائية بنين
D1: وزارة التربية | M1: العام الدراسي 2020/ 2021
D2: الإدارة العامة لمنطقة …………………... التعليمية
D4: الصف ( الأول ) | Y4: الفترة : .................
D5: الفترة : آخر العام
D6: م | E6: المدرسة | F6: الاجمالى | G6: فئات الدرجات | L6: عدد المتقدمين | M6: عدد الناجحين | N6: النسبة المئوية | O6: متقدم | P6: الامتحان التحريري ( 30 ) | V6: عدد الناجحين | W6: النسبة المئوية | X6: الدرجة النهائية ( 50 ) | AD6: عدد الناجحين | AE6: النسبة المئوية | AF6: غائب
P7: ضعيف | Q7: مقبول | R7: مقبول | S7: جيد | T7: جيدجدا | U7: ممتاز | X7: ضعيف | Y7: مقبول | Z7: مقبول | AA7: جيد | AB7: جيدجدا | AC7: ممتاز
G8: 0 - 49.5 | H8: 50 - 59.5 | I8: 60 - 74.5 | J8: 75 - 89.5 | K8: 90 - 100 | P8: 0 - 14.5 | Q8: 15 | R8: 15.5 - 20.5 | S8: 21 - 26.5 | T8: 27 - 29.5 | U8: 30 | X8: 0 - 24.5 | Y8: 25 | Z8: 25.5 - 34.5 | AA8: 35 - 44.5 | AB8: 45 - 49.5 | AC8: 50
D9: 1 | L9: =SUM(G9:K9) -> 0 | N9: =M9/L9*100% -> #DIV/0! | O9: =SUM(P9:U9) -> 0 | V9: =SUM(Q9:U9) -> 0 | W9: =V9/#REF!*100% -> #REF! | AD9: =SUM(Y9:AC9) -> 0 | AE9: =AD9/#REF!*100% -> #REF! | AF9: =(F9-#REF!) -> #REF!
D10: 2 | L10: =SUM(G10:K10) -> 0 | N10: =M10/L10*100% -> #DIV/0! | O10: =SUM(P10:U10) -> 0 | V10: =SUM(Q10:U10) -> 0 | W10: =V10/#REF!*100% -> #REF! | AD10: =SUM(Y10:AC10) -> 0 | AE10: =AD10/#REF!*100% -> #REF! | AF10: =(F10-#REF!) -> #REF!
D11: 3 | L11: =SUM(G11:K11) -> 0 | N11: =M11/L11*100% -> #DIV/0! | O11: =SUM(P11:U11) -> 0 | V11: =SUM(Q11:U11) -> 0 | W11: =V11/#REF!*100% -> #REF! | AD11: =SUM(Y11:AC11) -> 0 | AE11: =AD11/#REF!*100% -> #REF! | AF11: =(F11-#REF!) -> #REF!
D12: 4 | L12: =SUM(G12:K12) -> 0 | N12: =M12/L12*100% -> #DIV/0! | O12: =SUM(P12:U12) -> 0 | V12: =SUM(Q12:U12) -> 0 | W12: =V12/#REF!*100% -> #REF! | AD12: =SUM(Y12:AC12) -> 0 | AE12: =AD12/#REF!*100% -> #REF! | AF12: =(F12-#REF!) -> #REF!
D13: 5 | L13: =SUM(G13:K13) -> 0 | N13: =M13/L13*100% -> #DIV/0! | O13: =SUM(P13:U13) -> 0 | V13: =SUM(Q13:U13) -> 0 | W13: =V13/#REF!*100% -> #REF! | AD13: =SUM(Y13:AC13) -> 0 | AE13: =AD13/#REF!*100% -> #REF! | AF13: =(F13-#REF!) -> #REF!
D14: 6 | L14: =SUM(G14:K14) -> 0 | N14: =M14/L14*100% -> #DIV/0! | O14: =SUM(P14:U14) -> 0 | V14: =SUM(Q14:U14) -> 0 | W14: =V14/#REF!*100% -> #REF! | AD14: =SUM(Y14:AC14) -> 0 | AE14: =AD14/#REF!*100% -> #REF! | AF14: =(F14-#REF!) -> #REF!
D15: 7 | L15: =SUM(G15:K15) -> 0 | N15: =M15/L15*100% -> #DIV/0! | O15: =SUM(P15:U15) -> 0 | V15: =SUM(Q15:U15) -> 0 | W15: =V15/#REF!*100% -> #REF! | AD15: =SUM(Y15:AC15) -> 0 | AE15: =AD15/#REF!*100% -> #REF! | AF15: =(F15-#REF!) -> #REF!
D16: 8 | L16: =SUM(G16:K16) -> 0 | N16: =M16/L16*100% -> #DIV/0! | O16: =SUM(P16:U16) -> 0 | V16: =SUM(Q16:U16) -> 0 | W16: =V16/#REF!*100% -> #REF! | AD16: =SUM(Y16:AC16) -> 0 | AE16: =AD16/#REF!*100% -> #REF! | AF16: =(F16-#REF!) -> #REF!
D17: 9 | L17: =SUM(G17:K17) -> 0 | N17: =M17/L17*100% -> #DIV/0! | O17: =SUM(P17:U17) -> 0 | V17: =SUM(Q17:U17) -> 0 | W17: =V17/#REF!*100% -> #REF! | AD17: =SUM(Y17:AC17) -> 0 | AE17: =AD17/#REF!*100% -> #REF! | AF17: =(F17-#REF!) -> #REF!
D18: 10 | L18: =SUM(G18:K18) -> 0 | N18: =M18/L18*100% -> #DIV/0! | O18: =SUM(P18:U18) -> 0 | V18: =SUM(Q18:U18) -> 0 | W18: =V18/#REF!*100% -> #REF! | AD18: =SUM(Y18:AC18) -> 0 | AE18: =AD18/#REF!*100% -> #REF! | AF18: =(F18-#REF!) -> #REF!
D19: 11 | L19: =SUM(G19:K19) -> 0 | N19: =M19/L19*100% -> #DIV/0! | O19: =SUM(P19:U19) -> 0 | V19: =SUM(Q19:U19) -> 0 | W19: =V19/#REF!*100% -> #REF! | AD19: =SUM(Y19:AC19) -> 0 | AE19: =AD19/#REF!*100% -> #REF! | AF19: =(F19-#REF!) -> #REF!
D20: 12 | L20: =SUM(G20:K20) -> 0 | N20: =M20/L20*100% -> #DIV/0! | O20: =SUM(P20:U20) -> 0 | V20: =SUM(Q20:U20) -> 0 | W20: =V20/#REF!*100% -> #REF! | AD20: =SUM(Y20:AC20) -> 0 | AE20: =AD20/#REF!*100% -> #REF! | AF20: =(F20-#REF!) -> #REF!
... D32: 24 | L32: =SUM(G32:K32) -> 0 | N32: =M32/L32*100% -> #DIV/0! | O32: =SUM(P32:U32) -> 0 | V32: =SUM(Q32:U32) -> 0 | W32: =V32/#REF!*100% -> #REF! | AD32: =SUM(Y32:AC32) -> 0 | AE32: =AD32/#REF!*100% -> #REF! | AF32: =(F32-#REF!) -> #REF!
D33: المجموع | F33: =SUM(F9:F32) -> 0 | G33: =SUM(G9:G32) -> 0 | H33: =SUM(H9:H32) -> 0 | I33: =SUM(I9:I32) -> 0 | J33: =SUM(J9:J32) -> 0 | K33: =SUM(K9:K32) -> 0 | L33: =SUM(L9:L32) -> 0 | M33: =SUM(M9:M32) -> 0 | N33: =M33/L33*100% -> #DIV/0! | O33: =SUM(P33:U33) -> 0 | P33: =SUM(P9:P32) -> 0 | Q33: =SUM(Q9:Q32) -> 0 | R33: =SUM(R9:R32) -> 0 | S33: =SUM(S9:S32) -> 0 | T33: =SUM(T9:T32) -> 0 | U33: =SUM(U9:U32) -> 0 | V33: =SUM(Q33:U33) -> 0 | W33: =V33/#REF!*100% -> #REF! | X33: =SUM(X9:X32) -> 0 | Y33: =SUM(Y9:Y32) -> 0 | Z33: =SUM(Z9:Z32) -> 0 | AA33: =SUM(AA9:AA32) -> 0 | AB33: =SUM(AB9:AB32) -> 0 | AC33: =SUM(AC9:AC32) -> 0 | AD33: =SUM(Y33:AC33) -> 0 | AE33: =AD33/#REF!*100% -> #REF! | AF33: =(F33-#REF!) -> #REF!
D35: وزارة التربية | M35: العام الدراسي 2020/ 2021
D36: الإدارة العامة لمنطقة …………………... التعليمية
D38: الصف ( الثاني ) | Y38: الفترة : .................
D39: الفترة : آخر العام
D40: م | E40: المدرسة | F40: الاجمالى | G40: فئات الدرجات | L40: عدد المتقدمين | M40: عدد الناجحين | N40: النسبة المئوية | O40: متقدم | P40: الامتحان التحريري ( 30 ) | V40: عدد الناجحين | W40: النسبة المئوية | X40: الدرجة النهائية ( 50 ) | AD40: عدد الناجحين | AE40: النسبة المئوية | AF40: غائب
P41: ضعيف | Q41: مقبول | R41: مقبول | S41: جيد | T41: جيدجدا | U41: ممتاز | X41: ضعيف | Y41: مقبول | Z41: مقبول | AA41: جيد | AB41: جيدجدا | AC41: ممتاز
G42: 0 - 49.5 | H42: 50 - 59.5 | I42: 60 - 74.5 | J42: 75 - 89.5 | K42: 90 - 100 | P42: 0 - 14.5 | Q42: 15 | R42: 15.5 - 20.5 | S42: 21 - 26.5 | T42: 27 - 29.5 | U42: 30 | X42: 0 - 24.5 | Y42: 25 | Z42: 25.5 - 34.5 | AA42: 35 - 44.5 | AB42: 45 - 49.5 | AC42: 50
D43: 1 | L43: =SUM(G43:K43) -> 0 | N43: =M43/L43*100% -> #DIV/0! | O43: =SUM(P43:U43) -> 0 | V43: =SUM(Q43:U43) -> 0 | W43: =V43/#REF!*100% -> #REF! | AD43: =SUM(Y43:AC43) -> 0 | AE43: =AD43/#REF!*100% -> #REF! | AF43: =(F43-#REF!) -> #REF!
D44: 2 | L44: =SUM(G44:K44) -> 0 | N44: =M44/L44*100% -> #DIV/0! | O44: =SUM(P44:U44) -> 0 | V44: =SUM(Q44:U44) -> 0 | W44: =V44/#REF!*100% -> #REF! | AD44: =SUM(Y44:AC44) -> 0 | AE44: =AD44/#REF!*100% -> #REF! | AF44: =(F44-#REF!) -> #REF!
D45: 3 | L45: =SUM(G45:K45) -> 0 | N45: =M45/L45*100% -> #DIV/0! | O45: =SUM(P45:U45) -> 0 | V45: =SUM(Q45:U45) -> 0 | W45: =V45/#REF!*100% -> #REF! | AD45: =SUM(Y45:AC45) -> 0 | AE45: =AD45/#REF!*100% -> #REF! | AF45: =(F45-#REF!) -> #REF!
D46: 4 | L46: =SUM(G46:K46) -> 0 | N46: =M46/L46*100% -> #DIV/0! | O46: =SUM(P46:U46) -> 0 | V46: =SUM(Q46:U46) -> 0 | W46: =V46/#REF!*100% -> #REF! | AD46: =SUM(Y46:AC46) -> 0 | AE46: =AD46/#REF!*100% -> #REF! | AF46: =(F46-#REF!) -> #REF!
D47: 5 | L47: =SUM(G47:K47) -> 0 | N47: =M47/L47*100% -> #DIV/0! | O47: =SUM(P47:U47) -> 0 | V47: =SUM(Q47:U47) -> 0 | W47: =V47/#REF!*100% -> #REF! | AD47: =SUM(Y47:AC47) -> 0 | AE47: =AD47/#REF!*100% -> #REF! | AF47: =(F47-#REF!) -> #REF!
D48: 6 | L48: =SUM(G48:K48) -> 0 | N48: =M48/L48*100% -> #DIV/0! | O48: =SUM(P48:U48) -> 0 | V48: =SUM(Q48:U48) -> 0 | W48: =V48/#REF!*100% -> #REF! | AD48: =SUM(Y48:AC48) -> 0 | AE48: =AD48/#REF!*100% -> #REF! | AF48: =(F48-#REF!) -> #REF!
D49: 7 | L49: =SUM(G49:K49) -> 0 | N49: =M49/L49*100% -> #DIV/0! | O49: =SUM(P49:U49) -> 0 | V49: =SUM(Q49:U49) -> 0 | W49: =V49/#REF!*100% -> #REF! | AD49: =SUM(Y49:AC49) -> 0 | AE49: =AD49/#REF!*100% -> #REF! | AF49: =(F49-#REF!) -> #REF!
D50: 8 | L50: =SUM(G50:K50) -> 0 | N50: =M50/L50*100% -> #DIV/0! | O50: =SUM(P50:U50) -> 0 | V50: =SUM(Q50:U50) -> 0 | W50: =V50/#REF!*100% -> #REF! | AD50: =SUM(Y50:AC50) -> 0 | AE50: =AD50/#REF!*100% -> #REF! | AF50: =(F50-#REF!) -> #REF!
D51: 9 | L51: =SUM(G51:K51) -> 0 | N51: =M51/L51*100% -> #DIV/0! | O51: =SUM(P51:U51) -> 0 | V51: =SUM(Q51:U51) -> 0 | W51: =V51/#REF!*100% -> #REF! | AD51: =SUM(Y51:AC51) -> 0 | AE51: =AD51/#REF!*100% -> #REF! | AF51: =(F51-#REF!) -> #REF!
D52: 10 | L52: =SUM(G52:K52) -> 0 | N52: =M52/L52*100% -> #DIV/0! | O52: =SUM(P52:U52) -> 0 | V52: =SUM(Q52:U52) -> 0 | W52: =V52/#REF!*100% -> #REF! | AD52: =SUM(Y52:AC52) -> 0 | AE52: =AD52/#REF!*100% -> #REF! | AF52: =(F52-#REF!) -> #REF!
D53: 11 | L53: =SUM(G53:K53) -> 0 | N53: =M53/L53*100% -> #DIV/0! | O53: =SUM(P53:U53) -> 0 | V53: =SUM(Q53:U53) -> 0 | W53: =V53/#REF!*100% -> #REF! | AD53: =SUM(Y53:AC53) -> 0 | AE53: =AD53/#REF!*100% -> #REF! | AF53: =(F53-#REF!) -> #REF!
D54: 12 | L54: =SUM(G54:K54) -> 0 | N54: =M54/L54*100% -> #DIV/0! | O54: =SUM(P54:U54) -> 0 | V54: =SUM(Q54:U54) -> 0 | W54: =V54/#REF!*100% -> #REF! | AD54: =SUM(Y54:AC54) -> 0 | AE54: =AD54/#REF!*100% -> #REF! | AF54: =(F54-#REF!) -> #REF!
...

Sheet المرحلة الابتدائية بنات
D1: وزارة التربية | M1: العام الدراسي 2020/ 2021
D2: الإدارة العامة لمنطقة …………………... التعليمية
D4: الصف ( الأول ) | Y4: الفترة : .................
D5: الفترة : آخر العام
D6: م | E6: المدرسة | F6: الاجمالى | G6: فئات الدرجات | L6: عدد المتقدمين | M6: عدد الناجحين | N6: النسبة المئوية | O6: متقدم | P6: الامتحان التحريري ( 30 ) | V6: عدد الناجحين | W6: النسبة المئوية | X6: الدرجة النهائية ( 50 ) | AD6: عدد الناجحين | AE6: النسبة المئوية | AF6: غائب
P7: ضعيف | Q7: مقبول | R7: مقبول | S7: جيد | T7: جيدجدا | U7: ممتاز | X7: ضعيف | Y7: مقبول | Z7: مقبول | AA7: جيد | AB7: جيدجدا | AC7: ممتاز
G8: 0 - 49.5 | H8: 50 - 59.5 | I8: 60 - 74.5 | J8: 75 - 89.5 | K8: 90 - 100 | P8: 0 - 14.5 | Q8: 15 | R8: 15.5 - 20.5 | S8: 21 - 26.5 | T8: 27 - 29.5 | U8: 30 | X8: 0 - 24.5 | Y8: 25 | Z8: 25.5 - 34.5 | AA8: 35 - 44.5 | AB8: 45 - 49.5 | AC8: 50
D9: 1 | L9: =SUM(G9:K9) -> 0 | N9: =M9/L9*100% -> #DIV/0! | O9: =SUM(P9:U9) -> 0 | V9: =SUM(Q9:U9) -> 0 | W9: =V9/#REF!*100% -> #REF! | AD9: =SUM(Y9:AC9) -> 0 | AE9: =AD9/#REF!*100% -> #REF! | AF9: =(F9-#REF!) -> #REF!
D10: 2 | L10: =SUM(G10:K10) -> 0 | N10: =M10/L10*100% -> #DIV/0! | O10: =SUM(P10:U10) -> 0 | V10: =SUM(Q10:U10) -> 0 | W10: =V10/#REF!*100% -> #REF! | AD10: =SUM(Y10:AC10) -> 0 | AE10: =AD10/#REF!*100% -> #REF! | AF10: =(F10-#REF!) -> #REF!
D11: 3 | L11: =SUM(G11:K11) -> 0 | N11: =M11/L11*100% -> #DIV/0! | O11: =SUM(P11:U11) -> 0 | V11: =SUM(Q11:U11) -> 0 | W11: =V11/#REF!*100% -> #REF! | AD11: =SUM(Y11:AC11) -> 0 | AE11: =AD11/#REF!*100% -> #REF! | AF11: =(F11-#REF!) -> #REF!
D12: 4 | L12: =SUM(G12:K12) -> 0 | N12: =M12/L12*100% -> #DIV/0! | O12: =SUM(P12:U12) -> 0 | V12: =SUM(Q12:U12) -> 0 | W12: =V12/#REF!*100% -> #REF! | AD12: =SUM(Y12:AC12) -> 0 | AE12: =AD12/#REF!*100% -> #REF! | AF12: =(F12-#REF!) -> #REF!
D13: 5 | L13: =SUM(G13:K13) -> 0 | N13: =M13/L13*100% -> #DIV/0! | O13: =SUM(P13:U13) -> 0 | V13: =SUM(Q13:U13) -> 0 | W13: =V13/#REF!*100% -> #REF! | AD13: =SUM(Y13:AC13) -> 0 | AE13: =AD13/#REF!*100% -> #REF! | AF13: =(F13-#REF!) -> #REF!
D14: 6 | L14: =SUM(G14:K14) -> 0 | N14: =M14/L14*100% -> #DIV/0! | O14: =SUM(P14:U14) -> 0 | V14: =SUM(Q14:U14) -> 0 | W14: =V14/#REF!*100% -> #REF! | AD14: =SUM(Y14:AC14) -> 0 | AE14: =AD14/#REF!*100% -> #REF! | AF14: =(F14-#REF!) -> #REF!
D15: 7 | L15: =SUM(G15:K15) -> 0 | N15: =M15/L15*100% -> #DIV/0! | O15: =SUM(P15:U15) -> 0 | V15: =SUM(Q15:U15) -> 0 | W15: =V15/#REF!*100% -> #REF! | AD15: =SUM(Y15:AC15) -> 0 | AE15: =AD15/#REF!*100% -> #REF! | AF15: =(F15-#REF!) -> #REF!
D16: 8 | L16: =SUM(G16:K16) -> 0 | N16: =M16/L16*100% -> #DIV/0! | O16: =SUM(P16:U16) -> 0 | V16: =SUM(Q16:U16) -> 0 | W16: =V16/#REF!*100% -> #REF! | AD16: =SUM(Y16:AC16) -> 0 | AE16: =AD16/#REF!*100% -> #REF! | AF16: =(F16-#REF!) -> #REF!
D17: 9 | L17: =SUM(G17:K17) -> 0 | N17: =M17/L17*100% -> #DIV/0! | O17: =SUM(P17:U17) -> 0 | V17: =SUM(Q17:U17) -> 0 | W17: =V17/#REF!*100% -> #REF! | AD17: =SUM(Y17:AC17) -> 0 | AE17: =AD17/#REF!*100% -> #REF! | AF17: =(F17-#REF!) -> #REF!
D18: 10 | L18: =SUM(G18:K18) -> 0 | N18: =M18/L18*100% -> #DIV/0! | O18: =SUM(P18:U18) -> 0 | V18: =SUM(Q18:U18) -> 0 | W18: =V18/#REF!*100% -> #REF! | AD18: =SUM(Y18:AC18) -> 0 | AE18: =AD18/#REF!*100% -> #REF! | AF18: =(F18-#REF!) -> #REF!
D19: 11 | L19: =SUM(G19:K19) -> 0 | N19: =M19/L19*100% -> #DIV/0! | O19: =SUM(P19:U19) -> 0 | V19: =SUM(Q19:U19) -> 0 | W19: =V19/#REF!*100% -> #REF! | AD19: =SUM(Y19:AC19) -> 0 | AE19: =AD19/#REF!*100% -> #REF! | AF19: =(F19-#REF!) -> #REF!
D20: 12 | L20: =SUM(G20:K20) -> 0 | N20: =M20/L20*100% -> #DIV/0! | O20: =SUM(P20:U20) -> 0 | V20: =SUM(Q20:U20) -> 0 | W20: =V20/#REF!*100% -> #REF! | AD20: =SUM(Y20:AC20) -> 0 | AE20: =AD20/#REF!*100% -> #REF! | AF20: =(F20-#REF!) -> #REF!
... D32: 24 | L32: =SUM(G32:K32) -> 0 | N32: =M32/L32*100% -> #DIV/0! | O32: =SUM(P32:U32) -> 0 | V32: =SUM(Q32:U32) -> 0 | W32: =V32/#REF!*100% -> #REF! | AD32: =SUM(Y32:AC32) -> 0 | AE32: =AD32/#REF!*100% -> #REF! | AF32: =(F32-#REF!) -> #REF!
D33: المجموع | F33: =SUM(F9:F32) -> 0 | G33: =SUM(G9:G32) -> 0 | H33: =SUM(H9:H32) -> 0 | I33: =SUM(I9:I32) -> 0 | J33: =SUM(J9:J32) -> 0 | K33: =SUM(K9:K32) -> 0 | L33: =SUM(L9:L32) -> 0 | M33: =SUM(M9:M32) -> 0 | N33: =M33/L33*100% -> #DIV/0! | O33: =SUM(P33:U33) -> 0 | P33: =SUM(P9:P32) -> 0 | Q33: =SUM(Q9:Q32) -> 0 | R33: =SUM(R9:R32) -> 0 | S33: =SUM(S9:S32) -> 0 | T33: =SUM(T9:T32) -> 0 | U33: =SUM(U9:U32) -> 0 | V33: =SUM(Q33:U33) -> 0 | W33: =V33/#REF!*100% -> #REF! | X33: =SUM(X9:X32) -> 0 | Y33: =SUM(Y9:Y32) -> 0 | Z33: =SUM(Z9:Z32) -> 0 | AA33: =SUM(AA9:AA32) -> 0 | AB33: =SUM(AB9:AB32) -> 0 | AC33: =SUM(AC9:AC32) -> 0 | AD33: =SUM(Y33:AC33) -> 0 | AE33: =AD33/#REF!*100% -> #REF! | AF33: =(F33-#REF!) -> #REF!
D35: وزارة التربية | M35: العام الدراسي 2020/ 2021
D36: الإدارة العامة لمنطقة …………………... التعليمية
D38: الصف ( الثاني ) | Y38: الفترة : .................
D39: الفترة : آخر العام
D40: م | E40: المدرسة | F40: الاجمالى | G40: فئات الدرجات | L40: عدد المتقدمين | M40: عدد الناجحين | N40: النسبة المئوية | O40: متقدم | P40: الامتحان التحريري ( 30 ) | V40: عدد الناجحين | W40: النسبة المئوية | X40: الدرجة النهائية ( 50 ) | AD40: عدد الناجحين | AE40: النسبة المئوية | AF40: غائب
P41: ضعيف | Q41: مقبول | R41: مقبول | S41: جيد | T41: جيدجدا | U41: ممتاز | X41: ضعيف | Y41: مقبول | Z41: مقبول | AA41: جيد | AB41: جيدجدا | AC41: ممتاز
G42: 0 - 49.5 | H42: 50 - 59.5 | I42: 60 - 74.5 | J42: 75 - 89.5 | K42: 90 - 100 | P42: 0 - 14.5 | Q42: 15 | R42: 15.5 - 20.5 | S42: 21 - 26.5 | T42: 27 - 29.5 | U42: 30 | X42: 0 - 24.5 | Y42: 25 | Z42: 25.5 - 34.5 | AA42: 35 - 44.5 | AB42: 45 - 49.5 | AC42: 50
D43: 1 | L43: =SUM(G43:K43) -> 0 | N43: =M43/L43*100% -> #DIV/0! | O43: =SUM(P43:U43) -> 0 | V43: =SUM(Q43:U43) -> 0 | W43: =V43/#REF!*100% -> #REF! | AD43: =SUM(Y43:AC43) -> 0 | AE43: =AD43/#REF!*100% -> #REF! | AF43: =(F43-#REF!) -> #REF!
D44: 2 | L44: =SUM(G44:K44) -> 0 | N44: =M44/L44*100% -> #DIV/0! | O44: =SUM(P44:U44) -> 0 | V44: =SUM(Q44:U44) -> 0 | W44: =V44/#REF!*100% -> #REF! | AD44: =SUM(Y44:AC44) -> 0 | AE44: =AD44/#REF!*100% -> #REF! | AF44: =(F44-#REF!) -> #REF!
D45: 3 | L45: =SUM(G45:K45) -> 0 | N45: =M45/L45*100% -> #DIV/0! | O45: =SUM(P45:U45) -> 0 | V45: =SUM(Q45:U45) -> 0 | W45: =V45/#REF!*100% -> #REF! | AD45: =SUM(Y45:AC45) -> 0 | AE45: =AD45/#REF!*100% -> #REF! | AF45: =(F45-#REF!) -> #REF!
D46: 4 | L46: =SUM(G46:K46) -> 0 | N46: =M46/L46*100% -> #DIV/0! | O46: =SUM(P46:U46) -> 0 | V46: =SUM(Q46:U46) -> 0 | W46: =V46/#REF!*100% -> #REF! | AD46: =SUM(Y46:AC46) -> 0 | AE46: =AD46/#REF!*100% -> #REF! | AF46: =(F46-#REF!) -> #REF!
D47: 5 | L47: =SUM(G47:K47) -> 0 | N47: =M47/L47*100% -> #DIV/0! | O47: =SUM(P47:U47) -> 0 | V47: =SUM(Q47:U47) -> 0 | W47: =V47/#REF!*100% -> #REF! | AD47: =SUM(Y47:AC47) -> 0 | AE47: =AD47/#REF!*100% -> #REF! | AF47: =(F47-#REF!) -> #REF!
D48: 6 | L48: =SUM(G48:K48) -> 0 | N48: =M48/L48*100% -> #DIV/0! | O48: =SUM(P48:U48) -> 0 | V48: =SUM(Q48:U48) -> 0 | W48: =V48/#REF!*100% -> #REF! | AD48: =SUM(Y48:AC48) -> 0 | AE48: =AD48/#REF!*100% -> #REF! | AF48: =(F48-#REF!) -> #REF!
D49: 7 | L49: =SUM(G49:K49) -> 0 | N49: =M49/L49*100% -> #DIV/0! | O49: =SUM(P49:U49) -> 0 | V49: =SUM(Q49:U49) -> 0 | W49: =V49/#REF!*100% -> #REF! | AD49: =SUM(Y49:AC49) -> 0 | AE49: =AD49/#REF!*100% -> #REF! | AF49: =(F49-#REF!) -> #REF!
D50: 8 | L50: =SUM(G50:K50) -> 0 | N50: =M50/L50*100% -> #DIV/0! | O50: =SUM(P50:U50) -> 0 | V50: =SUM(Q50:U50) -> 0 | W50: =V50/#REF!*100% -> #REF! | AD50: =SUM(Y50:AC50) -> 0 | AE50: =AD50/#REF!*100% -> #REF! | AF50: =(F50-#REF!) -> #REF!
D51: 9 | L51: =SUM(G51:K51) -> 0 | N51: =M51/L51*100% -> #DIV/0! | O51: =SUM(P51:U51) -> 0 | V51: =SUM(Q51:U51) -> 0 | W51: =V51/#REF!*100% -> #REF! | AD51: =SUM(Y51:AC51) -> 0 | AE51: =AD51/#REF!*100% -> #REF! | AF51: =(F51-#REF!) -> #REF!
D52: 10 | L52: =SUM(G52:K52) -> 0 | N52: =M52/L52*100% -> #DIV/0! | O52: =SUM(P52:U52) -> 0 | V52: =SUM(Q52:U52) -> 0 | W52: =V52/#REF!*100% -> #REF! | AD52: =SUM(Y52:AC52) -> 0 | AE52: =AD52/#REF!*100% -> #REF! | AF52: =(F52-#REF!) -> #REF!
D53: 11 | L53: =SUM(G53:K53) -> 0 | N53: =M53/L53*100% -> #DIV/0! | O53: =SUM(P53:U53) -> 0 | V53: =SUM(Q53:U53) -> 0 | W53: =V53/#REF!*100% -> #REF! | AD53: =SUM(Y53:AC53) -> 0 | AE53: =AD53/#REF!*100% -> #REF! | AF53: =(F53-#REF!) -> #REF!
D54: 12 | L54: =SUM(G54:K54) -> 0 | N54: =M54/L54*100% -> #DIV/0! | O54: =SUM(P54:U54) -> 0 | V54: =SUM(Q54:U54) -> 0 | W54: =V54/#REF!*100% -> #REF! | AD54: =SUM(Y54:AC54) -> 0 | AE54: =AD54/#REF!*100% -> #REF! | AF54: =(F54-#REF!) -> #REF!
...

Sheet تجميع (5) آخر العام 
D1: وزارة التربية | M1: العام الدراسي 2020/ 2021
D2: الإدارة العامة لمنطقة …………………... التعليمية
D4: الصف ( الأول ) | Y4: الفترة : .................
D5: الفترة : آخر العام
D6: م | F6: الاجمالى | G6: فئات الدرجات | L6: عدد المتقدمين | M6: عدد الناجحين | N6: النسبة المئوية | O6: متقدم | P6: الامتحان التحريري ( 30 ) | V6: عدد الناجحين | W6: النسبة المئوية | X6: الدرجة النهائية ( 50 ) | AD6: عدد الناجحين | AE6: النسبة المئوية | AF6: غائب
P7: ضعيف | Q7: مقبول | R7: مقبول | S7: جيد | T7: جيدجدا | U7: ممتاز | X7: ضعيف | Y7: مقبول | Z7: مقبول | AA7: جيد | AB7: جيدجدا | AC7: ممتاز
G8: 0 - 49.5 | H8: 50 - 59.5 | I8: 60 - 74.5 | J8: 75 - 89.5 | K8: 90 - 100 | P8: 0 - 14.5 | Q8: 15 | R8: 15.5 - 20.5 | S8: 21 - 26.5 | T8: 27 - 29.5 | U8: 30 | X8: 0 - 24.5 | Y8: 25 | Z8: 25.5 - 34.5 | AA8: 35 - 44.5 | AB8: 45 - 49.5 | AC8: 50
D9: 1 | E9: البنين | G9: ='المرحلة الابتدائية بنين'!G33 -> 0 | H9: ='المرحلة الابتدائية بنين'!H33 -> 0 | I9: ='المرحلة الابتدائية بنين'!I33 -> 0 | J9: ='المرحلة الابتدائية بنين'!J33 -> 0 | K9: ='المرحلة الابتدائية بنين'!K33 -> 0 | L9: ='المرحلة الابتدائية بنين'!L33 -> 0 | M9: ='المرحلة الابتدائية بنين'!M33 -> 0 | N9: ='المرحلة الابتدائية بنين'!N33 -> #DIV/0! | O9: =SUM(P9:U9) -> 0 | V9: =SUM(Q9:U9) -> 0 | W9: =V9/#REF!*100% -> #REF! | AD9: =SUM(Y9:AC9) -> 0 | AE9: =AD9/#REF!*100% -> #REF! | AF9: =(F9-#REF!) -> #REF!
D10: 2 | E10: البنات | G10: ='المرحلة الابتدائية بنات'!G33 -> 0 | H10: ='المرحلة الابتدائية بنات'!H33 -> 0 | I10: ='المرحلة الابتدائية بنات'!I33 -> 0 | J10: ='المرحلة الابتدائية بنات'!J33 -> 0 | K10: ='المرحلة الابتدائية بنات'!K33 -> 0 | L10: ='المرحلة الابتدائية بنات'!L33 -> 0 | M10: ='المرحلة الابتدائية بنات'!M33 -> 0 | N10: ='المرحلة الابتدائية بنات'!N33 -> #DIV/0! | O10: =SUM(P10:U10) -> 0 | V10: =SUM(Q10:U10) -> 0 | W10: =V10/#REF!*100% -> #REF! | AD10: =SUM(Y10:AC10) -> 0 | AE10: =AD10/#REF!*100% -> #REF! | AF10: =(F10-#REF!) -> #REF!
D11: المجموع | F11: =SUM(F9:F10) -> 0 | G11: =SUM(G9:G10) -> 0 | H11: =SUM(H9:H10) -> 0 | I11: =SUM(I9:I10) -> 0 | J11: =SUM(J9:J10) -> 0 | K11: =SUM(K9:K10) -> 0 | L11: =SUM(L9:L10) -> 0 | M11: =SUM(M9:M10) -> 0 | N11: =M11/L11*100% -> #DIV/0! | O11: =SUM(P11:U11) -> 0 | P11: =SUM(P9:P10) -> 0 | Q11: =SUM(Q9:Q10) -> 0 | R11: =SUM(R9:R10) -> 0 | S11: =SUM(S9:S10) -> 0 | T11: =SUM(T9:T10) -> 0 | U11: =SUM(U9:U10) -> 0 | V11: =SUM(Q11:U11) -> 0 | W11: =V11/#REF!*100% -> #REF! | X11: =SUM(X9:X10) -> 0 | Y11: =SUM(Y9:Y10) -> 0 | Z11: =SUM(Z9:Z10) -> 0 | AA11: =SUM(AA9:AA10) -> 0 | AB11: =SUM(AB9:AB10) -> 0 | AC11: =SUM(AC9:AC10) -> 0 | AD11: =SUM(Y11:AC11) -> 0 | AE11: =AD11/#REF!*100% -> #REF! | AF11: =(F11-#REF!) -> #REF!
D13: وزارة التربية | M13: العام الدراسي 2020/ 2021
D14: الإدارة العامة لمنطقة …………………... التعليمية
D16: الصف ( الثاني ) | Y16: الفترة : .................
D17: الفترة : آخر العام
D18: م | E18: الصف | F18: الاجمالى | G18: فئات الدرجات | L18: عدد المتقدمين | M18: عدد الناجحين | N18: النسبة المئوية | O18: متقدم | P18: الامتحان التحريري ( 30 ) | V18: عدد الناجحين | W18: النسبة المئوية | X18: الدرجة النهائية ( 50 ) | AD18: عدد الناجحين | AE18: النسبة المئوية | AF18: غائب
P19: ضعيف | Q19: مقبول | R19: مقبول | S19: جيد | T19: جيدجدا | U19: ممتاز | X19: ضعيف | Y19: مقبول | Z19: مقبول | AA19: جيد | AB19: جيدجدا | AC19: ممتاز
G20: 0 - 49.5 | H20: 50 - 59.5 | I20: 60 - 74.5 | J20: 75 - 89.5 | K20: 90 - 100 | P20: 0 - 14.5 | Q20: 15 | R20: 15.5 - 20.5 | S20: 21 - 26.5 | T20: 27 - 29.5 | U20: 30 | X20: 0 - 24.5 | Y20: 25 | Z20: 25.5 - 34.5 | AA20: 35 - 44.5 | AB20: 45 - 49.5 | AC20: 50
D21: 1 | E21: البنين | G21: ='المرحلة الابتدائية بنين'!G67 -> 0 | H21: ='المرحلة الابتدائية بنين'!H67 -> 0 | I21: ='المرحلة الابتدائية بنين'!I67 -> 0 | J21: ='المرحلة الابتدائية بنين'!J67 -> 0 | K21: ='المرحلة الابتدائية بنين'!K67 -> 0 | L21: ='المرحلة الابتدائية بنين'!L67 -> 0 | M21: ='المرحلة الابتدائية بنين'!M67 -> 0 | N21: ='المرحلة الابتدائية بنين'!N67 -> #DIV/0! | O21: =SUM(P21:U21) -> 0 | V21: =SUM(Q21:U21) -> 0 | W21: =V21/#REF!*100% -> #REF! | AD21: =SUM(Y21:AC21) -> 0 | AE21: =AD21/#REF!*100% -> #REF! | AF21: =(F21-#REF!) -> #REF!
D22: 2 | E22: البنات | G22: ='المرحلة الابتدائية بنات'!G67 -> 0 | H22: ='المرحلة الابتدائية بنات'!H67 -> 0 | I22: ='المرحلة الابتدائية بنات'!I67 -> 0 | J22: ='المرحلة الابتدائية بنات'!J67 -> 0 | K22: ='المرحلة الابتدائية بنات'!K67 -> 0 | L22: ='المرحلة الابتدائية بنات'!L67 -> 0 | M22: ='المرحلة الابتدائية بنات'!M67 -> 0 | N22: ='المرحلة الابتدائية بنات'!N67 -> #DIV/0! | O22: =SUM(P22:U22) -> 0 | V22: =SUM(Q22:U22) -> 0 | W22: =V22/#REF!*100% -> #REF! | AD22: =SUM(Y22:AC22) -> 0 | AE22: =AD22/#REF!*100% -> #REF! | AF22: =(F22-#REF!) -> #REF!
D23: المجموع | F23: =SUM(F21:F22) -> 0 | G23: =SUM(G21:G22) -> 0 | H23: =SUM(H21:H22) -> 0 | I23: =SUM(I21:I22) -> 0 | J23: =SUM(J21:J22) -> 0 | K23: =SUM(K21:K22) -> 0 | L23: =SUM(L21:L22) -> 0 | M23: =SUM(M21:M22) -> 0 | N23: =M23/L23*100% -> #DIV/0! | O23: =SUM(P23:U23) -> 0 | P23: =SUM(P21:P22) -> 0 | Q23: =SUM(Q21:Q22) -> 0 | R23: =SUM(R21:R22) -> 0 | S23: =SUM(S21:S22) -> 0 | T23: =SUM(T21:T22) -> 0 | U23: =SUM(U21:U22) -> 0 | V23: =SUM(Q23:U23) -> 0 | W23: =V23/#REF!*100% -> #REF! | X23: =SUM(X21:X22) -> 0 | Y23: =SUM(Y21:Y22) -> 0 | Z23: =SUM(Z21:Z22) -> 0 | AA23: =SUM(AA21:AA22) -> 0 | AB23: =SUM(AB21:AB22) -> 0 | AC23: =SUM(AC21:AC22) -> 0 | AD23: =SUM(Y23:AC23) -> 0 | AE23: =AD23/#REF!*100% -> #REF! | AF23: =(F23-#REF!) -> #REF!
D24: وزارة التربية | M24: العام الدراسي 2020/ 2021
D25: الإدارة العامة لمنطقة …………………... التعليمية
D27: الصف ( الثالث ) | Y27: الفترة : .................
D28: الفترة : آخر العام
D29: م | F29: الاجمالى | G29: فئات الدرجات | L29: عدد المتقدمين | M29: عدد الناجحين | N29: النسبة المئوية | O29: متقدم | P29: الامتحان التحريري ( 30 ) | V29: عدد الناجحين | W29: النسبة المئوية | X29: الدرجة النهائية ( 50 ) | AD29: عدد الناجحين | AE29: النسبة المئوية | AF29: غائب
P30: ضعيف | Q30: مقبول | R30: مقبول | S30: جيد | T30: جيدجدا | U30: ممتاز | X30: ضعيف | Y30: مقبول | Z30: مقبول | AA30: جيد | AB30: جيدجدا | AC30: ممتاز
G31: 0 - 49.5 | H31: 50 - 59.5 | I31: 60 - 74.5 | J31: 75 - 89.5 | K31: 90 - 100 | P31: 0 - 14.5 | Q31: 15 | R31: 15.5 - 20.5 | S31: 21 - 26.5 | T31: 27 - 29.5 | U31: 30 | X31: 0 - 24.5 | Y31: 25 | Z31: 25.5 - 34.5 | AA31: 35 - 44.5 | AB31: 45 - 49.5 | AC31: 50
D32: 1 | E32: البنين | G32: ='المرحلة الابتدائية بنين'!G101 -> 0 | H32: ='المرحلة الابتدائية بنين'!H101 -> 0 | I32: ='المرحلة الابتدائية بنين'!I101 -> 0 | J32: ='المرحلة الابتدائية بنين'!J101 -> 0 | K32: ='المرحلة الابتدائية بنين'!K101 -> 0 | L32: ='المرحلة الابتدائية بنين'!L101 -> 0 | M32: ='المرحلة الابتدائية بنين'!M101 -> 0 | N32: ='المرحلة الابتدائية بنين'!N101 -> #DIV/0! | O32: =SUM(P32:U32) -> 0 | V32: =SUM(Q32:U32) -> 0 | W32: =V32/#REF!*100% -> #REF! | AD32: =SUM(Y32:AC32) -> 0 | AE32: =AD32/#REF!*100% -> #REF! | AF32: =(F32-#REF!) -> #REF!
D33: 2 | E33: البنات | G33: ='المرحلة الابتدائية بنات'!G101 -> 0 | H33: ='المرحلة الابتدائية بنات'!H101 -> 0 | I33: ='المرحلة الابتدائية بنات'!I101 -> 0 | J33: ='المرحلة الابتدائية بنات'!J101 -> 0 | K33: ='المرحلة الابتدائية بنات'!K101 -> 0 | L33: ='المرحلة الابتدائية بنات'!L101 -> 0 | M33: ='المرحلة الابتدائية بنات'!M101 -> 0 | N33: ='المرحلة الابتدائية بنات'!N101 -> #DIV/0! | O33: =SUM(P33:U33) -> 0 | V33: =SUM(Q33:U33) -> 0 | W33: =V33/#REF!*100% -> #REF! | AD33: =SUM(Y33:AC33) -> 0 | AE33: =AD33/#REF!*100% -> #REF! | AF33: =(F33-#REF!) -> #REF!
D34: المجموع | F34: =SUM(F32:F33) -> 0 | G34: =SUM(G32:G33) -> 0 | H34: =SUM(H32:H33) -> 0 | I34: =SUM(I32:I33) -> 0 | J34: =SUM(J32:J33) -> 0 | K34: =SUM(K32:K33) -> 0 | L34: =SUM(L32:L33) -> 0 | M34: =SUM(M32:M33) -> 0 | N34: =M34/L34*100% -> #DIV/0! | O34: =SUM(P34:U34) -> 0 | P34: =SUM(P32:P33) -> 0 | Q34: =SUM(Q32:Q33) -> 0 | R34: =SUM(R32:R33) -> 0 | S34: =SUM(S32:S33) -> 0 | T34: =SUM(T32:T33) -> 0 | U34: =SUM(U32:U33) -> 0 | V34: =SUM(Q34:U34) -> 0 | W34: =V34/#REF!*100% -> #REF! | X34: =SUM(X32:X33) -> 0 | Y34: =SUM(Y32:Y33) -> 0 | Z34: =SUM(Z32:Z33) -> 0 | AA34: =SUM(AA32:AA33) -> 0 | AB34: =SUM(AB32:AB33) -> 0 | AC34: =SUM(AC32:AC33) -> 0 | AD34: =SUM(Y34:AC34) -> 0 | AE34: =AD34/#REF!*100% -> #REF! | AF34: =(F34-#REF!) -> #REF!
D37: وزارة التربية | M37: العام الدراسي 2020/ 2021
D38: الإدارة العامة لمنطقة …………………... التعليمية
D40: الصف ( الرابع ) | Y40: الفترة : .................
D41: الفترة : آخر العام
D42: م | F42: الاجمالى | G42: فئات الدرجات | L42: عدد المتقدمين | M42: عدد الناجحين | N42: النسبة المئوية | O42: متقدم | P42: الامتحان التحريري ( 30 ) | V42: عدد الناجحين | W42: النسبة المئوية | X42: الدرجة النهائية ( 50 ) | AD42: عدد الناجحين | AE42: النسبة المئوية | AF42: غائب
P43: ضعيف | Q43: مقبول | R43: مقبول | S43: جيد | T43: جيدجدا | U43: ممتاز | X43: ضعيف | Y43: مقبول | Z43: مقبول | AA43: جيد | AB43: جيدجدا | AC43: ممتاز
G44: 0 - 49.5 | H44: 50 - 59.5 | I44: 60 - 74.5 | J44: 75 - 89.5 | K44: 90 - 100 | P44: 0 - 14.5 | Q44: 15 | R44: 15.5 - 20.5 | S44: 21 - 26.5 | T44: 27 - 29.5 | U44: 30 | X44: 0 - 24.5 | Y44: 25 | Z44: 25.5 - 34.5 | AA44: 35 - 44.5 | AB44: 45 - 49.5 | AC44: 50
D45: 1 | E45: البنين | G45: ='المرحلة الابتدائية بنين'!G135 -> 0 | H45: ='المرحلة الابتدائية بنين'!H135 -> 0 | I45: ='المرحلة الابتدائية بنين'!I135 -> 0 | J45: ='المرحلة الابتدائية بنين'!J135 -> 0 | K45: ='المرحلة الابتدائية بنين'!K135 -> 0 | L45: ='المرحلة الابتدائية بنين'!L135 -> 0 | M45: ='المرحلة الابتدائية بنين'!M135 -> 0 | N45: ='المرحلة الابتدائية بنين'!N135 -> #DIV/0! | O45: =SUM(P45:U45) -> 0 | V45: =SUM(Q45:U45) -> 0 | W45: =V45/#REF!*100% -> #REF! | AD45: =SUM(Y45:AC45) -> 0 | AE45: =AD45/#REF!*100% -> #REF! | AF45: =(F45-#REF!) -> #REF!
D46: 2 | E46: البنات | G46: ='المرحلة الابتدائية بنات'!G135 -> 0 | H46: ='المرحلة الابتدائية بنات'!H135 -> 0 | I46: ='المرحلة الابتدائية بنات'!I135 -> 0 | J46: ='المرحلة الابتدائية بنات'!J135 -> 0 | K46: ='المرحلة الابتدائية بنات'!K135 -> 0 | L46: ='المرحلة الابتدائية بنات'!L135 -> 0 | M46: ='المرحلة الابتدائية بنات'!M135 -> 0 | N46: ='المرحلة الابتدائية بنات'!N135 -> #DIV/0! | O46: =SUM(P46:U46) -> 0 | V46: =SUM(Q46:U46) -> 0 | W46: =V46/#REF!*100% -> #REF! | AD46: =SUM(Y46:AC46) -> 0 | AE46: =AD46/#REF!*100% -> #REF! | AF46: =(F46-#REF!) -> #REF!
D47: المجموع | F47: =SUM(F45:F46) -> 0 | G47: =SUM(G45:G46) -> 0 | H47: =SUM(H45:H46) -> 0 | I47: =SUM(I45:I46) -> 0 | J47: =SUM(J45:J46) -> 0 | K47: =SUM(K45:K46) -> 0 | L47: =SUM(L45:L46) -> 0 | M47: =SUM(M45:M46) -> 0 | N47: =M47/L47*100% -> #DIV/0! | O47: =SUM(P47:U47) -> 0 | P47: =SUM(P45:P46) -> 0 | Q47: =SUM(Q45:Q46) -> 0 | R47: =SUM(R45:R46) -> 0 | S47: =SUM(S45:S46) -> 0 | T47: =SUM(T45:T46) -> 0 | U47: =SUM(U45:U46) -> 0 | V47: =SUM(Q47:U47) -> 0 | W47: =V47/#REF!*100% -> #REF! | X47: =SUM(X45:X46) -> 0 | Y47: =SUM(Y45:Y46) -> 0 | Z47: =SUM(Z45:Z46) -> 0 | AA47: =SUM(AA45:AA46) -> 0 | AB47: =SUM(AB45:AB46) -> 0 | AC47: =SUM(AC45:AC46) -> 0 | AD47: =SUM(Y47:AC47) -> 0 | AE47: =AD47/#REF!*100% -> #REF! | AF47: =(F47-#REF!) -> #REF!
...
