Workbook

Sheet  متوسط آخر العام معهد د (بنين)
A1: وزارة التربية | L1: العام الدراسي 2020/ 2021
A2: الإدارة العامة لمنطقة الأحمدي التعليمية
A3: التوجيه الفني للغة الإنجليزية
A4: الصف ( الخامس ) | W4: الفترة : .................
A5: الفترة : آخر العام
A6: م | B6: المدرسة | C6: الاجمالى | E6: فئات الدرجات | J6: عدد المتقدمين | K6: عدد الناجحين | L6: النسبة المئوية | M6: متقدم | N6: الامتحان التحريري ( 30 ) | T6: عدد الناجحين | U6: النسبة المئوية | V6: الدرجة النهائية ( 50 ) | AB6: عدد الناجحين | AC6: النسبة المئوية | AD6: غائب
N7: ضعيف | O7: مقبول | P7: مقبول | Q7: جيد | R7: جيدجدا | S7: ممتاز | V7: ضعيف | W7: مقبول | X7: مقبول | Y7: جيد | Z7: جيدجدا | AA7: ممتاز
E8: 0 - 49.5 | F8: 50 - 59.5 | G8: 60 - 74.5 | H8: 75 - 89.5 | I8: 90 - 100 | N8: 0 - 14.5 | O8: 15 | P8: 15.5 - 20.5 | Q8: 21 - 26.5 | R8: 27 - 29.5 | S8: 30 | V8: 0 - 24.5 | W8: 25 | X8: 25.5 - 34.5 | Y8: 35 - 44.5 | Z8: 45 - 49.5 | AA8: 50
A9: 26 | B9: معهد ….......... الديني | J9: =SUM(E9:I9) -> 0 | K9: =SUM(F9:I9) -> 0 | L9: =K9/J9*100% -> #DIV/0! | M9: =SUM(N9:S9) -> 0 | T9: =SUM(O9:S9) -> 0 | U9: =T9/J9*100% -> #DIV/0! | AB9: =SUM(W9:AA9) -> 0 | AC9: =AB9/J9*100% -> #DIV/0! | AD9: =(C9-J9) -> 0
A10: المجموع | C10: =SUM(C9:C9) -> 0 | E10: =SUM(E9:E9) -> 0 | F10: =SUM(F9:F9) -> 0 | G10: =SUM(G9:G9) -> 0 | H10: =SUM(H9:H9) -> 0 | I10: =SUM(I9:I9) -> 0 | J10: =SUM(J9:J9) -> 0 | K10: =SUM(K9:K9) -> 0 | L10: =K10/J10*100% -> #DIV/0! | M10: =SUM(N10:S10) -> 0 | N10: =SUM(N9:N9) -> 0 | O10: =SUM(O9:O9) -> 0 | P10: =SUM(P9:P9) -> 0 | Q10: =SUM(Q9:Q9) -> 0 | R10: =SUM(R9:R9) -> 0 | S10: =SUM(S9:S9) -> 0 | T10: =SUM(O10:S10) -> 0 | U10: =T10/J10*100% -> #DIV/0! | V10: =SUM(V9:V9) -> 0 | W10: =SUM(W9:W9) -> 0 | X10: =SUM(X9:X9) -> 0 | Y10: =SUM(Y9:Y9) -> 0 | Z10: =SUM(Z9:Z9) -> 0 | AA10: =SUM(AA9:AA9) -> 0 | AB10: =SUM(W10:AA10) -> 0 | AC10: =AB10/J10*100% -> #DIV/0! | AD10: =(C10-J10) -> 0
A12: وزارة التربية | L12: العام الدراسي 2020/ 2021
A13: الإدارة العامة لمنطقة ………………………. التعليمية
A14: التوجيه الفني للغة الإنجليزية
A15: الصف ( السادس ) | W15: الفترة : .................
A16: الفترة : آخر العام
A17: م | B17: المدرسة | C17: الاجمالى | E17: فئات الدرجات | J17: عدد المتقدمين | K17: عدد الناجحين | L17: النسبة المئوية | M17: متقدم | N17: الامتحان التحريري ( 30 ) | T17: عدد الناجحين | U17: النسبة المئوية | V17: الدرجة النهائية ( 50 ) | AB17: عدد الناجحين | AC17: النسبة المئوية | AD17: غائب
N18: ضعيف | O18: مقبول | P18: مقبول | Q18: جيد | R18: جيدجدا | S18: ممتاز | V18: ضعيف | W18: مقبول | X18: مقبول | Y18: جيد | Z18: جيدجدا | AA18: ممتاز
E19: 0 - 49.5 | F19: 50 - 59.5 | G19: 60 - 74.5 | H19: 75 - 89.5 | I19: 90 - 100 | N19: 0 - 14.5 | O19: 15 | P19: 15.5 - 20.5 | Q19: 21 - 26.5 | R19: 27 - 29.5 | S19: 30 | V19: 0 - 24.5 | W19: 25 | X19: 25.5 - 34.5 | Y19: 35 - 44.5 | Z19: 45 - 49.5 | AA19: 50
A20: 26 | B20: معهد ….......... الديني | J20: =SUM(E20:I20) -> 0 | K20: =SUM(F20:I20) -> 0 | L20: =K20/J20*100% -> #DIV/0! | M20: =SUM(N20:S20) -> 0 | T20: =SUM(O20:S20) -> 0 | U20: =T20/J20*100% -> #DIV/0! | AB20: =SUM(W20:AA20) -> 0 | AC20: =AB20/J20*100% -> #DIV/0! | AD20: =(C20-J20) -> 0
A21: المجموع | C21: =SUM(C20:C20) -> 0 | E21: =SUM(E20:E20) -> 0 | F21: =SUM(F20:F20) -> 0 | G21: =SUM(G20:G20) -> 0 | H21: =SUM(H20:H20) -> 0 | I21: =SUM(I20:I20) -> 0 | J21: =SUM(J20:J20) -> 0 | K21: =SUM(K20:K20) -> 0 | L21: =K21/J21*100% -> #DIV/0! | M21: =SUM(N21:S21) -> 0 | N21: =SUM(N20:N20) -> 0 | O21: =SUM(O20:O20) -> 0 | P21: =SUM(P20:P20) -> 0 | Q21: =SUM(Q20:Q20) -> 0 | R21: =SUM(R20:R20) -> 0 | S21: =SUM(S20:S20) -> 0 | T21: =SUM(O21:S21) -> 0 | U21: =T21/J21*100% -> #DIV/0! | V21: =SUM(V20:V20) -> 0 | W21: =SUM(W20:W20) -> 0 | X21: =SUM(X20:X20) -> 0 | Y21: =SUM(Y20:Y20) -> 0 | Z21: =SUM(Z20:Z20) -> 0 | AA21: =SUM(AA20:AA20) -> 0 | AB21: =SUM(W21:AA21) -> 0 | AC21: =AB21/J21*100% -> #DIV/0! | AD21: =(C21-J21) -> 0
A24: وزارة التربية | L24: العام الدراسي 2020/ 2021 | Y24: العام الدراسي 2013/ .2014
A25: الإدارة العامة لمنطقة ………………………. التعليمية
A26: التوجيه الفني للغة الإنجليزية
A27: الصف ( السابع ) | W27: الفترة : .................
A28: الفترة : آخر العام
A29: م | B29: المدرسة | C29: الاجمالى | E29: فئات الدرجات | J29: عدد المتقدمين | K29: عدد الناجحين | L29: النسبة المئوية | M29: متقدم | N29: الامتحان التحريري ( 30 ) | T29: عدد الناجحين | U29: النسبة المئوية | V29: الدرجة النهائية ( 50 ) | AB29: عدد الناجحين | AC29: النسبة المئوية | AD29: غائب
N30: ضعيف | O30: مقبول | P30: مقبول | Q30: جيد | R30: جيدجدا | S30: ممتاز | V30: ضعيف | W30: مقبول | X30: مقبول | Y30: جيد | Z30: جيدجدا | AA30: ممتاز
E31: 0 - 49.5 | F31: 50 - 59.5 | G31: 60 - 74.5 | H31: 75 - 89.5 | I31: 90 - 100 | N31: 0 - 14.5 | O31: 15 | P31: 15.5 - 20.5 | Q31: 21 - 26.5 | R31: 27 - 29.5 | S31: 30 | V31: 0 - 24.5 | W31: 25 | X31: 25.5 - 34.5 | Y31: 35 - 44.5 | Z31: 45 - 49.5 | AA31: 50
A32: 26 | B32: معهد ….......... الديني | J32: =SUM(E32:I32) -> 0 | K32: =SUM(F32:I32) -> 0 | L32: =K32/J32*100% -> #DIV/0! | M32: =SUM(N32:S32) -> 0 | T32: =SUM(O32:S32) -> 0 | U32: =T32/J32*100% -> #DIV/0! | AB32: =SUM(W32:AA32) -> 0 | AC32: =AB32/J32*100% -> #DIV/0! | AD32: =(C32-J32) -> 0
A33: المجموع | C33: =SUM(C32:C32) -> 0 | E33: =SUM(E32:E32) -> 0 | F33: =SUM(F32:F32) -> 0 | G33: =SUM(G32:G32) -> 0 | H33: =SUM(H32:H32) -> 0 | I33: =SUM(I32:I32) -> 0 | J33: =SUM(J32:J32) -> 0 | K33: =SUM(K32:K32) -> 0 | L33: =K33/J33*100% -> #DIV/0! | M33: =SUM(N33:S33) -> 0 | N33: =SUM(N32:N32) -> 0 | O33: =SUM(O32:O32) -> 0 | P33: =SUM(P32:P32) -> 0 | Q33: =SUM(Q32:Q32) -> 0 | R33: =SUM(R32:R32) -> 0 | S33: =SUM(S32:S32) -> 0 | T33: =SUM(O33:S33) -> 0 | U33: =T33/J33*100% -> #DIV/0! | V33: =SUM(V32:V32) -> 0 | W33: =SUM(W32:W32) -> 0 | X33: =SUM(X32:X32) -> 0 | Y33: =SUM(Y32:Y32) -> 0 | Z33: =SUM(Z32:Z32) -> 0 | AA33: =SUM(AA32:AA32) -> 0 | AB33: =SUM(W33:AA33) -> 0 | AC33: =AB33/J33*100% -> #DIV/0! | AD33: =(C33-J33) -> 0
A35: وزارة التربية | L35: العام الدراسي 2020/ 2021 | Y35: العام الدراسي 2013/ .2014
A36: الإدارة العامة لمنطقة ………………………. التعليمية
A37: التوجيه الفني للغة الإنجليزية
A38: الصف ( الثامن ) | W38: الفترة : .................
A39: الفترة : آخر العام
A40: م | B40: المدرسة | C40: الاجمالى | E40: فئات الدرجات | J40: عدد المتقدمين | K40: عدد الناجحين | L40: النسبة المئوية | M40: متقدم | N40: الامتحان التحريري ( 30 ) | T40: عدد الناجحين | U40: النسبة المئوية | V40: الدرجة النهائية ( 50 ) | AB40: عدد الناجحين | AC40: النسبة المئوية | AD40: غائب
N41: ضعيف | O41: مقبول | P41: مقبول | Q41: جيد | R41: جيدجدا | S41: ممتاز | V41: ضعيف | W41: مقبول | X41: مقبول | Y41: جيد | Z41: جيدجدا | AA41: ممتاز
E42: 0 - 49.5 | F42: 50 - 59.5 | G42: 60 - 74.5 | H42: 75 - 89.5 | I42: 90 - 100 | N42: 0 - 14.5 | O42: 15 | P42: 15.5 - 20.5 | Q42: 21 - 26.5 | R42: 27 - 29.5 | S42: 30 | V42: 0 - 24.5 | W42: 25 | X42: 25.5 - 34.5 | Y42: 35 - 44.5 | Z42: 45 - 49.5 | AA42: 50
A43: 26 | B43: معهد ….......... الديني | J43: =SUM(E43:I43) -> 0 | K43: =SUM(F43:I43) -> 0 | L43: =K43/J43*100% -> #DIV/0! | M43: =SUM(N43:S43) -> 0 | T43: =SUM(O43:S43) -> 0 | U43: =T43/J43*100% -> #DIV/0! | AB43: =SUM(W43:AA43) -> 0 | AC43: =AB43/J43*100% -> #DIV/0! | AD43: =(C43-J43) -> 0
A44: المجموع | C44: =SUM(C43:C43) -> 0 | E44: =SUM(E43:E43) -> 0 | F44: =SUM(F43:F43) -> 0 | G44: =SUM(G43:G43) -> 0 | H44: =SUM(H43:H43) -> 0 | I44: =SUM(I43:I43) -> 0 | J44: =SUM(E44:I44) -> 0 | K44: =SUM(F44:I44) -> 0 | L44: =K44/J44*100% -> #DIV/0! | M44: =SUM(N44:S44) -> 0 | N44: =SUM(N43:N43) -> 0 | O44: =SUM(O43:O43) -> 0 | P44: =SUM(P43:P43) -> 0 | Q44: =SUM(Q43:Q43) -> 0 | R44: =SUM(R43:R43) -> 0 | S44: =SUM(S43:S43) -> 0 | T44: =SUM(O44:S44) -> 0 | U44: =T44/J44*100% -> #DIV/0! | V44: =SUM(V43:V43) -> 0 | W44: =SUM(W43:W43) -> 0 | X44: =SUM(X43:X43) -> 0 | Y44: =SUM(Y43:Y43) -> 0 | Z44: =SUM(Z43:Z43) -> 0 | AA44: =SUM(AA43:AA43) -> 0 | AB44: =SUM(W44:AA44) -> 0 | AC44: =AB44/J44*100% -> #DIV/0! | AD44: =(C44-J44) -> 0

Sheet بنات متوسط آخر العام معهد ديني
A1: وزارة التربية | L1: العام الدراسي 2020/ 2021
A2: الإدارة العامة لمنطقة الأحمدي التعليمية
A3: التوجيه الفني للغة الإنجليزية
A4: الصف ( الخامس ) | W4: الفترة : .................
A5: الفترة : آخر العام
A6: م | B6: المدرسة | C6: الاجمالى | E6: فئات الدرجات | J6: عدد المتقدمين | K6: عدد الناجحين | L6: النسبة المئوية | M6: متقدم | N6: الامتحان التحريري ( 30 ) | T6: عدد الناجحين | U6: النسبة المئوية | V6: الدرجة النهائية ( 50 ) | AB6: عدد الناجحين | AC6: النسبة المئوية | AD6: غائب
N7: ضعيف | O7: مقبول | P7: مقبول | Q7: جيد | R7: جيدجدا | S7: ممتاز | V7: ضعيف | W7: مقبول | X7: مقبول | Y7: جيد | Z7: جيدجدا | AA7: ممتاز
E8: 0 - 49.5 | F8: 50 - 59.5 | G8: 60 - 74.5 | H8: 75 - 89.5 | I8: 90 - 100 | N8: 0 - 14.5 | O8: 15 | P8: 15.5 - 20.5 | Q8: 21 - 26.5 | R8: 27 - 29.5 | S8: 30 | V8: 0 - 24.5 | W8: 25 | X8: 25.5 - 34.5 | Y8: 35 - 44.5 | Z8: 45 - 49.5 | AA8: 50
A9: 26 | B9: معهد ….......... الديني | J9: =SUM(E9:I9) -> 0 | K9: =SUM(F9:I9) -> 0 | L9: =K9/J9*100% -> #DIV/0! | M9: =SUM(N9:S9) -> 0 | T9: =SUM(O9:S9) -> 0 | U9: =T9/J9*100% -> #DIV/0! | AB9: =SUM(W9:AA9) -> 0 | AC9: =AB9/J9*100% -> #DIV/0! | AD9: =(C9-J9) -> 0
A10: المجموع | C10: =SUM(C9:C9) -> 0 | E10: =SUM(E9:E9) -> 0 | F10: =SUM(F9:F9) -> 0 | G10: =SUM(G9:G9) -> 0 | H10: =SUM(H9:H9) -> 0 | I10: =SUM(I9:I9) -> 0 | J10: =SUM(J9:J9) -> 0 | K10: =SUM(K9:K9) -> 0 | L10: =K10/J10*100% -> #DIV/0! | M10: =SUM(N10:S10) -> 0 | N10: =SUM(N9:N9) -> 0 | O10: =SUM(O9:O9) -> 0 | P10: =SUM(P9:P9) -> 0 | Q10: =SUM(Q9:Q9) -> 0 | R10: =SUM(R9:R9) -> 0 | S10: =SUM(S9:S9) -> 0 | T10: =SUM(O10:S10) -> 0 | U10: =T10/J10*100% -> #DIV/0! | V10: =SUM(V9:V9) -> 0 | W10: =SUM(W9:W9) -> 0 | X10: =SUM(X9:X9) -> 0 | Y10: =SUM(Y9:Y9) -> 0 | Z10: =SUM(Z9:Z9) -> 0 | AA10: =SUM(AA9:AA9) -> 0 | AB10: =SUM(W10:AA10) -> 0 | AC10: =AB10/J10*100% -> #DIV/0! | AD10: =(C10-J10) -> 0
A12: وزارة التربية | L12: العام الدراسي 2020/ 2021
A13: الإدارة العامة لمنطقة ………………………. التعليمية
A14: التوجيه الفني للغة الإنجليزية
A15: الصف ( السادس ) | W15: الفترة : .................
A16: الفترة : آخر العام
A17: م | B17: المدرسة | C17: الاجمالى | E17: فئات الدرجات | J17: عدد المتقدمين | K17: عدد الناجحين | L17: النسبة المئوية | M17: متقدم | N17: الامتحان التحريري ( 30 ) | T17: عدد الناجحين | U17: النسبة المئوية | V17: الدرجة النهائية ( 50 ) | AB17: عدد الناجحين | AC17: النسبة المئوية | AD17: غائب
N18: ضعيف | O18: مقبول | P18: مقبول | Q18: جيد | R18: جيدجدا | S18: ممتاز | V18: ضعيف | W18: مقبول | X18: مقبول | Y18: جيد | Z18: جيدجدا | AA18: ممتاز
E19: 0 - 49.5 | F19: 50 - 59.5 | G19: 60 - 74.5 | H19: 75 - 89.5 | I19: 90 - 100 | N19: 0 - 14.5 | O19: 15 | P19: 15.5 - 20.5 | Q19: 21 - 26.5 | R19: 27 - 29.5 | S19: 30 | V19: 0 - 24.5 | W19: 25 | X19: 25.5 - 34.5 | Y19: 35 - 44.5 | Z19: 45 - 49.5 | AA19: 50
A20: 26 | B20: معهد ….......... الديني | J20: =SUM(E20:I20) -> 0 | K20: =SUM(F20:I20) -> 0 | L20: =K20/J20*100% -> #DIV/0! | M20: =SUM(N20:S20) -> 0 | T20: =SUM(O20:S20) -> 0 | U20: =T20/J20*100% -> #DIV/0! | AB20: =SUM(W20:AA20) -> 0 | AC20: =AB20/J20*100% -> #DIV/0! | AD20: =(C20-J20) -> 0
A21: المجموع | C21: =SUM(C20:C20) -> 0 | E21: =SUM(E20:E20) -> 0 | F21: =SUM(F20:F20) -> 0 | G21: =SUM(G20:G20) -> 0 | H21: =SUM(H20:H20) -> 0 | I21: =SUM(I20:I20) -> 0 | J21: =SUM(J20:J20) -> 0 | K21: =SUM(K20:K20) -> 0 | L21: =K21/J21*100% -> #DIV/0! | M21: =SUM(N21:S21) -> 0 | N21: =SUM(N20:N20) -> 0 | O21: =SUM(O20:O20) -> 0 | P21: =SUM(P20:P20) -> 0 | Q21: =SUM(Q20:Q20) -> 0 | R21: =SUM(R20:R20) -> 0 | S21: =SUM(S20:S20) -> 0 | T21: =SUM(O21:S21) -> 0 | U21: =T21/J21*100% -> #DIV/0! | V21: =SUM(V20:V20) -> 0 | W21: =SUM(W20:W20) -> 0 | X21: =SUM(X20:X20) -> 0 | Y21: =SUM(Y20:Y20) -> 0 | Z21: =SUM(Z20:Z20) -> 0 | AA21: =SUM(AA20:AA20) -> 0 | AB21: =SUM(W21:AA21) -> 0 | AC21: =AB21/J21*100% -> #DIV/0! | AD21: =(C21-J21) -> 0
A24: وزارة التربية | L24: العام الدراسي 2020/ 2021 | Y24: العام الدراسي 2013/ .2014
A25: الإدارة العامة لمنطقة ………………………. التعليمية
A26: التوجيه الفني للغة الإنجليزية
A27: الصف ( السابع ) | W27: الفترة : .................
A28: الفترة : آخر العام
A29: م | B29: المدرسة | C29: الاجمالى | E29: فئات الدرجات | J29: عدد المتقدمين | K29: عدد الناجحين | L29: النسبة المئوية | M29: متقدم | N29: الامتحان التحريري ( 30 ) | T29: عدد الناجحين | U29: النسبة المئوية | V29: الدرجة النهائية ( 50 ) | AB29: عدد الناجحين | AC29: النسبة المئوية | AD29: غائب
N30: ضعيف | O30: مقبول | P30: مقبول | Q30: جيد | R30: جيدجدا | S30: ممتاز | V30: ضعيف | W30: مقبول | X30: مقبول | Y30: جيد | Z30: جيدجدا | AA30: ممتاز
E31: 0 - 49.5 | F31: 50 - 59.5 | G31: 60 - 74.5 | H31: 75 - 89.5 | I31: 90 - 100 | N31: 0 - 14.5 | O31: 15 | P31: 15.5 - 20.5 | Q31: 21 - 26.5 | R31: 27 - 29.5 | S31: 30 | V31: 0 - 24.5 | W31: 25 | X31: 25.5 - 34.5 | Y31: 35 - 44.5 | Z31: 45 - 49.5 | AA31: 50
A32: 26 | B32: معهد ….......... الديني | J32: =SUM(E32:I32) -> 0 | K32: =SUM(F32:I32) -> 0 | L32: =K32/J32*100% -> #DIV/0! | M32: =SUM(N32:S32) -> 0 | T32: =SUM(O32:S32) -> 0 | U32: =T32/J32*100% -> #DIV/0! | AB32: =SUM(W32:AA32) -> 0 | AC32: =AB32/J32*100% -> #DIV/0! | AD32: =(C32-J32) -> 0
A33: المجموع | C33: =SUM(C32:C32) -> 0 | E33: =SUM(E32:E32) -> 0 | F33: =SUM(F32:F32) -> 0 | G33: =SUM(G32:G32) -> 0 | H33: =SUM(H32:H32) -> 0 | I33: =SUM(I32:I32) -> 0 | J33: =SUM(J32:J32) -> 0 | K33: =SUM(K32:K32) -> 0 | L33: =K33/J33*100% -> #DIV/0! | M33: =SUM(N33:S33) -> 0 | N33: =SUM(N32:N32) -> 0 | O33: =SUM(O32:O32) -> 0 | P33: =SUM(P32:P32) -> 0 | Q33: =SUM(Q32:Q32) -> 0 | R33: =SUM(R32:R32) -> 0 | S33: =SUM(S32:S32) -> 0 | T33: =SUM(O33:S33) -> 0 | U33: =T33/J33*100% -> #DIV/0! | V33: =SUM(V32:V32) -> 0 | W33: =SUM(W32:W32) -> 0 | X33: =SUM(X32:X32) -> 0 | Y33: =SUM(Y32:Y32) -> 0 | Z33: =SUM(Z32:Z32) -> 0 | AA33: =SUM(AA32:AA32) -> 0 | AB33: =SUM(W33:AA33) -> 0 | AC33: =AB33/J33*100% -> #DIV/0! | AD33: =(C33-J33) -> 0
A35: وزارة التربية | L35: العام الدراسي 2020/ 2021 | Y35: العام الدراسي 2013/ .2014
A36: الإدارة العامة لمنطقة ………………………. التعليمية
A37: التوجيه الفني للغة الإنجليزية
A38: الصف ( الثامن ) | W38: الفترة : .................
A39: الفترة : آخر العام
A40: م | B40: المدرسة | C40: الاجمالى | E40: فئات الدرجات | J40: عدد المتقدمين | K40: عدد الناجحين | L40: النسبة المئوية | M40: متقدم | N40: الامتحان التحريري ( 30 ) | T40: عدد الناجحين | U40: النسبة المئوية | V40: الدرجة النهائية ( 50 ) | AB40: عدد الناجحين | AC40: النسبة المئوية | AD40: غائب
N41: ضعيف | O41: مقبول | P41: مقبول | Q41: جيد | R41: جيدجدا | S41: ممتاز | V41: ضعيف | W41: مقبول | X41: مقبول | Y41: جيد | Z41: جيدجدا | AA41: ممتاز
E42: 0 - 49.5 | F42: 50 - 59.5 | G42: 60 - 74.5 | H42: 75 - 89.5 | I42: 90 - 100 | N42: 0 - 14.5 | O42: 15 | P42: 15.5 - 20.5 | Q42: 21 - 26.5 | R42: 27 - 29.5 | S42: 30 | V42: 0 - 24.5 | W42: 25 | X42: 25.5 - 34.5 | Y42: 35 - 44.5 | Z42: 45 - 49.5 | AA42: 50
A43: 26 | B43: معهد ….......... الديني | J43: =SUM(E43:I43) -> 0 | K43: =SUM(F43:I43) -> 0 | L43: =K43/J43*100% -> #DIV/0! | M43: =SUM(N43:S43) -> 0 | T43: =SUM(O43:S43) -> 0 | U43: =T43/J43*100% -> #DIV/0! | AB43: =SUM(W43:AA43) -> 0 | AC43: =AB43/J43*100% -> #DIV/0! | AD43: =(C43-J43) -> 0
A44: المجموع | C44: =SUM(C43:C43) -> 0 | E44: =SUM(E43:E43) -> 0 | F44: =SUM(F43:F43) -> 0 | G44: =SUM(G43:G43) -> 0 | H44: =SUM(H43:H43) -> 0 | I44: =SUM(I43:I43) -> 0 | J44: =SUM(E44:I44) -> 0 | K44: =SUM(F44:I44) -> 0 | L44: =K44/J44*100% -> #DIV/0! | M44: =SUM(N44:S44) -> 0 | N44: =SUM(N43:N43) -> 0 | O44: =SUM(O43:O43) -> 0 | P44: =SUM(P43:P43) -> 0 | Q44: =SUM(Q43:Q43) -> 0 | R44: =SUM(R43:R43) -> 0 | S44: =SUM(S43:S43) -> 0 | T44: =SUM(O44:S44) -> 0 | U44: =T44/J44*100% -> #DIV/0! | V44: =SUM(V43:V43) -> 0 | W44: =SUM(W43:W43) -> 0 | X44: =SUM(X43:X43) -> 0 | Y44: =SUM(Y43:Y43) -> 0 | Z44: =SUM(Z43:Z43) -> 0 | AA44: =SUM(AA43:AA43) -> 0 | AB44: =SUM(W44:AA44) -> 0 | AC44: =AB44/J44*100% -> #DIV/0! | AD44: =(C44-J44) -> 0

Sheet  بنين ثانوي معهد ديني 
A1: وزارة التربية | M1: العام الدراسي 2020/ 2021
A2: الإدارة العامة لمنطقة الأحمدي التعليمية
A3: التوجيه الفني للغة الإنجليزية
A4: الصف ( التاسع ) | X4: الفترة : .................
A5: الفترة : آخر العام
A6: م | B6: المدرسة | C6: الاجمالى | E6: فئات الدرجات | K6: عدد المتقدمين | L6: عدد الناجحين | M6: النسبة المئوية | N6: متقدم | O6: الامتحان التحريري ( 30 ) | U6: عدد الناجحين | V6: النسبة المئوية | W6: الدرجة النهائية ( 50 ) | AC6: عدد الناجحين | AD6: النسبة المئوية | AE6: غائب
O7: ضعيف | P7: مقبول | Q7: مقبول | R7: جيد | S7: جيدجدا | T7: ممتاز | W7: ضعيف | X7: مقبول | Y7: مقبول | Z7: جيد | AA7: جيدجدا | AB7: ممتاز
E8: 0 - 49.5 | F8: 50 - 59.5 | G8: 60 - 74.5 | H8: 75 - 89.5 | I8: 90 - 100 | J8: 100 | O8: 0 - 14.5 | P8: 15 | Q8: 15.5 - 20.5 | R8: 21 - 26.5 | S8: 27 - 29.5 | T8: 30 | W8: 0 - 24.5 | X8: 25 | Y8: 25.5 - 34.5 | Z8: 35 - 44.5 | AA8: 45 - 49.5 | AB8: 50
A9: 26 | B9: معهد ….......... الديني | J9: 0 | K9: =SUM(E9:J9) -> 0 | L9: =SUM(F9:J9) -> 0 | M9: =L9/K9*100% -> #DIV/0! | N9: =SUM(O9:T9) -> 0 | U9: =SUM(P9:T9) -> 0 | V9: =U9/K9*100% -> #DIV/0! | AC9: =SUM(X9:AB9) -> 0 | AD9: =AC9/K9*100% -> #DIV/0! | AE9: =(C9-K9) -> 0
A10: المجموع | C10: =SUM(C9:C9) -> 0 | E10: =SUM(E9:E9) -> 0 | F10: =SUM(F9:F9) -> 0 | G10: =SUM(G9:G9) -> 0 | H10: =SUM(H9:H9) -> 0 | I10: =SUM(I9:I9) -> 0 | J10: =SUM(J9:J9) -> 0 | K10: =SUM(K9:K9) -> 0 | L10: =SUM(L9:L9) -> 0 | M10: =L10/K10*100% -> #DIV/0! | N10: =SUM(O10:T10) -> 0 | O10: =SUM(O9:O9) -> 0 | P10: =SUM(P9:P9) -> 0 | Q10: =SUM(Q9:Q9) -> 0 | R10: =SUM(R9:R9) -> 0 | S10: =SUM(S9:S9) -> 0 | T10: =SUM(T9:T9) -> 0 | U10: =SUM(P10:T10) -> 0 | V10: =U10/K10*100% -> #DIV/0! | W10: =SUM(W9:W9) -> 0 | X10: =SUM(X9:X9) -> 0 | Y10: =SUM(Y9:Y9) -> 0 | Z10: =SUM(Z9:Z9) -> 0 | AA10: =SUM(AA9:AA9) -> 0 | AB10: =SUM(AB9:AB9) -> 0 | AC10: =SUM(X10:AB10) -> 0 | AD10: =AC10/K10*100% -> #DIV/0! | AE10: =(C10-K10) -> 0
A12: وزارة التربية | M12: العام الدراسي 2020/ 2021
A13: الإدارة العامة لمنطقة ………………………. التعليمية
A14: التوجيه الفني للغة الإنجليزية
A15: الصف ( العاشر ) | X15: الفترة : .................
A16: الفترة : آخر العام
A17: م | B17: المدرسة | C17: الاجمالى | E17: فئات الدرجات | K17: عدد المتقدمين | L17: عدد الناجحين | M17: النسبة المئوية | N17: متقدم | O17: الامتحان التحريري ( 30 ) | U17: عدد الناجحين | V17: النسبة المئوية | W17: الدرجة النهائية ( 50 ) | AC17: عدد الناجحين | AD17: النسبة المئوية | AE17: غائب
O18: ضعيف | P18: مقبول | Q18: مقبول | R18: جيد | S18: جيدجدا | T18: ممتاز | W18: ضعيف | X18: مقبول | Y18: مقبول | Z18: جيد | AA18: جيدجدا | AB18: ممتاز
E19: 0 - 49.5 | F19: 50 - 59.5 | G19: 60 - 74.5 | H19: 75 - 89.5 | I19: 90 - 100 | J19: 100 | O19: 0 - 14.5 | P19: 15 | Q19: 15.5 - 20.5 | R19: 21 - 26.5 | S19: 27 - 29.5 | T19: 30 | W19: 0 - 24.5 | X19: 25 | Y19: 25.5 - 34.5 | Z19: 35 - 44.5 | AA19: 45 - 49.5 | AB19: 50
A20: 26 | B20: معهد ….......... الديني | J20: 0 | K20: =SUM(E20:J20) -> 0 | L20: =SUM(F20:J20) -> 0 | M20: =L20/K20*100% -> #DIV/0! | N20: =SUM(O20:T20) -> 0 | U20: =SUM(P20:T20) -> 0 | V20: =U20/K20*100% -> #DIV/0! | AC20: =SUM(X20:AB20) -> 0 | AD20: =AC20/K20*100% -> #DIV/0! | AE20: =(C20-K20) -> 0
A21: المجموع | C21: =SUM(C20:C20) -> 0 | E21: =SUM(E20:E20) -> 0 | F21: =SUM(F20:F20) -> 0 | G21: =SUM(G20:G20) -> 0 | H21: =SUM(H20:H20) -> 0 | I21: =SUM(I20:I20) -> 0 | J21: =SUM(J20:J20) -> 0 | K21: =SUM(K20:K20) -> 0 | L21: =SUM(L20:L20) -> 0 | M21: =L21/K21*100% -> #DIV/0! | N21: =SUM(O21:T21) -> 0 | O21: =SUM(O20:O20) -> 0 | P21: =SUM(P20:P20) -> 0 | Q21: =SUM(Q20:Q20) -> 0 | R21: =SUM(R20:R20) -> 0 | S21: =SUM(S20:S20) -> 0 | T21: =SUM(T20:T20) -> 0 | U21: =SUM(P21:T21) -> 0 | V21: =U21/K21*100% -> #DIV/0! | W21: =SUM(W20:W20) -> 0 | X21: =SUM(X20:X20) -> 0 | Y21: =SUM(Y20:Y20) -> 0 | Z21: =SUM(Z20:Z20) -> 0 | AA21: =SUM(AA20:AA20) -> 0 | AB21: =SUM(AB20:AB20) -> 0 | AC21: =SUM(X21:AB21) -> 0 | AD21: =AC21/K21*100% -> #DIV/0! | AE21: =(C21-K21) -> 0
A24: وزارة التربية | M24: العام الدراسي 2020/ 2021 | Z24: العام الدراسي 2013/ .2014
A25: الإدارة العامة لمنطقة ………………………. التعليمية
A26: التوجيه الفني للغة الإنجليزية
A27: الصف ( الحادي عشر ) | X27: الفترة : .................
A28: الفترة : آخر العام
A29: م | B29: المدرسة | C29: الاجمالى | E29: فئات الدرجات | K29: عدد المتقدمين | L29: عدد الناجحين | M29: النسبة المئوية | N29: متقدم | O29: الامتحان التحريري ( 30 ) | U29: عدد الناجحين | V29: النسبة المئوية | W29: الدرجة النهائية ( 50 ) | AC29: عدد الناجحين | AD29: النسبة المئوية | AE29: غائب
O30: ضعيف | P30: مقبول | Q30: مقبول | R30: جيد | S30: جيدجدا | T30: ممتاز | W30: ضعيف | X30: مقبول | Y30: مقبول | Z30: جيد | AA30: جيدجدا | AB30: ممتاز
E31: 0 - 49.5 | F31: 50 - 59.5 | G31: 60 - 74.5 | H31: 75 - 89.5 | I31: 90 - 100 | J31: 100 | O31: 0 - 14.5 | P31: 15 | Q31: 15.5 - 20.5 | R31: 21 - 26.5 | S31: 27 - 29.5 | T31: 30 | W31: 0 - 24.5 | X31: 25 | Y31: 25.5 - 34.5 | Z31: 35 - 44.5 | AA31: 45 - 49.5 | AB31: 50
A32: 26 | B32: معهد ….......... الديني | J32: 0 | K32: =SUM(E32:J32) -> 0 | L32: =SUM(F32:J32) -> 0 | M32: =L32/K32*100% -> #DIV/0! | N32: =SUM(O32:T32) -> 0 | U32: =SUM(P32:T32) -> 0 | V32: =U32/K32*100% -> #DIV/0! | AC32: =SUM(X32:AB32) -> 0 | AD32: =AC32/K32*100% -> #DIV/0! | AE32: =(C32-K32) -> 0
A33: المجموع | C33: =SUM(C32:C32) -> 0 | E33: =SUM(E32:E32) -> 0 | F33: =SUM(F32:F32) -> 0 | G33: =SUM(G32:G32) -> 0 | H33: =SUM(H32:H32) -> 0 | I33: =SUM(I32:I32) -> 0 | J33: =SUM(J32:J32) -> 0 | K33: =SUM(K32:K32) -> 0 | L33: =SUM(L32:L32) -> 0 | M33: =L33/K33*100% -> #DIV/0! | N33: =SUM(O33:T33) -> 0 | O33: =SUM(O32:O32) -> 0 | P33: =SUM(P32:P32) -> 0 | Q33: =SUM(Q32:Q32) -> 0 | R33: =SUM(R32:R32) -> 0 | S33: =SUM(S32:S32) -> 0 | T33: =SUM(T32:T32) -> 0 | U33: =SUM(P33:T33) -> 0 | V33: =U33/K33*100% -> #DIV/0! | W33: =SUM(W32:W32) -> 0 | X33: =SUM(X32:X32) -> 0 | Y33: =SUM(Y32:Y32) -> 0 | Z33: =SUM(Z32:Z32) -> 0 | AA33: =SUM(AA32:AA32) -> 0 | AB33: =SUM(AB32:AB32) -> 0 | AC33: =SUM(X33:AB33) -> 0 | AD33: =AC33/K33*100% -> #DIV/0! | AE33: =(C33-K33) -> 0

Sheet بنات ثانوي معهد ديني
A1: وزارة التربية | M1: العام الدراسي 2020/ 2021
A2: الإدارة العامة لمنطقة الأحمدي التعليمية
A3: التوجيه الفني للغة الإنجليزية
A4: الصف ( التاسع ) | X4: الفترة : .................
A5: الفترة : آخر العام
A6: م | B6: المدرسة | C6: الاجمالى | E6: فئات الدرجات | K6: عدد المتقدمين | L6: عدد الناجحين | M6: النسبة المئوية | N6: متقدم | O6: الامتحان التحريري ( 30 ) | U6: عدد الناجحين | V6: النسبة المئوية | W6: الدرجة النهائية ( 50 ) | AC6: عدد الناجحين | AD6: النسبة المئوية | AE6: غائب
O7: ضعيف | P7: مقبول | Q7: مقبول | R7: جيد | S7: جيدجدا | T7: ممتاز | W7: ضعيف | X7: مقبول | Y7: مقبول | Z7: جيد | AA7: جيدجدا | AB7: ممتاز
E8: 0 - 49.5 | F8: 50 - 59.5 | G8: 60 - 74.5 | H8: 75 - 89.5 | I8: 90 - 100 | J8: 100 | O8: 0 - 14.5 | P8: 15 | Q8: 15.5 - 20.5 | R8: 21 - 26.5 | S8: 27 - 29.5 | T8: 30 | W8: 0 - 24.5 | X8: 25 | Y8: 25.5 - 34.5 | Z8: 35 - 44.5 | AA8: 45 - 49.5 | AB8: 50
A9: 26 | B9: معهد ….......... الديني | J9: 0 | K9: =SUM(E9:J9) -> 0 | L9: =SUM(F9:J9) -> 0 | M9: =L9/K9*100% -> #DIV/0! | N9: =SUM(O9:T9) -> 0 | U9: =SUM(P9:T9) -> 0 | V9: =U9/K9*100% -> #DIV/0! | AC9: =SUM(X9:AB9) -> 0 | AD9: =AC9/K9*100% -> #DIV/0! | AE9: =(C9-K9) -> 0
A10: المجموع | C10: =SUM(C9:C9) -> 0 | E10: =SUM(E9:E9) -> 0 | F10: =SUM(F9:F9) -> 0 | G10: =SUM(G9:G9) -> 0 | H10: =SUM(H9:H9) -> 0 | I10: =SUM(I9:I9) -> 0 | J10: =SUM(J9:J9) -> 0 | K10: =SUM(K9:K9) -> 0 | L10: =SUM(L9:L9) -> 0 | M10: =L10/K10*100% -> #DIV/0! | N10: =SUM(O10:T10) -> 0 | O10: =SUM(O9:O9) -> 0 | P10: =SUM(P9:P9) -> 0 | Q10: =SUM(Q9:Q9) -> 0 | R10: =SUM(R9:R9) -> 0 | S10: =SUM(S9:S9) -> 0 | T10: =SUM(T9:T9) -> 0 | U10: =SUM(P10:T10) -> 0 | V10: =U10/K10*100% -> #DIV/0! | W10: =SUM(W9:W9) -> 0 | X10: =SUM(X9:X9) -> 0 | Y10: =SUM(Y9:Y9) -> 0 | Z10: =SUM(Z9:Z9) -> 0 | AA10: =SUM(AA9:AA9) -> 0 | AB10: =SUM(AB9:AB9) -> 0 | AC10: =SUM(X10:AB10) -> 0 | AD10: =AC10/K10*100% -> #DIV/0! | AE10: =(C10-K10) -> 0
A12: وزارة التربية | M12: العام الدراسي 2020/ 2021
A13: الإدارة العامة لمنطقة ………………………. التعليمية
A14: التوجيه الفني للغة الإنجليزية
A15: الصف ( العاشر ) | X15: الفترة : .................
A16: الفترة : آخر العام
A17: م | B17: المدرسة | C17: الاجمالى | E17: فئات الدرجات | K17: عدد المتقدمين | L17: عدد الناجحين | M17: النسبة المئوية | N17: متقدم | O17: الامتحان التحريري ( 30 ) | U17: عدد الناجحين | V17: النسبة المئوية | W17: الدرجة النهائية ( 50 ) | AC17: عدد الناجحين | AD17: النسبة المئوية | AE17: غائب
O18: ضعيف | P18: مقبول | Q18: مقبول | R18: جيد | S18: جيدجدا | T18: ممتاز | W18: ضعيف | X18: مقبول | Y18: مقبول | Z18: جيد | AA18: جيدجدا | AB18: ممتاز
E19: 0 - 49.5 | F19: 50 - 59.5 | G19: 60 - 74.5 | H19: 75 - 89.5 | I19: 90 - 100 | J19: 100 | O19: 0 - 14.5 | P19: 15 | Q19: 15.5 - 20.5 | R19: 21 - 26.5 | S19: 27 - 29.5 | T19: 30 | W19: 0 - 24.5 | X19: 25 | Y19: 25.5 - 34.5 | Z19: 35 - 44.5 | AA19: 45 - 49.5 | AB19: 50
A20: 26 | B20: معهد ….......... الديني | J20: 0 | K20: =SUM(E20:J20) -> 0 | L20: =SUM(F20:J20) -> 0 | M20: =L20/K20*100% -> #DIV/0! | N20: =SUM(O20:T20) -> 0 | U20: =SUM(P20:T20) -> 0 | V20: =U20/K20*100% -> #DIV/0! | AC20: =SUM(X20:AB20) -> 0 | AD20: =AC20/K20*100% -> #DIV/0! | AE20: =(C20-K20) -> 0
A21: المجموع | C21: =SUM(C20:C20) -> 0 | E21: =SUM(E20:E20) -> 0 | F21: =SUM(F20:F20) -> 0 | G21: =SUM(G20:G20) -> 0 | H21: =SUM(H20:H20) -> 0 | I21: =SUM(I20:I20) -> 0 | J21: =SUM(J20:J20) -> 0 | K21: =SUM(K20:K20) -> 0 | L21: =SUM(L20:L20) -> 0 | M21: =L21/K21*100% -> #DIV/0! | N21: =SUM(O21:T21) -> 0 | O21: =SUM(O20:O20) -> 0 | P21: =SUM(P20:P20) -> 0 | Q21: =SUM(Q20:Q20) -> 0 | R21: =SUM(R20:R20) -> 0 | S21: =SUM(S20:S20) -> 0 | T21: =SUM(T20:T20) -> 0 | U21: =SUM(P21:T21) -> 0 | V21: =U21/K21*100% -> #DIV/0! | W21: =SUM(W20:W20) -> 0 | X21: =SUM(X20:X20) -> 0 | Y21: =SUM(Y20:Y20) -> 0 | Z21: =SUM(Z20:Z20) -> 0 | AA21: =SUM(AA20:AA20) -> 0 | AB21: =SUM(AB20:AB20) -> 0 | AC21: =SUM(X21:AB21) -> 0 | AD21: =AC21/K21*100% -> #DIV/0! | AE21: =(C21-K21) -> 0
A24: وزارة التربية | M24: العام الدراسي 2020/ 2021 | Z24: العام الدراسي 2013/ .2014
A25: الإدارة العامة لمنطقة ………………………. التعليمية
A26: التوجيه الفني للغة الإنجليزية
A27: الصف ( الحادي عشر ) | X27: الفترة : .................
A28: الفترة : آخر العام
A29: م | B29: المدرسة | C29: الاجمالى | E29: فئات الدرجات | K29: عدد المتقدمين | L29: عدد الناجحين | M29: النسبة المئوية | N29: متقدم | O29: الامتحان التحريري ( 30 ) | U29: عدد الناجحين | V29: النسبة المئوية | W29: الدرجة النهائية ( 50 ) | AC29: عدد الناجحين | AD29: النسبة المئوية | AE29: غائب
O30: ضعيف | P30: مقبول | Q30: مقبول | R30: جيد | S30: جيدجدا | T30: ممتاز | W30: ضعيف | X30: مقبول | Y30: مقبول | Z30: جيد | AA30: جيدجدا | AB30: ممتاز
E31: 0 - 49.5 | F31: 50 - 59.5 | G31: 60 - 74.5 | H31: 75 - 89.5 | I31: 90 - 100 | J31: 100 | O31: 0 - 14.5 | P31: 15 | Q31: 15.5 - 20.5 | R31: 21 - 26.5 | S31: 27 - 29.5 | T31: 30 | W31: 0 - 24.5 | X31: 25 | Y31: 25.5 - 34.5 | Z31: 35 - 44.5 | AA31: 45 - 49.5 | AB31: 50
A32: 26 | B32: معهد ….......... الديني | J32: 0 | K32: =SUM(E32:J32) -> 0 | L32: =SUM(F32:J32) -> 0 | M32: =L32/K32*100% -> #DIV/0! | N32: =SUM(O32:T32) -> 0 | U32: =SUM(P32:T32) -> 0 | V32: =U32/K32*100% -> #DIV/0! | AC32: =SUM(X32:AB32) -> 0 | AD32: =AC32/K32*100% -> #DIV/0! | AE32: =(C32-K32) -> 0
A33: المجموع | C33: =SUM(C32:C32) -> 0 | E33: =SUM(E32:E32) -> 0 | F33: =SUM(F32:F32) -> 0 | G33: =SUM(G32:G32) -> 0 | H33: =SUM(H32:H32) -> 0 | I33: =SUM(I32:I32) -> 0 | J33: =SUM(J32:J32) -> 0 | K33: =SUM(K32:K32) -> 0 | L33: =SUM(L32:L32) -> 0 | M33: =L33/K33*100% -> #DIV/0! | N33: =SUM(O33:T33) -> 0 | O33: =SUM(O32:O32) -> 0 | P33: =SUM(P32:P32) -> 0 | Q33: =SUM(Q32:Q32) -> 0 | R33: =SUM(R32:R32) -> 0 | S33: =SUM(S32:S32) -> 0 | T33: =SUM(T32:T32) -> 0 | U33: =SUM(P33:T33) -> 0 | V33: =U33/K33*100% -> #DIV/0! | W33: =SUM(W32:W32) -> 0 | X33: =SUM(X32:X32) -> 0 | Y33: =SUM(Y32:Y32) -> 0 | Z33: =SUM(Z32:Z32) -> 0 | AA33: =SUM(AA32:AA32) -> 0 | AB33: =SUM(AB32:AB32) -> 0 | AC33: =SUM(X33:AB33) -> 0 | AD33: =AC33/K33*100% -> #DIV/0! | AE33: =(C33-K33) -> 0

Sheet تجميع ثانوي
A1: وزارة التربية | M1: العام الدراسي 2020/ 2021
A2: الإدارة العامة لمنطقة الأحمدي التعليمية
A3: التوجيه الفني للغة الإنجليزية
A4: الصف ( التاسع ) | X4: الفترة : .................
A5: الفترة : آخر العام
A6: م | B6: المدرسة | C6: الاجمالى | E6: فئات الدرجات | K6: عدد المتقدمين | L6: عدد الناجحين | M6: النسبة المئوية | N6: متقدم | O6: الامتحان التحريري ( 30 ) | U6: عدد الناجحين | V6: النسبة المئوية | W6: الدرجة النهائية ( 50 ) | AC6: عدد الناجحين | AD6: النسبة المئوية | AE6: غائب
O7: ضعيف | P7: مقبول | Q7: مقبول | R7: جيد | S7: جيدجدا | T7: ممتاز | W7: ضعيف | X7: مقبول | Y7: مقبول | Z7: جيد | AA7: جيدجدا | AB7: ممتاز
E8: 0 - 49.5 | F8: 50 - 59.5 | G8: 60 - 74.5 | H8: 75 - 89.5 | I8: 90 - 100 | J8: 100 | O8: 0 - 14.5 | P8: 15 | Q8: 15.5 - 20.5 | R8: 21 - 26.5 | S8: 27 - 29.5 | T8: 30 | W8: 0 - 24.5 | X8: 25 | Y8: 25.5 - 34.5 | Z8: 35 - 44.5 | AA8: 45 - 49.5 | AB8: 50
A9: 26 | B9: معهد ….......... الديني بنين | E9: =' بنين ثانوي معهد ديني '!E10 -> 0 | F9: =' بنين ثانوي معهد ديني '!F10 -> 0 | G9: =' بنين ثانوي معهد ديني '!G10 -> 0 | H9: =' بنين ثانوي معهد ديني '!H10 -> 0 | I9: =' بنين ثانوي معهد ديني '!I10 -> 0 | J9: =' بنين ثانوي معهد ديني '!J10 -> 0 | K9: =' بنين ثانوي معهد ديني '!K10 -> 0 | L9: =' بنين ثانوي معهد ديني '!L10 -> 0 | M9: =' بنين ثانوي معهد ديني '!M10 -> #DIV/0! | N9: =SUM(O9:T9) -> 0 | U9: =SUM(P9:T9) -> 0 | V9: =U9/K9*100% -> #DIV/0! | AC9: =SUM(X9:AB9) -> 0 | AD9: =AC9/K9*100% -> #DIV/0! | AE9: =(C9-K9) -> 0
A10: 26 | B10: معهد ….......... الديني بنات | E10: ='بنات ثانوي معهد ديني'!E10 -> 0 | F10: ='بنات ثانوي معهد ديني'!F10 -> 0 | G10: ='بنات ثانوي معهد ديني'!G10 -> 0 | H10: ='بنات ثانوي معهد ديني'!H10 -> 0 | I10: ='بنات ثانوي معهد ديني'!I10 -> 0 | J10: ='بنات ثانوي معهد ديني'!J10 -> 0 | K10: ='بنات ثانوي معهد ديني'!K10 -> 0 | L10: ='بنات ثانوي معهد ديني'!L10 -> 0 | M10: ='بنات ثانوي معهد ديني'!M10 -> #DIV/0! | N10: =SUM(O10:T10) -> 0 | U10: =SUM(P10:T10) -> 0 | V10: =U10/K10*100% -> #DIV/0! | AC10: =SUM(X10:AB10) -> 0 | AD10: =AC10/K10*100% -> #DIV/0! | AE10: =(C10-K10) -> 0
A11: المجموع | C11: =SUM(C9:C9) -> 0 | E11: =SUM(E9:E10) -> 0 | F11: =SUM(F9:F10) -> 0 | G11: =SUM(G9:G10) -> 0 | H11: =SUM(H9:H10) -> 0 | I11: =SUM(I9:I10) -> 0 | J11: =SUM(J9:J10) -> 0 | K11: =SUM(K9:K10) -> 0 | L11: =SUM(L9:L10) -> 0 | M11: =L11/K11*100% -> #DIV/0! | N11: =SUM(O11:T11) -> 0 | O11: =SUM(O9:O9) -> 0 | P11: =SUM(P9:P9) -> 0 | Q11: =SUM(Q9:Q9) -> 0 | R11: =SUM(R9:R9) -> 0 | S11: =SUM(S9:S9) -> 0 | T11: =SUM(T9:T9) -> 0 | U11: =SUM(P11:T11) -> 0 | V11: =U11/K11*100% -> #DIV/0! | W11: =SUM(W9:W9) -> 0 | X11: =SUM(X9:X9) -> 0 | Y11: =SUM(Y9:Y9) -> 0 | Z11: =SUM(Z9:Z9) -> 0 | AA11: =SUM(AA9:AA9) -> 0 | AB11: =SUM(AB9:AB9) -> 0 | AC11: =SUM(X11:AB11) -> 0 | AD11: =AC11/K11*100% -> #DIV/0! | AE11: =(C11-K11) -> 0
A13: الصف ( العاشر ) | X13: الفترة : .................
A14: الفترة : آخر العام
A15: م | B15: المدرسة | C15: الاجمالى | E15: فئات الدرجات | K15: عدد المتقدمين | L15: عدد الناجحين | M15: النسبة المئوية | N15: متقدم | O15: الامتحان التحريري ( 30 ) | U15: عدد الناجحين | V15: النسبة المئوية | W15: الدرجة النهائية ( 50 ) | AC15: عدد الناجحين | AD15: النسبة المئوية | AE15: غائب
O16: ضعيف | P16: مقبول | Q16: مقبول | R16: جيد | S16: جيدجدا | T16: ممتاز | W16: ضعيف | X16: مقبول | Y16: مقبول | Z16: جيد | AA16: جيدجدا | AB16: ممتاز
E17: 0 - 49.5 | F17: 50 - 59.5 | G17: 60 - 74.5 | H17: 75 - 89.5 | I17: 90 - 100 | J17: 100 | O17: 0 - 14.5 | P17: 15 | Q17: 15.5 - 20.5 | R17: 21 - 26.5 | S17: 27 - 29.5 | T17: 30 | W17: 0 - 24.5 | X17: 25 | Y17: 25.5 - 34.5 | Z17: 35 - 44.5 | AA17: 45 - 49.5 | AB17: 50
A18: 26 | B18: معهد ….......... الديني بنين | E18: =' بنين ثانوي معهد ديني '!E21 -> 0 | F18: =' بنين ثانوي معهد ديني '!F21 -> 0 | G18: =' بنين ثانوي معهد ديني '!G21 -> 0 | H18: =' بنين ثانوي معهد ديني '!H21 -> 0 | I18: =' بنين ثانوي معهد ديني '!I21 -> 0 | J18: =' بنين ثانوي معهد ديني '!J21 -> 0 | K18: =' بنين ثانوي معهد ديني '!K21 -> 0 | L18: =' بنين ثانوي معهد ديني '!L21 -> 0 | M18: =' بنين ثانوي معهد ديني '!M21 -> #DIV/0! | N18: =SUM(O18:T18) -> 0 | U18: =SUM(P18:T18) -> 0 | V18: =U18/K18*100% -> #DIV/0! | AC18: =SUM(X18:AB18) -> 0 | AD18: =AC18/K18*100% -> #DIV/0! | AE18: =(C18-K18) -> 0
A19: 26 | B19: معهد ….......... الديني بنات | E19: ='بنات ثانوي معهد ديني'!E21 -> 0 | F19: ='بنات ثانوي معهد ديني'!F21 -> 0 | G19: ='بنات ثانوي معهد ديني'!G21 -> 0 | H19: ='بنات ثانوي معهد ديني'!H21 -> 0 | I19: ='بنات ثانوي معهد ديني'!I21 -> 0 | J19: ='بنات ثانوي معهد ديني'!J21 -> 0 | K19: ='بنات ثانوي معهد ديني'!K21 -> 0 | L19: ='بنات ثانوي معهد ديني'!L21 -> 0 | M19: ='بنات ثانوي معهد ديني'!M21 -> #DIV/0! | N19: =SUM(O19:T19) -> 0 | U19: =SUM(P19:T19) -> 0 | V19: =U19/K19*100% -> #DIV/0! | AC19: =SUM(X19:AB19) -> 0 | AD19: =AC19/K19*100% -> #DIV/0! | AE19: =(C19-K19) -> 0
A20: المجموع | C20: =SUM(C18:C18) -> 0 | E20: =SUM(E18:E19) -> 0 | F20: =SUM(F18:F19) -> 0 | G20: =SUM(G18:G19) -> 0 | H20: =SUM(H18:H19) -> 0 | I20: =SUM(I18:I19) -> 0 | J20: =SUM(J18:J19) -> 0 | K20: =SUM(K18:K19) -> 0 | L20: =SUM(L18:L19) -> 0 | M20: =L20/K20*100% -> #DIV/0! | N20: =SUM(O20:T20) -> 0 | O20: =SUM(O18:O18) -> 0 | P20: =SUM(P18:P18) -> 0 | Q20: =SUM(Q18:Q18) -> 0 | R20: =SUM(R18:R18) -> 0 | S20: =SUM(S18:S18) -> 0 | T20: =SUM(T18:T18) -> 0 | U20: =SUM(P20:T20) -> 0 | V20: =U20/K20*100% -> #DIV/0! | W20: =SUM(W18:W18) -> 0 | X20: =SUM(X18:X18) -> 0 | Y20: =SUM(Y18:Y18) -> 0 | Z20: =SUM(Z18:Z18) -> 0 | AA20: =SUM(AA18:AA18) -> 0 | AB20: =SUM(AB18:AB18) -> 0 | AC20: =SUM(X20:AB20) -> 0 | AD20: =AC20/K20*100% -> #DIV/0! | AE20: =(C20-K20) -> 0
A24: الصف ( الحادي عشر ) | X24: الفترة : .................
A25: الفترة : آخر العام
A26: م | B26: المدرسة | C26: الاجمالى | E26: فئات الدرجات | K26: عدد المتقدمين | L26: عدد الناجحين | M26: النسبة المئوية | N26: متقدم | O26: الامتحان التحريري ( 30 ) | U26: عدد الناجحين | V26: النسبة المئوية | W26: الدرجة النهائية ( 50 ) | AC26: عدد الناجحين | AD26: النسبة المئوية | AE26: غائب
O27: ضعيف | P27: مقبول | Q27: مقبول | R27: جيد | S27: جيدجدا | T27: ممتاز | W27: ضعيف | X27: مقبول | Y27: مقبول | Z27: جيد | AA27: جيدجدا | AB27: ممتاز
E28: 0 - 49.5 | F28: 50 - 59.5 | G28: 60 - 74.5 | H28: 75 - 89.5 | I28: 90 - 100 | J28: 100 | O28: 0 - 14.5 | P28: 15 | Q28: 15.5 - 20.5 | R28: 21 - 26.5 | S28: 27 - 29.5 | T28: 30 | W28: 0 - 24.5 | X28: 25 | Y28: 25.5 - 34.5 | Z28: 35 - 44.5 | AA28: 45 - 49.5 | AB28: 50
A29: 26 | B29: معهد ….......... الديني بنين | E29: =' بنين ثانوي معهد ديني '!E33 -> 0 | F29: =' بنين ثانوي معهد ديني '!F33 -> 0 | G29: =' بنين ثانوي معهد ديني '!G33 -> 0 | H29: =' بنين ثانوي معهد ديني '!H33 -> 0 | I29: =' بنين ثانوي معهد ديني '!I33 -> 0 | J29: =' بنين ثانوي معهد ديني '!J33 -> 0 | K29: =' بنين ثانوي معهد ديني '!K33 -> 0 | L29: =' بنين ثانوي معهد ديني '!L33 -> 0 | M29: =' بنين ثانوي معهد ديني '!M33 -> #DIV/0! | N29: =SUM(O29:T29) -> 0 | U29: =SUM(P29:T29) -> 0 | V29: =U29/K29*100% -> #DIV/0! | AC29: =SUM(X29:AB29) -> 0 | AD29: =AC29/K29*100% -> #DIV/0! | AE29: =(C29-K29) -> 0
A30: 26 | B30: معهد ….......... الديني بنات | E30: ='بنات ثانوي معهد ديني'!E33 -> 0 | F30: ='بنات ثانوي معهد ديني'!F33 -> 0 | G30: ='بنات ثانوي معهد ديني'!G33 -> 0 | H30: ='بنات ثانوي معهد ديني'!H33 -> 0 | I30: ='بنات ثانوي معهد ديني'!I33 -> 0 | J30: ='بنات ثانوي معهد ديني'!J33 -> 0 | K30: ='بنات ثانوي معهد ديني'!K33 -> 0 | L30: ='بنات ثانوي معهد ديني'!L33 -> 0 | M30: ='بنات ثانوي معهد ديني'!M33 -> #DIV/0! | N30: =SUM(O30:T30) -> 0 | U30: =SUM(P30:T30) -> 0 | V30: =U30/K30*100% -> #DIV/0! | AC30: =SUM(X30:AB30) -> 0 | AD30: =AC30/K30*100% -> #DIV/0! | AE30: =(C30-K30) -> 0
A31: المجموع | C31: =SUM(C29:C29) -> 0 | E31: =SUM(E30:E30) -> 0 | F31: =SUM(F30:F30) -> 0 | G31: =SUM(G30:G30) -> 0 | H31: =SUM(H30:H30) -> 0 | I31: =SUM(I30:I30) -> 0 | J31: =SUM(J30:J30) -> 0 | K31: =SUM(K30:K30) -> 0 | L31: =SUM(L30:L30) -> 0 | M31: =L31/K31*100% -> #DIV/0! | N31: =SUM(O31:T31) -> 0 | O31: =SUM(O29:O29) -> 0 | P31: =SUM(P29:P29) -> 0 | Q31: =SUM(Q29:Q29) -> 0 | R31: =SUM(R29:R29) -> 0 | S31: =SUM(S29:S29) -> 0 | T31: =SUM(T29:T29) -> 0 | U31: =SUM(P31:T31) -> 0 | V31: =U31/K31*100% -> #DIV/0! | W31: =SUM(W29:W29) -> 0 | X31: =SUM(X29:X29) -> 0 | Y31: =SUM(Y29:Y29) -> 0 | Z31: =SUM(Z29:Z29) -> 0 | AA31: =SUM(AA29:AA29) -> 0 | AB31: =SUM(AB29:AB29) -> 0 | AC31: =SUM(X31:AB31) -> 0 | AD31: =AC31/K31*100% -> #DIV/0! | AE31: =(C31-K31) -> 0
